{"text_format":"1","workbook":"xlsx","n_sheets":6,"sheets":["Equalizer 44.1 kHz","Equalizer 48 kHz","Equalizer 96 kHz","Equalizer 192 kHz","Direct Params","EQ All Peaking"],"not_rendered":{"charts":10,"images":32,"macros":1,"external_links":0,"defined_names":0,"comments":0,"pivot_tables":0},"unopened":[],"bounds":{"document_bytes":16777216,"sheet_cells":100000,"rows_first":2000,"rows_last":500,"rows_between":2000,"halvings":0,"cell_chars":16384,"cell_head_chars":4096},"cells_cut":0,"cells_raw":0,"read":"whole","date_system":"1900"}

{"sheet":"Equalizer 44.1 kHz","index":0,"n_rows":499,"n_cols":38,"rows_kept":499,"cut":false,"hidden":false,"merged":[]}
[]
[]
[]
[]
[]
[]
[]
[]
[]
[]
[]
[]
[]
[]
[]
[null,"LPF","HPF","Hi Shelf","Lo Shelf","PeakingEQ"]
[null,null,null,null,null,null,null,"Select Slider, then"]
[null,null,null,null,null,null,null,"Page up/Down : Big Jump"]
[null,null,null,null,null,null,null,"Up/Down arrows : Fine tune"]
[]
[]
[null,null,null,null,null,null,null,"References : "]
[null,null,null,null,null,null,null,"Cookbook",null,"http://www.musicdsp.org/files/Audio-EQ-Cookbook.txt"]
[null,null,null,null,null,null,null,"Freq Response",null,"http://groups.google.com/group/comp.dsp/browse_frm/thread/8c0fa8d396aeb444/a1bc5b63ac56b686"]
[]
[null,null,null,null,null,null,null,"Usenet thread",null,"http://www.dsprelated.com/showmessage/50960/1.php"]
[]
[]
[]
[]
[]
[]
[]
["F0",{"$f":"10^(B48/333333)*20","v":2000},{"$f":"10^(C48/333333)*20","v":99.997396874553189},{"$f":"10^(D48/333333)*20","v":10000.015994567402},{"$f":"10^(E48/333333)*20","v":49.997742279755144},{"$f":"10^(F48/333333)*20","v":274.99837906963131}]
["Q",{"$f":"B49/1000000*10+0.002","v":0.81526999999999994},{"$f":"C49/1000000*10+0.002","v":0.78515000000000001},{"$f":"D49/1000000*10+0.002","v":1.05623},{"$f":"E49/1000000*10+0.002","v":0.81526999999999994},{"$f":"F49/1000000*30+0.002","v":30.001999999999999}]
["dBgain",{"$f":"(B50-500000)/500000*30","v":-29.999940000000002},{"$f":"(C50-500000)/500000*30","v":-29.999940000000002},{"$f":"(D50-500000)/500000*30","v":14.4579},{"$f":"(E50-500000)/500000*30","v":19.9956},{"$f":"(F50-500000)/500000*30","v":-29.999940000000002}]
["IdBoffset",{"$f":"((B51-500000)/500000*20)","v":0},{"$f":"((C51-500000)/500000*20)","v":0},{"$f":"((D51-500000)/500000*20)","v":0},{"$f":"((E51-500000)/500000*20)","v":0},{"$f":"((F51-500000)/500000*20)","v":0}]
[]
[]
[]
[]
[]
[]
[]
[]
[]
[]
["S1",666666,232986,899656,132640,379433,null,null,"Master dB",500000]
["S2",81327,78315,105423,81327,1000000,null,null,"Normal dB",{"$f":"(J48-500000)/500000*20","v":0}]
["S3",1,1,740965,833260,1,null,null,null,{"$f":"10^(J49/20)","v":1}]
["S4",500000,500000,500000,500000,500000,null,null,null,{"$f":"J50","v":1}]
[]
[]
[]
[]
[null,44100,"Hz"]
[]
[]
[null,"LPF","HPF","Hi Shelf","Lo Shelf","Peaking EQ"]
["A",{"$f":"SQRT( 10^((B36)/20) )","v":0.17782855520090204},{"$f":"SQRT( 10^((C36)/20) )","v":0.17782855520090204},{"$f":"10^((D36)/40)","v":2.2985158347332257},{"$f":"10^((E36)/40)","v":3.1614768061205401},{"$f":"10^((F36)/40)","v":0.17782855520090204}]
["wo",{"$f":"2*PI()*B34/B56","v":0.28495171461131907},{"$f":"2*PI()*C34/B56","v":1.4247214848036246E-2},{"$f":"2*PI()*D34/B56","v":1.4247608518962984},{"$f":"2*PI()*E34/B56","v":7.1234711946555358E-3},{"$f":"2*PI()*F34/B56","v":3.9180629815612468E-2}]
["cos(wo)",{"$f":"COS(B61)","v":0.95967522733549682},{"$f":"COS(C61)","v":0.99989851015128162},{"$f":"COS(D61)","v":0.14551696059199121},{"$f":"COS(E61)","v":0.99997462818635829},{"$f":"COS(F61)","v":0.99923253731021811}]
["sin(wo)",{"$f":"SIN(B61)","v":0.28111111333165495},{"$f":"SIN(C61)","v":1.4246732862215217E-2},{"$f":"SIN(D61)","v":0.98935575713697088},{"$f":"SIN(E61)","v":7.1234109494257561E-3},{"$f":"SIN(F61)","v":3.9170606078840167E-2}]
["Alpha",{"$f":" B63/(2*B35)","v":0.17240369039192843},{"$f":" C63/(2*C35)","v":9.0726185201650753E-3},{"$f":" D63/(2*D35)","v":0.46834295425095429},{"$f":" E63/(2*E35)","v":4.3687434527369812E-3},{"$f":" F63/(2*F35)","v":6.5279991465302598E-4}]
["Lingain",{"$f":"10^(B37/20)","v":1},{"$f":"10^(C37/20)","v":1},{"$f":"10^(D37/20)","v":1},{"$f":"10^(E37/20)","v":1},{"$f":"10^(F37/20)","v":1}]
[null,null,null,null,null,null,null,null,null,null,"Coefficients"]
[null,null,null,null,null,null,null,null,null,null,"B0","B1","B2","-A1","-A2"]
["B0",{"$f":"B65*J51*(1 - B62)/2","v":2.0162386332251592E-2},{"$f":"C65*J51*(1 + C62)/2","v":0.99994925507564081},{"$f":"D65*J51*(D60*( (D60+1) + (D60-1)*D62 + 2*SQRT(D60)*D64 ))","v":11.280122801513876},{"$f":"E65*J51*(E60*( (E60+1) - (E60-1)*E62 + 2*SQRT(E60)*E64 ))","v":6.3722428251818162},{"$f":"F65*$J$51*(1+(F64*F60))","v":1.000116086465658},null,null,null,"BQ0",{"$f":"(B68/B71)","v":1.7197477709671328E-2},{"$f":"(B69/B71)","v":3.4394955419342656E-2},{"$f":"(B70/B71)","v":1.7197477709671328E-2},{"$f":"(-B72/B71)","v":1.637107141849208},{"$f":"(-B73/B71)","v":-0.70589705268789327}]
["B1",{"$f":"B65*J51*(1 - B62)","v":4.0324772664503183E-2},{"$f":"C65*J51*-(1 + C62)","v":-1.9998985101512816},{"$f":"D65*J51*(-2*D60*( (D60-1) + (D60+1)*D62 ))","v":-8.1758476407839566},{"$f":"E65*J51*(2*E60*( (E60-1) - (E60+1)*E62 ))","v":-12.645239620394854},{"$f":"F65*$J$51*(-2*F62)","v":-1.9984650746204362},null,null,null,"BQ1",{"$f":"(C68/C71)","v":0.99095866513759545},{"$f":"(C69/C71)","v":-1.9819173302751909},{"$f":"(C70/C71)","v":0.99095866513759545},{"$f":"(-C72/C71)","v":1.9818167529263899},{"$f":"(-C73/C71)","v":-0.98201790762399177}]
["B2",{"$f":"B65*J51*((1 - B62)/2)","v":2.0162386332251592E-2},{"$f":"C65*J51*(1 +C62)/2","v":0.99994925507564081},{"$f":"D65*J51*(D60*( (D60+1) + (D60-1)*D62 - 2*SQRT(D60)*D64 ))","v":4.7518960256312139},{"$f":"E65*J51*(E60*( (E60+1) - (E60-1)*E62 - 2*SQRT(E60)*E64 ))","v":6.2740111537862138},{"$f":"F65*$J$51*(1-(F60*F64))","v":0.99988391353434203},null,null,null,"BQ2",{"$f":"(D68/D71)","v":2.4902825160784268},{"$f":"(D69/D71)","v":-1.8049599984171143},{"$f":"(D70/D71)","v":1.0490633656278834},{"$f":"(-D72/D71)","v":-0.36140751554078132},{"$f":"(-D73/D71)","v":-0.37297836774841425}]
["A0",{"$f":"1+B64","v":1.1724036903919284},{"$f":"1+C64","v":1.0090726185201651},{"$f":"(D60+1) - (D60-1)*D62 + 2*SQRT(D60)*D64","v":4.5296558638163082},{"$f":"(E60+1) + (E60-1)*E62 + 2*SQRT(E60)*E64","v":6.3384344971111233},{"$f":"1 + (F64/F60)","v":1.0036709510118638},null,null,null,"BQ3",{"$f":"(E68/E71)","v":1.0053338609219835},{"$f":"(E69/E71)","v":-1.9950099075975607},{"$f":"(E70/E71)","v":0.98983607965748133},{"$f":"(-E72/E71)","v":1.9950819183850059},{"$f":"(-E73/E71)","v":-0.99509792979202039}]
["A1",{"$f":"-2*B62","v":-1.9193504546709936},{"$f":"-2*C62","v":-1.9997970203025632},{"$f":"2*((D60-1)-(D60+1)*D62)","v":1.6370516719965837},{"$f":"-2*((E60-1)+(E60+1)*E62)","v":-12.64569605605416},{"$f":"-2*F62","v":-1.9984650746204362},null,null,null,"BQ4",{"$f":"(F68/F71)","v":0.99645813745767786},{"$f":"(F69/F71)","v":-1.9911556398096986},{"$f":"(F70/F71)","v":0.99622681370452759},{"$f":"(-F72/F71)","v":1.9911556398096986},{"$f":"(-F73/F71)","v":-0.99268495116220545}]
["A2",{"$f":"1-B64","v":0.82759630960807162},{"$f":"1-C64","v":0.99092738147983495},{"$f":"(D60+1) - (D60-1)*D62 - 2*SQRT(D60)*D64","v":1.6894636505482401},{"$f":"(E60+1) +(E60-1)*E62 - 2*SQRT(E60)*E64","v":6.3073630461976045},{"$f":"1-(F64/F60)","v":0.99632904898813623}]
[]
[]
[]
[]
[]
[]
[]
[]
[]
[]
[]
[]
[]
[]
[]
[]
[]
[]
[]
[]
[]
[]
[]
[]
[]
[]
[]
[]
[]
[]
[]
[]
[]
[]
[]
[null,"Fo",563154,{"$f":"10^(C109/333333)*20","v":978.34872897125581},{"$f":"LOG(C109)","v":5.7506271731900638}]
[null,"Q",912551,{"$f":"C110/1000000*7","v":6.3878570000000003}]
[null,"dBgain",361479,{"$f":"(C111-500000)/500000*20","v":-5.5408400000000002}]
[null,"Master dbgain",554218,{"$f":"(C112-500000)/500000*20","v":2.16872}]
[null,null,538360,null,null,null,null,null,null,null,null,null,null,null,null,null,null,null,null,null,"PRE-EQ",null,null,null,null,null,null,null,null,null,"POST-EQ"]
[null,null,null,null,null,null,null,null,null,null,null,null,null,null,null,null,null,null,null,null,"LPF","HPF","Hi Shelf","Low Shelf","Peak EQ","Total"]
[null,null,null,null,null,null,null,null,null,null,null,null,null,null,null,null,null,"FREQ","w","Phi","CH1 Pre-EQ1","CH1 Pre-EQ2","CH1 Pre-EQ3","CH1 Pre-EQ4","CH1 Pre-EQ5","CH1 Pre-EQ",null,null,null,null,"CH1 Post-EQ1","CH1 Post-EQ2","CH1 Post-EQ3","CH1 Post-EQ4","CH1 Post-EQ5","CH1 Post-EQ",null,"CH1 Pre + Post"]
[null,null,"pre1","B0",1,null,{"$f":"B68/B71","v":1.7197477709671328E-2},null,null,null,null,null,null,null,null,null,null,10,{"$f":"2*PI()*R116/B56","v":1.4247585730565956E-3},{"$f":"4*(SIN(S116/2))^2","v":2.0299366481112741E-6},{"$f":"10*LOG10(($G$116+$G$117+$G$118)^2 + ( $G$116*$G$118*T116 - ($G$117*($G$116+$G$118) + 4*$G$116*$G$118) )*T116 )  - 10*LOG10( (1+$G$119+$G$120)^2 + ( 1*$G$120*T116 - ($G$119*(1+$G$120) + 4*1*$G$120) )*T116)","v":5.3067553054120253E-5},{"$f":"10*LOG10(($G$121+$G$122+$G$123)^2 + ( $G$121*$G$123*$T116 - ($G$122*($G$121+$G$123) + 4*$G$121*$G$123) )*$T116 )  - 10*LOG10( (1+$G$124+$G$125)^2 + ( 1*$G$125*$T116 - ($G$124*(1+$G$125) + 4*1*$G$125) )*$T116)","v":-39.983834036029606},{"$f":"10*LOG10(($G$126+$G$127+$G$128)^2 + ( $G$126*$G$128*$T116 - ($G$127*($G$126+$G$128) + 4*$G$126*$G$128) )*$T116 )  - 10*LOG10( (1+$G$129+$G$130)^2 + ( 1*$G$130*$T116 - ($G$129*(1+$G$130) + 4*1*$G$130) )*$T116)","v":-6.0764529106194232E-6},{"$f":"10*LOG10(($G$131+$G$132+$G$133)^2 + ( $G$131*$G$133*$T116 - ($G$132*($G$131+$G$133) + 4*$G$131*$G$133) )*$T116 )  - 10*LOG10( (1+$G$134+$G$135)^2 + ( 1*$G$135*$T116 - ($G$134*(1+$G$135) + 4*1*$G$135) )*$T116)","v":20.176548401194395},{"$f":"10*LOG10(($G$136+$G$137+$G$138)^2 + ( $G$136*$G$138*$T116 - ($G$137*($G$136+$G$138) + 4*$G$136*$G$138) )*$T116 )  - 10*LOG10( (1+$G$139+$G$140)^2 + ( 1*$G$140*$T116 - ($G$139*(1+$G$140) + 4*1*$G$140) )*$T116)","v":-2.0202915098366248E-4},{"$f":"U116+V116+W116+X116+Y116","v":-19.807440672886052},null,null,null,null,{"$f":"10*LOG10(($G$141+$G$142+$G$143)^2 + ( $G$141*$G$143*$T116 - ($G$142*($G$141+$G$143) + 4*$G$141*$G$143) )*$T116 )  - 10*LOG10( (1+$G$144+$G$145)^2 + ( 1*$G$145*$T116 - ($G$144*(1+$G$145) + 4*1*$G$145) )*$T116)","v":-1.5122528253641576E-5},{"$f":"10*LOG10(($G$146+$G$147+$G$148)^2 + ( $G$146*$G$148*$T116 - ($G$147*($G$146+$G$148) + 4*$G$146*$G$148) )*$T116 )  - 10*LOG10( (1+$G$149+$G$150)^2 + ( 1*$G$150*$T116 - ($G$149*(1+$G$150) + 4*1*$G$150) )*$T116)","v":2.3211591513216945E-3},{"$f":"10*LOG10(($G$151+$G$152+$G$153)^2 + ( $G$151*$G$153*$T116 - ($G$152*($G$151+$G$153) + 4*$G$151*$G$153) )*$T116 )  - 10*LOG10( (1+$G$154+$G$155)^2 + ( 1*$G$155*$T116 - ($G$154*(1+$G$155) + 4*1*$G$155) )*$T116)","v":-3.9258213064777578},{"$f":"10*LOG10(($G$156+$G$157+$G$158)^2 + ( $G$156*$G$158*$T116 - ($G$157*($G$156+$G$158) + 4*$G$156*$G$158) )*$T116 )  - 10*LOG10( (1+$G$159+$G$160)^2 + ( 1*$G$160*$T116 - ($G$159*(1+$G$160) + 4*1*$G$160) )*$T116)","v":5.1248130079269316E-2},{"$f":"10*LOG10(($G$161+$G$162+$G$163)^2 + ( $G$161*$G$163*$T116 - ($G$162*($G$161+$G$163) + 4*$G$161*$G$163) )*$T116 )  - 10*LOG10( (1+$G$164+$G$165)^2 + ( 1*$G$165*$T116 - ($G$164*(1+$G$165) + 4*1*$G$165) )*$T116)","v":2.472911237063613E-4},{"$f":"AE116+AF116+AG116+AH116+AI116","v":-3.8720198486517141},null,{"$f":"AJ116+Z116","v":-23.679460521537766}]
[null,null,"LPF","B1",2,null,{"$f":"B69/B71","v":3.4394955419342656E-2},null,null,null,null,null,null,null,null,null,null,10.199999999999999,{"$f":"2*PI()*R117/B56","v":1.4532537445177273E-3},{"$f":"4*(SIN(S117/2))^2","v":2.1119460742616727E-6},{"$f":"10*LOG10(($G$116+$G$117+$G$118)^2 + ( $G$116*$G$118*T117 - ($G$117*($G$116+$G$118) + 4*$G$116*$G$118) )*T117 )  - 10*LOG10( (1+$G$119+$G$120)^2 + ( 1*$G$120*T117 - ($G$119*(1+$G$120) + 4*1*$G$120) )*T117)","v":5.5211385546982683E-5},-39.639197542188299,-6.3219415267212753E-6,20.181029207752744,-2.102134165866687E-4,-19.458329658408125,null,null,null,null,-1.5733609053825148E-5,2.4149280124916572E-3,-3.9159916535719006,5.1250667591652643E-2,2.5729334151947114E-4,-3.8620844982352907,null,-23.320414156643416]
[null,null,null,"B2",3,null,{"$f":"B70/B71","v":1.7197477709671328E-2},null,null,null,null,null,null,null,null,null,null,10.404,{"$f":"2*PI()*R118/B56","v":1.482318819408082E-3},2.1972686800387814E-6,5.7441820910497654E-5,-39.294537025484004,-6.577347875236228E-6,20.185447570274761,-2.1873016765283637E-4,-19.109257320903858,null,null,null,null,-1.6369388283976605E-5,2.5124846438018267E-3,-3.9057994915511927,5.1253307623593258E-2,2.6770061065661821E-4,-3.8517823680614249,null,-22.961039688965283]
[null,null,null,"-A1",4,null,{"$f":"B72/B71","v":-1.637107141849208},null,null,null,null,null,null,null,null,null,null,10.612080000000001,{"$f":"2*PI()*R119/B56","v":1.5119651957962437E-3},2.2860383178014416E-6,5.9762357238923869E-5,-38.949851632652909,-6.8430726338775116E-6,20.189779875690718,-2.2759298885688395E-4,-18.760246430666442,null,null,null,null,-1.7030864647438193E-5,2.6139820306312345E-3,-3.8952328046055413,5.125605431721425E-2,2.7852937459016402E-4,-3.8411012697477531,null,-22.601347700414195]
[null,null,null,"-A2",5,null,{"$f":"B73/B71","v":0.70589705268789327},null,null,null,null,null,null,null,null,null,null,10.824321600000001,{"$f":"2*PI()*R120/B56","v":1.5422044997121687E-3},2.3783942475357114E-6,6.217663389307404E-5,-38.605140485712965,-7.1195326647455204E-6,20.193999740148897,-2.3681602630176712E-4,-18.411322504489149,null,null,null,null,-1.771907729164468E-5,2.7195793356469267E-3,-3.8842792823038934,5.125891198202126E-2,2.897967476584995E-4,-3.8300287133158584,null,-22.241351217805008]
[null,null,"pre2","B0",6,null,{"$f":"C68/C71","v":0.99095866513759545},null,null,null,null,null,null,null,null,null,null,11.040808032000001,{"$f":"2*PI()*R121/B56","v":1.573048589706412E-3},2.474481355322332E-6,6.4688437223736628E-5,-38.260402681780249,-7.4071616706916643E-6,20.198077746888288,-2.4641401126501705E-4,-18.062514067627674,null,null,null,null,-1.8435107378422799E-5,2.8294421480623555E-3,-3.8729263205000422,5.1261885101627769E-2,3.0152054269905193E-4,-3.8185519078150314,null,-21.881065975442706]
[null,null,"HPF","B1",7,null,{"$f":"C69/C71","v":-1.9819173302751909},null,null,null,null,null,null,null,null,null,null,11.261624192640001,{"$f":"2*PI()*R122/B56","v":1.6045095615005403E-3},2.5744503806302366E-6,6.7301706476285972E-5,-37.91563729294613,-7.7064108809921095E-6,20.201981162840269,-2.5640228495404926E-4,-17.713852937095218,null,null,null,null,-1.9180079867453514E-5,2.9437427429854779E-3,-3.8611610230164572,5.1264978340835654E-2,3.1371929991053094E-4,-3.806657762712593,null,-21.520510699807812]
[null,null,null,"B2",8,null,{"$f":"C70/C71","v":0.99095866513759545},null,null,null,null,null,null,null,null,null,null,11.486856676492801,{"$f":"2*PI()*R123/B56","v":1.6365997527305512E-3},2.678458152792648E-6,7.0020539961745953E-5,-37.570843366223883,-8.0177497494560157E-6,20.205673632751015,-2.667968243841301E-4,-17.365374527507036,null,null,null,null,-1.9955165257101726E-5,3.0626603512118322E-3,-3.8489702041670881,5.1268196552939571E-2,3.2641231680941019E-4,-3.7943328901113844,null,-21.159707417618421]
[null,null,null,"-A1",9,null,{"$f":"C72/C71","v":-1.9818167529263899},null,null,null,null,null,null,null,null,null,null,11.716593810022657,{"$f":"2*PI()*R124/B56","v":1.6693317477851619E-3},2.7866678370367532E-6,7.2849201512070749E-5,-37.226019923573773,-8.3416666960545172E-6,20.209114849658633,-2.7761426941452783E-4,-17.017118180649739,null,null,null,null,-2.0761581431827381E-5,3.1863814398818135E-3,-3.8363403921821373,5.1271544787340417E-2,3.3961967954354577E-4,-3.7815636078568033,null,-20.798681788506542]
[null,null,null,"-A2",10,null,{"$f":"C73/C71","v":0.98201790762399177},null,null,null,null,null,null,null,null,null,null,11.95092568622311,{"$f":"2*PI()*R125/B56","v":1.7027183827408655E-3},2.8992491904529086E-6,7.5792127109508556E-5,-36.881165962016453,-8.6786698769714121E-6,20.212260200635058,-2.8887195094995377E-4,-16.669127519875119,null,null,null,null,-2.1600595566440006E-5,3.3151000044284729E-3,-3.8232578335996621,5.1275028297471437E-2,3.5336229553450949E-4,-3.7683359435977941,null,-20.437463463472913]
[null,null,"pre3","B0",11,null,{"$f":"D68/D71","v":2.4902825160784268},null,null,null,null,null,null,null,null,null,null,12.189944199947572,{"$f":"2*PI()*R126/B56","v":1.7367727503956826E-3},3.0163788283049097E-6,7.8853931896105678E-5,-36.536280453845947,-9.0292879733055997E-6,20.215060386818863,-3.0058792042098048E-4,-16.321450830303583,null,null,null,null,-2.2473526172461789E-5,3.4490178723558529E-3,-3.8097084986907035,5.1278652549061832E-2,3.6766192736337189E-4,-3.7546356398680949,null,-20.076086470171678]
[null,null,"Hi Shelf","B1",12,null,{"$f":"D69/D71","v":-1.8049599984171143},null,null,null,null,null,null,null,null,null,null,12.433743083946524,{"$f":"2*PI()*R127/B56","v":1.7715082054035965E-3},3.1382405010991407E-6,8.2039417332424591E-5,-36.191362346954037,-9.3940710268469729E-6,20.217461016929704,-3.1278098059317472E-4,-15.974141465658619,null,null,null,null,-2.3381745165806933E-5,3.5883450191818156E-3,-3.7956780879859124,5.1282423228698804E-2,3.8254122834047166E-4,-3.7404481602548572,null,-19.714589625913476]
[null,null,null,"B2",13,null,{"$f":"D70/D71","v":1.0490633656278834},null,null,null,null,null,null,null,null,null,null,12.682417945625454,{"$f":"2*PI()*R128/B56","v":1.8069383695116681E-3},3.2650253828472032E-6,8.5353578800351215E-5,-35.846410565279598,-9.7735912998331287E-6,20.21940217367866,-3.2547071779021053E-4,-15.627258282331233,null,null,null,null,-2.4326679984199018E-5,3.7332998971635334E-3,-3.7811520399730441,5.1286346252748416E-2,3.9802377928310761E-4,-3.7257586967238332,null,-19.353016979055067]
[null,null,null,"-A1",14,null,{"$f":"D72/D71","v":0.36140751554078132},null,null,null,null,null,null,null,null,null,null,12.936066304537963,{"$f":"2*PI()*R129/B56","v":1.8430771369019015E-3},3.3969323709742805E-6,8.8801613344458019E-5,-35.501424009396956,-1.0168444177338642E-5,20.220817952784202,-3.3867753547411894E-4,-15.280866100979061,null,null,null,null,-2.5309815924856593E-5,3.8841097772035482E-3,-3.7661155400355426,5.1290427776663705E-2,4.1413412712643094E-4,-3.7105521781704738,null,-18.991418279149535]
[null,null,null,"-A2",15,null,{"$f":"D73/D71","v":0.37297836774841425},null,null,null,null,null,null,null,null,null,null,13.194787630628722,{"$f":"2*PI()*R130/B56","v":1.8799386796399396E-3},3.5341683983436801E-6,9.2388927871667192E-5,-35.156401557259969,-1.0579249092756982E-5,20.221635974679486,-3.5242268948820765E-4,-14.935036195591195,null,null,null,null,-2.6332698432440793E-5,4.041011104597203E-3,-3.7505535307030158,5.1294674204648061E-2,4.3089782501937179E-4,-3.6948132802671836,null,-18.629849475858379]
[null,null,"pre4","B0",16,null,{"$f":"E68/E71","v":1.0053338609219835},null,null,null,null,null,null,null,null,null,null,13.458683383241297,{"$f":"2*PI()*R131/B56","v":1.9175374532327384E-3},3.6769487578870634E-6,9.612114759605106E-5,-34.811342065118609,-1.100665050834948E-5,20.221776869474169,-3.6672832473527706E-4,-14.589846809472093,null,null,null,null,-2.7396935571744052E-5,4.2042498690477714E-3,-3.7344507232845388,5.1299092199680985E-2,4.4834147416139558E-4,-3.6785264366772203,null,-18.268373246149313]
[null,null,"Lo Shelf","B1",17,null,{"$f":"E69/E71","v":-1.9950099075975607},null,null,null,null,null,null,null,null,null,null,13.727857050906124,{"$f":"2*PI()*R132/B56","v":1.9558882022973931E-3},3.8254974403496163E-6,1.0000412484600929E-4,-34.466244368627613,-1.1451318920663311E-5,20.221153736320645,-3.8161751378140707E-4,-14.245383697014823,null,null,null,null,-2.8504200543011393E-5,4.3740819896314065E-3,-3.7177916109554801,5.1303688694023464E-2,4.664927675008812E-4,-3.6616758517048673,null,-17.90705954871969]
[null,null,null,"B2",18,null,{"$f":"E70/E71","v":0.98983607965748133},null,null,null,null,null,null,null,null,null,null,14.002414191924247,{"$f":"2*PI()*R133/B56","v":1.9950059663433411E-3},3.9800474856799949E-6,1.040439482338229E-4,-34.121107284167991,-1.191395191479927E-5,20.219671579055017,-3.9711429691635658E-4,-13.901740689413572,null,null,null,null,-2.9656234389108249E-5,4.5507737152234995E-3,-3.7005604833679513,5.1308470900046643E-2,4.85380535174329E-4,-3.6442455144518959,null,-17.545986203865468]
[null,null,null,"-A1",19,null,{"$f":"E72/E71","v":-1.9950819183850059},null,null,null,null,null,null,null,null,null,null,14.282462475762733,{"$f":"2*PI()*R134/B56","v":2.0349060856702083E-3},4.1408413486162714E-6,1.0824695219824321E-4,-33.775929610404717,-1.2395275255983051E-5,20.217226720846867,-4.1324372430295853E-4,-13.559020281605214,null,null,null,null,-3.0854848660055723E-5,4.7346020410188316E-3,-3.6827414428532776,5.1313446321604061E-2,5.0503479207719693E-4,-3.6262192145472376,null,-17.185239496152452]
[null,null,null,"-A2",20,null,{"$f":"E73/E71","v":0.99509792979202039},null,null,null,null,null,null,null,null,null,null,14.568111725277987,{"$f":"2*PI()*R135/B56","v":2.0756042073836124E-3},4.3081312790414063E-6,1.1261972689169397E-4,-33.43071013010524,-1.2896044036203591E-5,20.213706201623737,-4.3003190001655867E-4,-13.217334236698662,null,null,null,null,-3.2101928383099221E-5,4.9258551419129049E-3,-3.6643184222836567,5.1318622765791133E-2,5.254867873034641E-4,-3.6075805595170323,null,-16.824914796215694]
[null,null,"pre5","B0",21,null,{"$f":"F68/F71","v":0.99645813745767786},null,null,null,null,null,null,null,null,null,null,14.859473959783546,{"$f":"2*PI()*R136/B56","v":2.1171162915312844E-3},4.4821797177049263E-6,1.1716912852577366E-4,-33.085447612246881,-1.3417043847496757E-5,20.208987163245453,-4.4750602809529028E-4,-12.87680420294484,null,null,null,null,-3.3399434968828245E-5,5.1248328232276208E-3,-3.6452752046567909,5.1324008355209116E-2,5.4676905579498225E-4,-3.588312993857528,null,-16.465117196802368]
[null,null,"PeakEQ","B1",22,null,{"$f":"F69/F71","v":-1.9911556398096986},null,null,null,null,null,null,null,null,null,null,15.156663438979217,{"$f":"2*PI()*R137/B56","v":2.1594586173619102E-3},4.6632597079315613E-6,1.2190229010045073E-4,-32.740140814442782,-1.3959092019177888E-5,20.202936228811026,-4.6569446077882048E-4,-12.537562336894446,null,null,null,null,-3.4749409365986139E-5,5.3318469895842213E-3,-3.6255954444651692,5.1329611540715803E-2,5.6891547232140738E-4,-3.5683998198719138,null,-16.10596215676636]
["Master A",{"$f":"SQRT( 10^((D112)/20) )","v":1.1329689296300816},null,"B2",23,null,{"$f":"F70/F71","v":0.99622681370452759},null,null,null,null,null,null,null,null,null,null,15.459796707758802,{"$f":"2*PI()*R138/B56","v":2.2026477897091482E-3},4.8516553239627126E-6,1.268266325595846E-4,-32.394788485719602,-1.4523038903924146E-5,20.195408884092544,-4.8462674903504421E-4,-12.19975192478244,null,null,null,null,-3.6153975266017824E-5,5.5472221327335092E-3,-3.6052626909064784,5.1335441114702007E-2,5.9196130760597043E-4,-3.547824220326703,null,-15.747576145109143]
["A",{"$f":"SQRT( 10^((D111)/20) )","v":0.72690724928258155},null,"-A1",24,null,{"$f":"F72/F71","v":-1.9911556398096986},null,null,null,null,null,null,null,null,null,null,15.768992641913979,{"$f":"2*PI()*R139/B56","v":2.2467007455033317E-3},5.047662116602726E-6,1.3194987640474665E-4,-32.049389369682856,-1.5109769208265789E-5,20.186248870916103,-5.0433369534630401E-4,-11.863527992354904,null,null,null,null,-3.7615342520780359E-5,5.7712958388549396E-3,-3.5842604129881934,5.1341506224897415E-2,6.1594328705893986E-4,-3.5265692829799029,null,-15.390097275334806]
["wo",{"$f":"2*PI()*D109/B56","v":0.13939107390408204},null,"-A2",25,null,{"$f":"F73/F71","v":0.99268495116220545},null,null,null,null,null,null,null,null,null,null,16.084372494752259,{"$f":"2*PI()*R140/B56","v":2.2916347604133979E-3},5.2515875768690233E-6,1.3728005379576302E-4,-31.703942208109169,-1.5720203379032682E-5,20.175287604343225,-5.2484740928093743E-4,-11.529057891324808,null,null,null,null,-3.9135810581569785E-5,6.0044193163903969E-3,-3.5625720265726812,5.1347816388716438E-2,6.4089965201929999E-4,-3.5046180270261367,null,-15.033675918350944]
["cos(wo)",{"$f":"COS(B140)","v":0.99030078406981936},"post1","B0",26,null,{"$f":"B186/B189","v":0.99304826389494838},null,null,null,null,null,null,null,null,null,null,16.406059944647303,{"$f":"2*PI()*R141/B56","v":2.337467455621666E-3},5.4637516183734684E-6,1.4282552108113578E-4,-31.358445745008567,-1.6355299046644234E-5,20.162343627737968,-5.4620136536698283E-4,-11.19652184841393,null,null,null,null,-4.0717772208154202E-5,6.2469579450095125E-3,-3.5401809234035895,5.1354381508254221E-2,6.6687022362543757E-4,-3.4819534314989085,null,-14.678475279912838]
["sin(wo)",{"$f":"SIN(B140)","v":0.1389401204501457},null,"B1",27,null,{"$f":"B187/B189","v":-1.9514063844846812},null,null,null,null,null,null,null,null,null,null,16.734181143540251,{"$f":"2*PI()*R142/B56","v":2.3842168047340994E-3},5.6844870791916588E-6,1.4859497192176718E-4,-31.012898731203478,-1.7016052536789061E-5,20.14722212220417,-5.6843046402832442E-4,-10.86611346054395,null,null,null,null,-4.2363717220439412E-5,6.4992918467225991E-3,-3.5170705021464954,5.136121188577647E-2,6.9389646959194806E-4,-3.4585584656616248,null,-14.324671926205575]
["Alpha",{"$f":" B142/(2*D110)","v":1.08753311517576E-2},null,"B2",28,null,{"$f":"B188/B189","v":0.97747060862883728},null,null,null,null,null,null,null,null,null,null,17.068864766411057,{"$f":"2*PI()*R143/B56","v":2.4319011408287816E-3},5.9141402440074612E-6,1.5459745085166787E-4,-30.667299929475931,-1.7703500415855444E-5,20.129714489400527,-5.9157109532748109E-4,-10.538040117220294,null,null,null,null,-4.4076236513035383E-5,6.7618164799014835E-3,-3.4932242014687205,5.1368318239951805E-2,7.220215738357183E-4,-3.4344161214115445,null,-13.972456238631839]
[null,null,null,"-A1",29,null,{"$f":"B190/B189","v":-1.9514063844846812},null,null,null,null,null,null,null,null,null,null,17.410242061739279,{"$f":"2*PI()*R144/B56","v":2.4805391636453576E-3},6.1530713873518643E-6,1.6084236744973168E-4,-30.321648120338622,-1.8418721138502292E-5,20.109598029321134,-6.1566120583478323E-4,-10.212523328577014,null,null,null,null,-4.5858026133771546E-5,7.0349432571248371E-3,-3.468625535174084,5.1375711722659645E-2,7.5129050922129181E-4,-3.409509447711212,null,-13.622032776288226]
[null,null,null,"-A2",30,null,{"$f":"B191/B189","v":0.97051887252378555},null,null,null,null,null,null,null,null,null,null,17.758446902974065,{"$f":"2*PI()*R145/B56","v":2.5301499469182649E-3},6.4016553387883272E-6,1.6733951105507572E-4,-29.97594210849131,-1.9162836719210929E-5,20.086635737169132,-6.4074036878025709E-4,-9.8897989350166213,null,null,null,null,-4.7711891568269493E-5,7.3191001879635564E-3,-3.4432581293979183,5.1383403936515748E-2,7.8175011348236012E-4,-3.3838215870515249,null,-13.273620522068146]
["LPF B0",{"$f":"B138^2*(1 - B141)/2","v":6.2250469649094385E-3},"post2","B0",31,null,{"$f":"B196","v":1.1452686911783592},null,null,null,null,null,null,null,null,null,null,18.113615841033546,{"$f":"2*PI()*R146/B56","v":2.58075294585663E-3},6.6602820709312847E-6,1.7409906604370917E-4,-29.630180730028542,-1.9937014509530115E-5,20.060576245832067,-6.6684985765874671E-4,-9.5701171720026004,null,null,null,null,-4.9640752223467643E-5,7.6147325474948957E-3,-3.417105761856952,5.1391406953094076E-2,8.1344916862491345E-4,-3.3573358139399616,null,-12.927452985942562]
["LPF B1",{"$f":"B138^2*(1 - B141)","v":1.2450093929818877E-2},"PA EQ","B1",32,null,{"$f":"B197","v":-1.9592243501297888},null,null,null,null,null,null,null,null,null,null,18.475888157854218,{"$f":"2*PI()*R147/B56","v":2.6323680047737629E-3},6.9293573112201751E-6,1.8113162781574488E-4,-29.284362860471902,-2.0742469014400911E-5,20.03115394252859,-6.9403272339485511E-4,-9.2537425615079059,null,null,null,null,-5.1647646102992439E-5,7.9223035716537993E-3,-3.3901524031362129,5.139973333189829E-2,8.4643848373389119E-4,-3.3300355753950299,null,-12.583778136902936]
["LPF B2",{"$f":"B138^2*((1 - B141)/2)","v":6.2250469649094385E-3},null,"B2",33,null,{"$f":"B198","v":0.83314471780431731},null,null,null,null,null,null,null,null,null,null,18.845405921011302,{"$f":"2*PI()*R148/B56","v":2.6850153648692379E-3},7.209303178408696E-6,1.8844821930841249E-4,-28.938487423705766,-2.1580463807957528E-5,19.998089289751078,-7.2233387550113548E-4,-8.940953600074689,null,null,null,null,-5.373573456779468E-5,8.2422951805796174E-3,-3.3623822599822262,5.1408396140097068E-2,8.8077098160965761E-4,-3.3019045334145076,null,-12.242858133489197]
["LPF A0",{"$f":"1+B143","v":1.0108753311517575},null,"-A1",34,null,{"$f":"B199","v":-1.9592243501297888},null,null,null,null,null,null,null,null,null,null,19.222314039431527,{"$f":"2*PI()*R149/B56","v":2.7387156721666228E-3},7.5005588447678049E-6,1.9606030825514154E-4,-28.592553401902947,-2.2452313512388855E-5,19.961089381455793,-7.5180016718690013E-4,-8.6320422126195986,null,null,null,null,-5.5908307473373497E-5,8.5752087309387548E-3,-3.3337798205579929,5.1417408973033929E-2,9.1650178913482705E-4,-3.2729266093723588,null,-11.904968821991957]
["LPF A1",{"$f":"-2*B141","v":-1.9806015681396387},null,"-A2",35,null,{"$f":"B200","v":0.97841340898267659},null,null,null,null,null,null,null,null,null,null,19.606760320220157,{"$f":"2*PI()*R150/B56","v":2.7934899856099549E-3},7.8035812250411659E-6,2.0397982509834378E-4,-28.246559846534524,-2.3359385861176918E-5,19.919848765299292,-7.8248048482976174E-4,-8.3273129412808231,null,null,null,null,-5.8168788349632905E-5,8.9215657983956476E-3,-3.3043299016000773,5.1426785975614564E-2,9.5368833197539971E-4,-3.2430860302824414,null,-11.570398971563264]
["LPF A2",{"$f":"1-B143","v":0.98912466884824235},"post3","B0",36,null,1.029078483581543,null,null,null,null,null,null,null,null,null,null,19.998895526624562,{"$f":"2*PI()*R151/B56","v":2.8493597853221542E-3},8.1188456932338825E-6,2.1221918163405462E-4,-27.900505890566109,-2.4303103840495055E-5,19.874050560328755,-8.1442584192359391E-4,-8.0270818400014861,null,null,null,null,-6.0520739914693422E-5,9.2819089915678887E-3,-3.2740176974028685,5.1436541864493535E-2,9.9239043328225307E-4,-3.2123673768534395,null,-11.239449216854926]
[null,null,null,"B1",37,null,-1.0814294815063477,null,null,null,null,null,null,null,null,null,null,20.398873437157054,{"$f":"2*PI()*R152/B56","v":2.9063469810285971E-3},8.4468468283588991E-6,2.2079129041330248E-4,-27.554390761952874,-2.5284947926529355E-5,19.823367896626436,-8.4768947787949855E-4,-7.7316750484618311,null,null,null,null,-6.2967869709495972E-5,9.6568027986165816E-3,-3.2428288305385919,5.1446691951266388E-2,1.0326704170680046E-3,-3.1807556332413505,null,-10.912430681703182]
[null,null,null,"B2",38,null,5.7410240173339844E-2,null,null,null,null,null,null,null,null,null,null,20.806850905900195,{"$f":"2*PI()*R153/B56","v":2.9644739206491693E-3},8.7880991903109022E-6,2.2970958493573335E-4,-27.208213798554397,-2.630645840540069E-5,19.767465698745596,-8.8232696197820815E-4,-7.4414270236442484,null,null,null,null,-6.551403611609885E-5,1.0046834467623E-2,-3.2107494042046838,5.1457252166454026E-2,1.0745932162308236E-3,-3.148236238390492,null,-10.58966326203474]
["HPF B0",{"$f":"B138^2*(1 + B141)/2","v":1.2773935485422232},null,"-A1",39,null,-1.3199930191040039,null,null,null,null,null,null,null,null,null,null,21.222987924018199,{"$f":"2*PI()*R154/B56","v":3.0237633990621523E-3},9.1431381270848419E-6,2.3898804058930523E-4,-26.861974464602341,-2.7369237789898193E-5,19.706002828143397,-9.1839630258760963E-4,-7.1566784139587298,null,null,null,null,-6.8163254432818121E-5,1.0452614922478176E-2,-3.1777660560729046,5.1468239084602629E-2,1.1182264855591484E-3,-3.1147951388346975,null,-10.271473552793427]
["HPF B1",{"$f":"B138^2*-(1 + B141)","v":-2.5547870970844464},null,"-A2",40,null,0.32817935943603516,null,null,null,null,null,null,null,null,null,null,21.647447682498562,{"$f":"2*PI()*R155/B56","v":3.0842386670433958E-3},9.5125206146053554E-6,2.4864119650302996E-4,-26.515672368864898,-2.8474953335688724E-5,19.638634591094913,-9.5595806222803503E-4,-6.8777735695890456,null,null,null,null,-7.0919703375693643E-5,1.0874779715301486E-2,-3.1438660134960799,5.1479669950314388E-2,1.1636407199233645E-3,-3.0804188428139163,null,-9.9581924124029619]
["HPF B2",{"$f":"B138^2*(1 + B141)/2","v":1.2773935485422232},"post4","B0",41,null,0.84765434265136719,null,null,null,null,null,null,null,null,null,null,22.080396636148535,{"$f":"2*PI()*R156/B56","v":3.1459234403842639E-3},9.8968261304844372E-6,2.5868417827012991E-4,-26.169307284664683,-2.9625339651673244E-5,19.565015607742367,-9.9507547861321655E-4,-6.6050576935623084,null,null,null,null,-7.3787731757590791E-5,1.1313990017072229E-2,-3.1090371499111882,5.1491562705336946E-2,1.2109093778676083E-3,-3.045094475542669,null,-9.6501521691049774]
["HPF A0",{"$f":"1+B143","v":1.0108753311517575},null,"B1",42,null,-1.3982982635498047,null,null,null,null,null,null,null,null,null,null,22.522004568871505,{"$f":"2*PI()*R157/B56","v":3.2088419091919488E-3},1.0296657563078087E-5,2.691327215167405E-4,-25.822879171921144,-3.0822201427582741E-5,19.484803025132507,-1.0358145921358641E-3,-6.338873650860684,null,null,null,null,-7.6771865430202979E-5,1.1770933647937909E-2,-3.0732680422582632,5.1503936016775498E-2,1.2601090111559188E-3,-3.0088098354478241,null,-9.3476834863085081]
["HPF A1",{"$f":"-2*B141","v":-1.9806015681396387},null,"B2",43,null,0.64283657073974609,null,null,null,null,null,null,null,null,null,null,22.972444660248936,{"$f":"2*PI()*R158/B56","v":3.2730187473757884E-3},1.0712642157267884E-5,2.8000319650445249E-4,-25.476388201401974,-3.2067416259273784E-5,19.39766004263042,-1.0782443802526132E-3,{"$f":"U158+V158+W158+X158+Y158","v":-6.0795584673715624}]
["HPF A2",{"$f":"1-B143","v":0.98912466884824235},null,"-A1",44,null,-1.7774972915649414,null,null,null,null,null,null,null,null,null,null,23.431893553453914,{"$f":"2*PI()*R159/B56","v":3.3384791223233039E-3},1.1145432498451062E-5,2.913126336601124E-4,-25.129834781385782,-3.3362937596592701E-5,19.303259702486528,-1.1224368990312428E-3,-5.8274395661022211]
[null,null,null,"-A2",45,null,0.86914825439453125,null,null,null,null,null,null,null,null,null,null,23.900531424522992,{"$f":"2*PI()*R160/B56","v":3.4052487047697699E-3},1.1595707536282767E-5,3.030787501572263E-4,-24.783219586953891,-3.4710797807591121E-5,19.201288882290029,-1.168467432457021E-3,-5.5828308041439669]
[null,null,"post 5","B0",46,null,1.0084399188751516,null,null,null,null,null,null,null,null,null,null,24.378542053013451,{"$f":"2*PI()*R161/B56","v":3.4733536788651652E-3},1.2064173649776179E-5,3.1531997753830865E-4,-24.436543592148894,-3.6113111367086503E-5,19.091452410472954,-1.2164146499245021E-3,-5.3460283894596934]
["HShelf B0",{"$f":"B138^2*(B139*( (B139+1) + (B139-1)*B141 + 2*SQRT(B139)*B143 ))","v":1.3762878399579748},null,"B1",47,null,-1.994599000969469,null,null,null,null,null,null,null,null,null,null,24.866112894073719,{"$f":"2*PI()*R162/B56","v":3.5428207524424681E-3},1.2551565755431468E-5,3.2805549048475768E-4,-24.089808105256836,-3.7572078174896717E-5,18.97347721198814,-1.2663607724192616E-3,-5.1173067706288045]
["HShelf B1",{"$f":"B138^2*(-2*B139*( (B139-1) + (B139+1)*B141 ))","v":-2.6817689813209373},null,"B2",48,null,0.98968454359703684,null,null,null,null,null,null,null,null,null,null,25.363435151955194,{"$f":"2*PI()*R163/B56","v":3.6136771674913177E-3},1.3058648460131697E-5,3.41305236688072E-4,-23.743014807491846,-3.9089987001972304E-5,18.847116379899845,-1.3183917480787954E-3,-4.8969146040903944]
["HShelf B2",{"$f":"B138^2*(B139*( (B139+1) + (B139-1)*B141 - 2*SQRT(B139)*B143 ))","v":1.3416813954902997},null,"-A1",49,null,-1.9945990009694701,null,null,null,null,null,null,null,null,null,null,25.8707038549943,{"$f":"2*PI()*R164/B56","v":3.6859507108411445E-3},1.3586217260614184E-5,3.5508996797517511E-4,-23.396165795384917,-4.0669219089295439E-5,18.712153061009346,-1.372597437459433E-3,-4.6850709110641446]
["HShelf A0",{"$f":"(B139+1) - (B139-1)*B141 + 2*SQRT(B139)*B143","v":2.0158955802513621},null,"-A2",50,null,0.998124462472188,null,null,null,null,null,null,null,null,null,null,26.388117932094186,{"$f":"2*PI()*R165/B56","v":3.759669725057967E-3},1.4135099791398893E-5,3.6943127262745179E-4,-23.049263627203089,-4.2312251872012041E-5,18.568404040774013,-1.4290718095608668E-3,-4.4819615392178811]
["HShelf A1",{"$f":"2*((B139-1)-(B139+1)*B141)","v":-3.9665007073956273},null,null,null,null,null,null,null,null,null,null,null,null,null,null,null,26.915880290736069,{"$f":"2*PI()*R166/B56","v":3.8348631195591265E-3},1.4706157123131307E-5,3.8435160901428844E-4,-22.702311373751726,-4.4021662877646861E-5,18.415722915400934,-1.4879131489138331E-3,-4.2877360415535684]
["HShelf A2",{"$f":"(B139+1) - (B139-1)*B141 - 2*SQRT(B139)*B143","v":1.978806848632287},null,null,null,null,null,null,null,null,null,null,null,null,null,null,null,27.454197896550792,{"$f":"2*PI()*R167/B56","v":3.9115603819503087E-3},1.5300285113376399E-5,3.9987434059796101E-4,-22.355312673940631,-4.5800133761986217E-5,18.254002747490631,-1.5492242747257023E-3,-4.1025050765178896]
[null,null,null,null,null,null,null,null,null,null,null,null,null,null,null,null,null,28.003281854481809,{"$f":"2*PI()*R168/B56","v":3.9897915895893152E-3},1.591841581198265E-5,4.1602377227434317E-4,-22.008271795524138,-4.7650454514602814E-5,18.083178115917349,-1.6131127728939987E-3,-3.9263384190619242]
[null,null,null,null,null,null,null,null,null,null,null,null,null,null,null,null,null,28.563347491571445,{"$f":"2*PI()*R169/B56","v":4.0695874213811023E-3},1.6561518923220396E-5,4.3282518824483418E-4,-21.661193701457407,-4.9575527842016243E-5,17.903226490235951,-1.679691241562864E-3,-3.7592636528026162]
["LShelf B0",{"$f":"B138^2*(B139*( (B139+1) - (B139-1)*B141 + 2*SQRT(B139)*B143 ))","v":1.8809750402658822},null,null,null,null,null,null,null,null,null,null,null,null,null,null,null,29.134614441402874,{"$f":"2*PI()*R170/B56","v":4.1509791698087235E-3},1.7230603326988157E-5,4.503048913555574E-4,-21.314084122343388,-5.1578373716942849E-5,17.714168883808753,-1.7490775514446E-3,-3.6012655895684418]
["LShelf B1",{"$f":"B138^2*(2*B139*( (B139-1) - (B139+1)*B141 ))","v":-3.701029408913056},null,null,null,null,null,null,null,null,null,null,null,null,null,null,null,29.717306730230931,{"$f":"2*PI()*R171/B56","v":4.2339987532048979E-3},1.7926718661473119E-5,4.6849024399975292E-4,-20.966949635480404,-5.36621341167276E-5,17.516069766669801,-1.8213951217163071E-3,-3.4522864358224368]
["LShelf B2",{"$f":"B138^2*(B139*( (B139+1) - (B139-1)*B141 - 2*SQRT(B139)*B143 ))","v":1.8463685957982072},null,null,null,null,null,null,null,null,null,null,null,null,null,null,null,30.311652864835551,{"$f":"2*PI()*R172/B56","v":4.3186787282689966E-3},1.8650956969748043E-5,4.8740971068284011E-4,-20.619797751056026,-5.58300779491816E-5,17.309036247226032,-1.8967732126853321E-3,-3.3122266974099475]
["LShelf A0",{"$f":"(B139+1) + (B139-1)*B141 + 2*SQRT(B139)*B143","v":1.4750076499328759},null,null,null,null,null,null,null,null,null,null,null,null,null,null,null,30.917885922132264,{"$f":"2*PI()*R173/B56","v":4.4050523028343769E-3},1.9404454412887678E-5,5.0709290227146653E-4,-20.272637006070624,-5.8085606186253358E-5,17.093216559458014,-1.9753472364811842E-3,-3.1809467865530081]
["LShelf A1",{"$f":"-2*((B139-1)+(B139+1)*B141)","v":-2.874129704525954},null,null,null,null,null,null,null,null,null,null,null,null,null,null,null,31.536243640574909,{"$f":"2*PI()*R174/B56","v":4.4931533488910642E-3},2.0188393052291727E-5,5.2757062199049187E-4,-19.925477066612089,-6.043225719487566E-5,16.868797917595586,-2.057259086846841E-3,-3.0582692697385525]
["LShelf A2",{"$f":"(B139+1) +(B139-1)*B141 - 2*SQRT(B139)*B143","v":1.4379189183138006},null,null,null,null,null,null,null,null,null,null,null,null,null,null,null,32.166968513386408,{"$f":"2*PI()*R175/B56","v":4.5830164158688859E-3},2.1004002704009933E-5,5.488749133348847E-4,-19.57832883914277,-6.2873712287192518E-5,16.63600382179014,-2.1426574897631667E-3,-2.9439816736413462]
[null,null,null,null,null,null,null,null,null,null,null,null,null,null,null,null,null,32.81030788365414,{"$f":"2*PI()*R176/B56","v":4.6746767441862638E-3},2.1852562867977945E-5,5.7103910972244876E-4,-19.231204591498624,-6.5413801497271606E-5,16.395090914919052,-2.2316983761072606E-3,-2.8378397496474541]
[null,null,null,null,null,null,null,null,null,null,null,null,null,null,null,null,null,33.466514041327223,{"$f":"2*PI()*R177/B56","v":4.7681702790699889E-3},2.273540473519009E-5,5.9409788633857374E-4,-18.884118084339676,-6.8056509588743097E-5,16.146345501611776,-2.3245452781850418E-3,-2.7395710866293328]
["Notch B0",1,null,null,null,null,null,null,null,null,null,null,null,null,null,null,null,34.135844322153766,{"$f":"2*PI()*R178/B56","v":4.8635336846513891E-3},2.3653913275957232E-5,6.1808731386037152E-4,-18.537084713828477,-7.0805982305799375E-5,15.890079845630396,-2.4213697518931099E-3,-2.6488789566184181]
["Notch B1",{"$f":"-2*B141","v":-1.9806015681396387},null,null,null,null,null,null,null,null,null,null,null,null,null,null,null,34.81856120859684,{"$f":"2*PI()*R179/B56","v":4.9608043583444167E-3},2.4609529412525199E-5,6.4304491442968015E-4,-18.190121666348688,-7.3666532872884716E-5,15.626628361075404,-2.5223518264283484E-3,-2.5654462787181558]
["Notch B2",{"$f":"1","v":1},null,null,null,null,null,null,null,null,null,null,null,null,null,null,null,35.514932432768781,{"$f":"2*PI()*R180/B56","v":5.0600204455113051E-3},2.5603752279461695E-5,6.6900971979677593E-4,{"$f":"10*LOG10(($G$121+$G$122+$G$123)^2 + ( $G$121*$G$123*$T180 - ($G$122*($G$121+$G$123) + 4*$G$121*$G$123) )*$T180 )  - 10*LOG10( (1+$G$124+$G$125)^2 + ( 1*$G$125*$T180 - ($G$124*(1+$G$125) + 4*1*$G$125) )*$T180)","v":-17.843248086108218},{"$f":"10*LOG10(($G$126+$G$127+$G$128)^2 + ( $G$126*$G$128*$T180 - ($G$127*($G$126+$G$128) + 4*$G$126*$G$128) )*$T180 )  - 10*LOG10( (1+$G$129+$G$130)^2 + ( 1*$G$130*$T180 - ($G$129*(1+$G$130) + 4*1*$G$130) )*$T180)","v":-7.6642648766167554E-5},{"$f":"10*LOG10(($G$131+$G$132+$G$133)^2 + ( $G$131*$G$133*$T180 - ($G$132*($G$131+$G$133) + 4*$G$131*$G$133) )*$T180 )  - 10*LOG10( (1+$G$134+$G$135)^2 + ( 1*$G$135*$T180 - ($G$134*(1+$G$135) + 4*1*$G$135) )*$T180)","v":15.356343807115692},{"$f":"10*LOG10(($G$136+$G$137+$G$138)^2 + ( $G$136*$G$138*$T180 - ($G$137*($G$136+$G$138) + 4*$G$136*$G$138) )*$T180 )  - 10*LOG10( (1+$G$139+$G$140)^2 + ( 1*$G$140*$T180 - ($G$139*(1+$G$140) + 4*1*$G$140) )*$T180)","v":-2.6276804836413703E-3},-2.4889395924051385]
["Notch A0",{"$f":"1+B143","v":1.0108753311517575},null,null,null,null,null,null,null,null,null,null,null,null,null,null,null,36.225231081424155,{"$f":"2*PI()*R181/B56","v":5.1612208544215311E-3},{"$f":"4*(SIN(S181/2))^2","v":2.663814157535681E-5},{"$f":"10*LOG10(($G$116+$G$117+$G$118)^2 + ( $G$116*$G$118*T181 - ($G$117*($G$116+$G$118) + 4*$G$116*$G$118) )*T181 )  - 10*LOG10( (1+$G$119+$G$120)^2 + ( 1*$G$120*T181 - ($G$119*(1+$G$120) + 4*1*$G$120) )*T181)","v":6.9602233179466566E-4},-17.496485256498843,-7.9738998749689927E-5,15.079593585952381,-2.7375541694141248E-3,-2.4190129413828316]
["Notch A1",{"$f":"-2*B141","v":-1.9806015681396387},null,null,null,null,null,null,null,null,null,null,null,null,null,null,null,36.949735703052639,{"$f":"2*PI()*R182/B56","v":5.2644452715099616E-3},2.7714320009525937E-5,7.2412498522922419E-4,-17.149856796104331,-8.2960440199286722E-5,14.796756230581877,-2.852181339513038E-3,-2.3553115823169364]
["Notch A2",{"$f":"1-B143","v":0.98912466884824235},null,null,null,null,null,null,null,null,null,null,null,null,null,null,null,37.688730417113689,{"$f":"2*PI()*R183/B56","v":5.3697341769401606E-3},2.8833975847552596E-5,7.5336161319583539E-4,-16.803388870262154,-8.6312026720491986E-5,14.5082181537569,-2.9717810426390656E-3,-2.2974754479614177]
[null,null,null,null,null,null,null,null,null,null,null,null,null,null,null,null,null,38.442505025455965,{"$f":"2*PI()*R184/B56","v":5.4771288604789645E-3},2.9998865559663731E-5,7.8377791508899008E-4,-16.457110419083619,-8.9799016079084026E-5,14.214370713439166,-3.0965835437584133E-3,-2.2451423102892036]
[null,null,null,null,null,null,null,null,null,null,null,null,null,null,null,null,null,39.211355125965085,{"$f":"2*PI()*R185/B56","v":5.5866714376885439E-3},3.1210816576091224E-5,8.1542142722668132E-4,-16.11105340282424,-9.3426878446045691E-5,13.91560763396069,-3.2268309907692583E-3,-2.1979506053055395]
["Peaking B0",{"$f":"1+(B143*B139)","v":1.0079053570525613},null,null,null,null,null,null,null,null,null,null,null,null,null,null,null,39.995582228484388,{"$f":"2*PI()*R186/B56","v":5.6984048664423144E-3},3.2471730153741425E-5,8.4834159626012706E-4,-15.765253065463966,-9.7201304978256076E-5,13.612322806852475,-3.3627781283627201E-3,-2.1555418964485717]
["Peaking B1",{"$f":"-2*B141","v":-1.9806015681396387},null,null,null,null,null,null,null,null,null,null,null,null,null,null,null,40.795493873054077,{"$f":"2*PI()*R187/B56","v":5.8123729637711615E-3},3.3783584358668515E-5,8.8258985557843062E-4,-15.419748217303876,-1.0112821674557182E-4,13.304908481444954,-3.5046930626450035E-3,-2.1175629672827334]
["Peaking B2",{"$f":"1-(B143*B139)","v":0.99209464294743877},null,null,null,null,null,null,null,null,null,null,null,null,null,null,null,41.611403750515159,{"$f":"2*PI()*R188/B56","v":5.9286204230465838E-3},3.5148437169029624E-5,9.1821970462646618E-4,-15.074581537304255,-1.0521377402117338E-4,12.993753843278512,-3.6528580810681888E-3,-2.0836675461762049]
["Peaking A0",{"$f":"1 + (B143/B139)","v":1.0149610987680904},null,null,null,null,null,null,null,null,null,null,null,null,null,null,null,42.443631825525465,{"$f":"2*PI()*R189/B56","v":6.0471928315075163E-3},3.6568429703388302E-5,9.5528679140954864E-4,-14.729799895775898,-1.0946438594139352E-4,12.679243968270626,-3.8075705321531927E-3,-2.0535176756319569]
["Peaking A1",{"$f":"-2*B141","v":-1.9806015681396387},null,null,null,null,null,null,null,null,null,null,null,null,null,null,null,43.292504462035971,{"$f":"2*PI()*R190/B56","v":6.1681366881376669E-3},3.8045789579429284E-5,9.9384899824883632E-4,-14.385454697883645,-1.1388672055900884E-4,12.361759132502115,-3.969143770241601E-3,-2.0267847468740818]
["Peaking A2",{"$f":"1-(B143/B139)","v":0.98503890123190962},null,null,null,null,null,null,null,null,null,null,null,null,null,null,null,44.158354551276695,{"$f":"2*PI()*R191/B56","v":6.2914994219004207E-3},3.9582834408352574E-5,1.0339665308691792E-3,-14.041602248221508,-1.1848771530420521E-4,12.041674451301958,-4.1379081708257104E-3,-2.003150226274812]
[null,null,null,null,null,null,null,null,null,null,null,null,null,null,null,null,null,45.041521642302229,{"$f":"2*PI()*R192/B56","v":6.4173294103384284E-3},4.1181975430426831E-5,1.075702011075208E-3,-13.698304136465566,-1.2327458786653978E-4,11.719359816838477,-4.3142122227024515E-3,-1.9823061044265842]
[null,null,null,null,null,null,null,null,null,null,null,null,null,null,null,null,null,45.942352075148271,{"$f":"2*PI()*R193/B56","v":6.545675998545197E-3},4.2845721297403926E-5,1.1191205729872422E-3,-13.355627643792602,-1.2825484751211036E-4,11.395180100411878,-4.4984237037368757E-3,-1.9639551013589855]
["Planet Analog 2nd order EQ filter",null,null,"Fc",{"$f":"D109","v":978.34872897125581},null,null,null,null,null,null,null,null,null,null,null,null,46.861199116651235,{"$f":"2*PI()*R194/B56","v":6.6765895185161009E-3},4.4576682007726628E-5,1.1642899630714965E-3,-13.013646169361934,-1.3343630687057129E-4,11.069495583806557,-4.6909309477101147E-3,-1.9478106628468872]
[null,null,null,"g",{"$f":"D111+20","v":14.459160000000001},null,"d",{"$f":"-COS(2*PI()*E194/B56)","v":-0.99030078406981936},null,null,null,null,null,null,null,null,null,47.798423098984259,{"$f":"2*PI()*R195/B56","v":6.8101213088864222E-3},4.6377573000700761E-5,1.2112806441493262E-3,-12.672439675682782,-1.3882709417600836E-4,10.742662583122737,-4.8921442105438473E-3,-1.9335967832206151]
["PA EQ B0",{"$f":" 1 + (1+E202)*E197/2","v":1.1452686911783592},null,"b",{"$f":"E194/D110","v":153.15758148174822},null,null,null,null,null,null,null,null,null,null,null,null,48.754391560963946,{"$f":"2*PI()*R196/B56","v":6.9463237350641509E-3},4.825121941605278E-5,1.2601659034103818E-3,-12.332095151119447,-1.4443566603539182E-4,10.415034228190365,-5.1024971449677992E-3,-1.9210476898366746]
["PA EQ B1",{"$f":" H195*(1-E202)","v":-1.9592243501297888},null,"H",{"$f":"E195-1","v":13.459160000000001},null,null,null,null,null,null,null,null,null,null,null,null,49.729479392183222,{"$f":"2*PI()*R197/B56","v":7.0852502097654337E-3},5.0200560525552359E-5,1.3110219646819132E-3,-11.992707087111427,-1.5027082067309294E-4,10.086961360740901,-5.3224483937057698E-3,-1.909907423620222]
["PA EQ B2",{"$f":"-E202-(1+E202)*E197/2","v":0.83314471780431731},null,null,null,null,null,null,null,null,null,null,null,null,null,null,null,50.724068980026885,{"$f":"2*PI()*R198/B56","v":7.2269552139607417E-3},5.2228654343650114E-5,1.3639281050608076E-3,-11.654377966891687,-1.5634171174383482E-4,9.7587935147656424,-5.5524833124565021E-3,-1.8999293490451841]
["PA EQ A1",{"$f":"B197","v":-1.9592243501297888},null,null,null,null,null,null,null,null,null,null,null,null,null,null,null,51.738550359627425,{"$f":"2*PI()*R199/B56","v":7.3714943182399571E-3},5.4338682424360592E-5,1.41896677613218E-3,-11.317218761568498,-1.6265786268387927E-4,9.430879942770872,-5.7931158346633538E-3,-1.8908756257188415]
["PA EQ A2",{"$f":"-E202","v":0.97841340898267659},null,"a1 g<1",{"$f":" (TAN(PI()*E196/B56)-E195)/(TAN(PI()*E196/B56)+E195)","v":-0.99849191316661601},null,null,null,null,null,null,null,null,null,null,null,null,52.773321366819971,{"$f":"2*PI()*R200/B56","v":7.5189242046047574E-3},5.6533954851912689E-5,1.476223729852677E-3,-10.981349428380085,-1.6922918165196421E-4,9.1035706518324275,-6.0448904921130975E-3,-1.882516672491569]
[null,null,null,"a2 g>=1",{"$f":" (TAN(PI()*E196/B56)-1)/(TAN(PI()*E196/B56)+1)","v":-0.97841340898267659},null,null,null,null,null,null,null,null,null,null,null,null,53.828787794156369,{"$f":"2*PI()*R201/B56","v":7.6693026886968515E-3},5.8817915432993809E-5,1.5357881493827108E-3,-10.646899404738079,-1.7606597706887328E-4,8.7772174133979632,-6.3083846062141902E-3,-1.8746306537740161]
[null,null,null,"a",{"$f":"IF(E195<1, E200,E201)","v":-0.97841340898267659},null,null,null,null,null,null,null,null,null,null,null,null,54.905363550039496,{"$f":"2*PI()*R202/B56","v":7.8226887424707892E-3},6.1194147098729773E-5,1.5977527849457829E-3,-10.314008090337992,-1.8317897378139492E-4,8.4521747106664691,-6.5842106669933287E-3,-1.8670030165273523]
[null,null,null,null,null,null,null,null,null,null,null,null,null,null,null,null,null,56.003470821040288,{"$f":"2*PI()*R203/B56","v":7.9791425173202039E-3},6.3666377524870642E-5,1.6622140949813513E-3,-9.9828253081412299,-1.9057932989241522E-4,8.1288005871308116,-6.873018918476248E-3,-1.8594261051638057]
[null,null,null,null,null,null,null,null,null,null,null,null,null,null,null,null,null,57.123540237461093,{"$f":"2*PI()*R204/B56","v":8.1387253676666084E-3},6.6238484978996414E-5,1.7292723927582188E-3,-9.6535117334328788,-1.982786542544801E-4,7.8074573595824006,-7.1755001711508726E-3,-1.8516988802831253]
[null,null,null,null,null,null,null,null,null,null,null,null,null,null,null,null,null,58.266011042210316,{"$f":"2*PI()*R205/B56","v":8.3014998750199406E-3},6.8914504403909738E-5,1.7990319985941028E-3,-9.3262392784538548,-2.0628902467834109E-4,7.4885121586845287,-7.4923888650886283E-3,-1.843626765660499]
[null,null,null,null,null,null,null,null,null,null,null,null,null,null,null,null,null,59.431331263054524,{"$f":"2*PI()*R206/B56","v":8.4675298725203404E-3},7.1698633746755531E-5,1.8716013980295543E-3,-9.0011914183295119,-2.1462300687602465E-4,7.1723372602959756,-7.8244664093674032E-3,-1.8350216460517501]
[null,null,null,null,null,null,null,null,null,null,null,null,null,null,null,null,null,60.619957888315618,{"$f":"2*PI()*R207/B56","v":8.6368804699707476E-3},7.4595240543790737E-5,1.9470934060024092E-3,-8.6785634422153635,-2.2329367417217583E-4,6.8593101712970963,-8.1725648271273599E-3,-1.8257020360135634]
[null,null,null,null,null,null,null,null,null,null,null,null,null,null,null,null,null,61.832357046081931,{"$f":"2*PI()*R208/B56","v":8.8096180793701632E-3},7.7608868771129031E-5,2.0256253373212019E-3,-8.35856261181722,-2.3231462799966351E-4,6.5498134349818713,-8.5375707384116595E-3,-1.8154934368644398]
[null,null,null,null,null,null,null,null,null,null,null,null,null,null,null,null,null,63.069004187003571,{"$f":"2*PI()*R209/B56","v":8.9858104409575659E-3},8.0744245972201305E-5,2.1073191837537308E-3,-8.0414082078041815,-2.4170001924250784E-4,6.2442341234186074,-8.9204297176337377E-3,-1.8042288949386958]
[null,null,null,null,null,null,null,null,null,null,null,null,null,null,null,null,null,64.33038427074365,{"$f":"2*PI()*R210/B56","v":9.1655266497767188E-3},8.4006290673107351E-5,2.1923017977201198E-3,-7.7273314432147941,-2.5146457042080073E-4,5.9429629878257231,-9.3221510662573337E-3,-1.7917497692280291]
[null,null,null,null,null,null,null,null,null,null,null,null,null,null,null,null,null,65.616991956158529,{"$f":"2*PI()*R211/B56","v":9.3488371827722527E-3},8.7400120097484065E-5,2.2807050831445963E-3,-7.4165752218894738,-2.6162359877979213E-4,5.6463932432338311,-9.7438130469313933E-3,-1.7779067102182093]
[null,null,null,null,null,null,null,null,null,null,null,null,null,null,null,null,null,66.929331795281698,{"$f":"2*PI()*R212/B56","v":9.5358139264276973E-3},9.0931058192986278E-5,2.372666193412698E-3,-7.1093937193820551,-2.7219304031689262E-4,5.3549189707365912,-1.0186568630807358E-2,-1.7625608441231755]
[null,null,null,null,null,null,null,null,null,null,null,null,null,null,null,null,null,68.26791843118734,{"$f":"2*PI()*R213/B56","v":9.7265302049562522E-3},9.4604643981962988E-5,2.4683277369348389E-3,-6.8060517638743363,-2.8318947476968503E-4,5.0689331296286184,-1.0651651816452556E-2,-1.7455851478000053]
[null,null,null,null,null,null,null,null,null,null,null,null,null,null,null,null,null,69.633276799811085,{"$f":"2*PI()*R214/B56","v":9.9210608090553772E-3},9.8426640249420249E-5,2.5678379904086057E-3,-6.5068239955067497,-2.9463015162090045E-4,4.7888251827342714,-1.1140384586568075E-2,-1.7268659895202587]
[null,null,null,null,null,null,null,null,null,null,null,null,null,null,null,null,null,71.025942335807315,{"$f":"2*PI()*R215/B56","v":1.0119482025236486E-2},1.0240304258189176E-4,2.6713511201243989E-3,-6.2119937844192492,-3.065330171452274E-4,4.5149783511501482,-1.1654184577018611E-2,-1.7063047997431404]
[null,null,null,null,null,null,null,null,null,null,null,null,null,null,null,null,null,72.446461182523464,{"$f":"2*PI()*R216/B56","v":1.0321871665741215E-2},1.0654008877138467E-4,2.77902741158087E-3,-5.9218518908325279,-3.1891674255479785E-4,4.2477665291792164,-1.2194573543204967E-2,-1.6838198245274905]
[null,null,null,null,null,null,null,null,null,null,null,null,null,null,null,null,null,73.895390406173931,{"$f":"2*PI()*R217/B56","v":1.0528309099056041E-2},1.1084426859914379E-4,2.8910335076908211E-3,-5.636694854828761,-3.3180075327798875E-4,3.9875509059552456,-1.2763186719674025E-2,-1.6593479028387765]
[null,null,null,null,null,null,null,null,null,null,null,null,null,null,null,null,null,75.373298214297407,{"$f":"2*PI()*R218/B56","v":1.0738875281037161E-2},1.153223340145693E-4,3.0075426558582308E-3,-5.3568231092082783,-3.4520525942571822E-4,3.7346763564556795,-1.336178318270953E-2,-1.6328461985388758]
[null,null,null,null,null,null,null,null,null,null,null,null,null,null,null,null,null,76.880764178583362,{"$f":"2*PI()*R219/B56","v":1.0953652786657905E-2},1.1998130972524346E-4,3.1287349642177276E-3,-5.082538815936374,-3.5915128747632252E-4,3.4894676804106552,-1.3992257340433412E-2,-1.6042938091894108]
[null,null,null,null,null,null,null,null,null,null,null,null,null,null,null,null,null,78.418379462155031,{"$f":"2*PI()*R220/B56","v":1.1172725842391065E-2},1.2482850421466512E-4,3.2547976673988899E-3,-4.8141434351999948,-3.7366071325184436E-4,3.2522257820003091,-1.4656651693151446E-2,-1.5736931679386901]
[null,null,null,null,null,null,null,null,null,null,null,null,null,null,null,null,null,79.986747051398126,{"$f":"2*PI()*R221/B56","v":1.1396180359238884E-2},1.2987152120496113E-4,3.3859254019930063E-3,-4.5519350458103958,-3.8875629622570074E-4,3.0232238950778623,-1.5357171026593619E-2,-1.5410711526533598]
[null,null,null,null,null,null,null,null,null,null,null,null,null,null,null,null,null,81.586481992426087,{"$f":"2*PI()*R222/B56","v":1.1624103966423662E-2},1.3511827158254E-4,3.5223204922480988E-3,-4.2962054463418013,-4.0446171519992191E-4,2.80270396684773,-1.6096198225376668E-2,{"$f":"U222+V222+W222+X222+Y222","v":-1.5064798189423998}]
[null,null,null,null,null,null,null,null,null,null,null,null,null,null,null,null,null,83.218211632274617,{"$f":"2*PI()*R223/B56","v":1.1856586045752137E-2},1.4057698580537801E-4,3.6641932460383941E-3,-4.0472370775823521,-4.2080160543900291E-4,2.5908733164623214,-1.6876311921016907E-2,-1.4699966814004481]
[null,null,null,null,null,null,null,null,null,null,null,null,null,null,null,null,null,84.882575864920113,{"$f":"2*PI()*R224/B56","v":1.209371776666718E-2},1.4625622681138217E-4,3.8117622617654945E-3,-3.80529981807409,-4.378015973021121E-4,2.3879016831138387,-1.7700306221939854E-2,-1.4317244805177278]
[null,null,null,null,null,null,null,null,null,null,null,null,null,null,null,null,null,86.580227382218524,{"$f":"2*PI()*R225/B56","v":1.2335592122000524E-2},1.5216490344805973E-4,3.9652547461770382E-3,-3.5706477150968112,-4.5548835642605923E-4,2.1939187704536209,-1.8571212810684301E-2,-1.3917903910641236]
[null,null,null,null,null,null,null,null,null,null,null,null,null,null,null,null,null,88.31183192986289,{"$f":"2*PI()*R226/B56","v":1.2582303964440534E-2},1.5831228444453829E-4,4.1249068437707592E-3,-3.3435157227103218,-4.7388962553363001E-4,2.0090123805739637,-1.9492325738255545E-2,-1.3503446506563765]
[null,null,null,null,null,null,null,null,null,null,null,null,null,null,null,null,null,90.078068568460154,{"$f":"2*PI()*R227/B56","v":1.2833950043729347E-2},1.6470801294783043E-4,4.2909639778727637E-3,-3.1241165256776782,-4.9303426793123606E-4,1.833227211801173,-2.0467229298176903E-2,-1.3075586134647406]
[null,null,null,null,null,null,null,null,null,null,null,null,null,null,null,null,null,91.879629939829357,{"$f":"2*PI()*R228/B56","v":1.3090629044603933E-2},1.7136212164612033E-4,4.4636812038802987E-3,-2.9126375325548679,-5.1295231277048714E-4,1.6665643711121731,-2.1499829424605821E-2,-1.2636222619761908]
[null,null,null,null,null,null,null,null,null,null,null,null,null,null,null,null,null,93.717222538625947,{"$f":"2*PI()*R229/B56","v":1.3352441625496011E-2},1.7828504850276802E-4,4.6433235749816504E-3,-2.7092381223587836,-5.33675002114542E-4,1.5089816254387358,-2.2594389132649439E-2,-1.2187412374798301]
[null,null,null,null,null,null,null,null,null,null,null,null,null,null,null,null,null,95.591566989398473,{"$f":"2*PI()*R230/B56","v":1.3619490458005933E-2},1.8548765312568152E-4,4.8301665207119981E-3,-2.5140472265894971,-5.5523483993269451E-4,1.3603943880980864,-2.3755568605693611E-2,-1.173133475416325]
[null,null,null,null,null,null,null,null,null,null,null,null,null,null,null,null,null,97.503398329186439,{"$f":"2*PI()*R231/B56","v":1.389188026716605E-2},1.9298123379770339E-4,5.0244962387111514E-3,-2.3271613217940086,-5.7766564304451151E-4,1.2206774088592738,-2.4988470638469096E-2,-1.1270255529775373]
[null,null,null,null,null,null,null,null,null,null,null,null,null,null,null,null,null,99.45346629577017,{"$f":"2*PI()*R232/B56","v":1.4169717872509372E-2},2.0077754519469109E-4,5.2266100999638354E-3,-2.148642897398517,-6.0100259414941348E-4,1.089667110467758,-2.6298692268078128E-2,-1.0806488716930227]
[null,null,null,null,null,null,null,null,null,null,null,null,null,null,null,null,null,101.44253562168558,{"$f":"2*PI()*R233/B56","v":1.4453112229959561E-2},2.0888881681904535E-4,5.4368170680625383E-3,-1.9785194495767229,-6.252822969639027E-4,0.9671644923567726,-2.7692383573537427E-2,-1.0342358060223891]
[null,null,null,null,null,null,null,null,null,null,null,null,null,null,null,null,null,103.47138633411929,{"$f":"2*PI()*R234/B56","v":1.474217447455875E-2},2.173277721775622E-4,5.6554381326172631E-3,-1.8167830351215315,-6.5054283361387633E-4,0.85293850498847235,-2.9176314802171532E-2,-0.9880159496362273]
[null,null,null,null,null,null,null,null,null,null,null,null,null,null,null,null,null,105.54081406080168,{"$f":"2*PI()*R235/B56","v":1.5037017964049928E-2},2.2610764873364671E-4,5.88280675736641E-3,-1.6633904005389866,-6.7682382432998622E-4,0.74672978657301314,-3.0757953195958976E-2,-0.94221258422889598]
[null,null,null,null,null,null,null,null,null,null,null,null,null,null,null,null,null,107.65163034201771,{"$f":"2*PI()*R236/B56","v":1.5337758323330926E-2},2.3524221866513643E-4,6.1192693432055023E-3,-1.518263681950458,-7.0416648954463312E-4,0.64825464812139444,-3.2445551150097174E-2,-0.89703948212549989]
[null,null,null,null,null,null,null,null,null,null,null,null,null,null,null,null,null,109.80466294885807,{"$f":"2*PI()*R237/B56","v":1.5644513489797542E-2},2.4474581046024605E-4,6.3651857065352146E-3,-1.381291652014454,-7.3261371451138757E-4,0.55720919273969116,-3.4248247651667896E-2,-0.85269813493440694]
[null,null,null,null,null,null,null,null,null,null,null,null,null,null,null,null,null,112.00075620783522,{"$f":"2*PI()*R238/B56","v":1.5957403759593494E-2},2.5463333138544945E-4,6.6209295732626572E-3,-1.2523314720792484,-7.6221011651433912E-4,0.47327346021684491,-3.6176185329964028E-2,-0.80937547773561924]
[null,null,null,null,null,null,null,null,null,null,null,null,null,null,null,null,null,114.24077133199194,{"$f":"2*PI()*R239/B56","v":1.6276551834785366E-2},2.6492029086048314E-4,6.8868890887969769E-3,-1.1312108921516426,-7.9300211480770599E-4,0.39611549742716079,-3.8240645919906058E-2,-0.76724215367039861]
[null,null,null,null,null,null,null,null,null,null,null,null,null,null,null,null,null,116.52558675863177,{"$f":"2*PI()*R240/B56","v":1.6602082871481072E-2},2.7562282477707004E-4,7.1634673442524388E-3,-1.0177308288100448,-8.2503800336652944E-4,0.32539526781056338,-4.0454207517711893E-2,-0.72645133917630744]
[null,null,null,null,null,null,null,null,null,null,null,null,null,null,null,null,null,118.85609849380441,{"$f":"2*PI()*R241/B56","v":1.6934124528910695E-2},2.867577207994387E-4,7.451082919313734E-3,-0.91166824243401834,-8.5836802656658051E-4,0.2607683280713502,-4.283092771979824E-2,-0.68713812718971923]
[null,null,null,null,null,null,null,null,null,null,null,null,null,null,null,null,null,121.2332204636805,{"$f":"2*PI()*R242/B56","v":1.7272807019488908E-2},2.9834244468624458E-4,7.7501704419091766E-3,-0.81277923031088051,-8.9304445793469966E-4,0.20188921614662547,-4.53865576188619E-2,-0.64941944579914246]
[null,null,null,null,null,null,null,null,null,null,null,null,null,null,null,null,null,123.65788487295411,{"$f":"2*PI()*R243/B56","v":1.7618263159878689E-2},3.1039516767510041E-4,8.0611811650364018E-3,-0.72080225126768482,-9.2912168205749879E-4,0.1484145104468837,-4.8138792730206603E-2,-0.61339447406802883]
[null,null,null,null,null,null,null,null,null,null,null,null,null,null,null,null,null,126.1310425704132,{"$f":"2*PI()*R244/B56","v":1.797062842307626E-2},3.2293479497257478E-4,8.3845835608684638E-3,{"$f":"10*LOG10(($G$121+$G$122+$G$123)^2 + ( $G$121*$G$123*$T244 - ($G$122*($G$121+$G$123) + 4*$G$121*$G$123) )*$T244 )  - 10*LOG10( (1+$G$124+$G$125)^2 + ( 1*$G$125*$T244 - ($G$124*(1+$G$125) + 4*1*$G$125) )*$T244)","v":-0.63546140016025277},{"$f":"10*LOG10(($G$126+$G$127+$G$128)^2 + ( $G$126*$G$128*$T244 - ($G$127*($G$126+$G$128) + 4*$G$126*$G$128) )*$T244 )  - 10*LOG10( (1+$G$129+$G$130)^2 + ( 1*$G$130*$T244 - ($G$129*(1+$G$130) + 4*1*$G$130) )*$T244)","v":-9.6665627981540325E-4},{"$f":"10*LOG10(($G$131+$G$132+$G$133)^2 + ( $G$131*$G$133*$T244 - ($G$132*($G$131+$G$133) + 4*$G$131*$G$133) )*$T244 )  - 10*LOG10( (1+$G$134+$G$135)^2 + ( 1*$G$135*$T244 - ($G$134*(1+$G$135) + 4*1*$G$135) )*$T244)","v":0.1000055355370506},{"$f":"10*LOG10(($G$136+$G$137+$G$138)^2 + ( $G$136*$G$138*$T244 - ($G$137*($G$136+$G$138) + 4*$G$136*$G$138) )*$T244 )  - 10*LOG10( (1+$G$139+$G$140)^2 + ( 1*$G$140*$T244 - ($G$139*(1+$G$140) + 4*1*$G$140) )*$T244)","v":-5.1107568296380634E-2},-0.57914550563852973]
[null,null,null,null,null,null,null,null,null,null,null,null,null,null,null,null,null,128.65366342182148,{"$f":"2*PI()*R245/B56","v":1.8330040991537788E-2},{"$f":"4*(SIN(S245/2))^2","v":3.3598099539425378E-4},{"$f":"10*LOG10(($G$116+$G$117+$G$118)^2 + ( $G$116*$G$118*T245 - ($G$117*($G$116+$G$118) + 4*$G$116*$G$118) )*T245 )  - 10*LOG10( (1+$G$119+$G$120)^2 + ( 1*$G$120*T245 - ($G$119*(1+$G$120) + 4*1*$G$120) )*T245)","v":8.7208639325133674E-3},-0.55646965632539036,-1.0057071170264109E-3,5.6330703184798381E-2,-5.4315408146607069E-2,-0.54673920447171209]
[null,null,null,null,null,null,null,null,null,null,null,null,null,null,null,null,null,131.22673669025792,{"$f":"2*PI()*R246/B56","v":1.8696641811368549E-2},3.4955423220124621E-4,9.0705270433915075E-3,-0.48353203831712221,-1.0463354366967437E-3,1.7067489632950128E-2,-5.778783847355129E-2,-0.51622819555102861]
[null,null,null,null,null,null,null,null,null,null,null,null,null,null,null,null,null,133.85127142406307,{"$f":"2*PI()*R247/B56","v":1.9070574647595914E-2},3.636757951813879E-4,9.4340967645365481E-3,-0.41634860718845346,-1.0886049549654331E-3,-1.8095940172102587E-2,-6.1553880666593841E-2,-0.48765293621757877]
[null,null,null,null,null,null,null,null,null,null,null,null,null,null,null,null,null,136.52829685254434,{"$f":"2*PI()*R248/B56","v":1.9451986140547835E-2},3.7836783402534331E-4,9.812116739780663E-3,-0.35461727152008393,-1.1325819609355747E-3,-4.9459442905018136E-2,-6.5646640891699803E-2,-0.46104382053795678]
[null,null,null,null,null,null,null,null,null,null,null,null,null,null,null,null,null,139.25886278959524,{"$f":"2*PI()*R249/B56","v":1.9841025863358796E-2},3.9365339304981133E-4,1.0205151068952034E-2,-0.29803635866362299,-1.1783354205245899E-3,-7.7309917536567241E-2,-7.0104018673738722E-2,-0.43642347922550151]
[null,null,null,null,null,null,null,null,null,null,null,null,null,null,null,null,null,142.04404004538713,{"$f":"2*PI()*R250/B56","v":2.0237846380625969E-2},4.095564473221639E-4,1.0613785009010002E-2,-0.24630692767273388,-1.2259370845004725E-3,-0.10192060832311256,-7.4969562646053589E-2,-0.4138092507173905]
[null,null,null,null,null,null,null,null,null,null,null,null,null,null,null,null,null,144.88492084629488,{"$f":"2*PI()*R251/B56","v":2.0642603308238486E-2},4.2610194024301313E-4,1.1038625693011284E-2,-0.19913480967144892,-1.2754616008772146E-3,-0.12355065989245873,-8.0293509331859525E-2,-0.3932158148036331]
[null,null,null,null,null,null,null,null,null,null,null,null,null,null,null,null,null,147.78261926322077,{"$f":"2*PI()*R252/B56","v":2.1055455374403256E-2},4.4331582264548538E-4,1.1480302866861081E-2,-0.15623237061022621,-1.3269866318426082E-3,-0.14244489341564304,-8.6134050921309324E-2,-0.3746579987121601]
[null,null,null,null,null,null,null,null,null,null,null,null,null,null,null,null,null,150.73827164848518,{"$f":"2*PI()*R253/B56","v":2.1476564481891322E-2},4.6122509347234255E-4,1.1939469643458267E-2,-0.11731999926556114,-1.380592975393391E-3,-0.15883377318162673,-9.2558891358876849E-2,-0.35815378713799984]
[null,null,null,null,null,null,null,null,null,null,null,null,null,null,null,null,null,153.75303708145489,{"$f":"2*PI()*R254/B56","v":2.1906095771529147E-2},4.7985784209455233E-4,1.2416803274046373E-2,-8.2127329842307972E-2,-1.4363646918829076E-3,-0.17293353408020096,-9.9647167835350103E-2,-0.34372759317569557]
[null,null,null,null,null,null,null,null,null,null,null,null,null,null,null,null,null,156.82809782308399,{"$f":"2*PI()*R255/B56","v":2.2344217686959732E-2},4.9924329233746198E-4,1.2913005936212585E-2,-5.0394213625025941E-2,-1.494389235660698E-3,-0.18494644231135737,-0.10749183865573286,-0.33141387789156429]
[null,null,null,null,null,null,null,null,null,null,null,null,null,null,null,null,null,159.96465977954568,{"$f":"2*PI()*R256/B56","v":2.2791102040698927E-2},5.1941184828339351E-4,1.3428805538147515E-2,-2.1871457859987231E-2,-1.5547575920198398E-3,-0.19506116386769179,-0.11620267079487689,-0.32126124457642824]
[null,null,null,null,null,null,null,null,null,null,null,null,null,null,null,null,null,163.1639529751366,{"$f":"2*PI()*R257/B56","v":2.3246924081512906E-2},5.403951419222444E-4,1.3964956538341511E-2,3.6786474508971878E-3,-1.61756441966876E-3,-0.20345321780798997,-0.12591000465904045,-0.31333718289746049]
[null,null,null,null,null,null,null,null,null,null,null,null,null,null,null,null,null,166.42723203463933,{"$f":"2*PI()*R258/B56","v":2.3711862563143164E-2},5.6222608272455245E-4,1.4522240779996309E-2,2.6481992746269611E-2,-1.6829081989317984E-3,-0.21028549391223805,-0.13676953458413266,-0.30773370316903659]
[null,null,null,null,null,null,null,null,null,null,null,null,null,null,null,null,null,169.75577667533213,{"$f":"2*PI()*R259/B56","v":2.4186099814406031E-2},5.8493890921447716E-4,1.5101468339171475E-2,4.6752479493250121E-2,-1.7508913859334285E-3,-0.21570881687267729,-0.14896842867663906,-0.30457418910282819]
[null,null,null,null,null,null,null,null,null,null,null,null,null,null,null,null,null,173.15089220883877,{"$f":"2*PI()*R260/B56","v":2.4669821810694149E-2},6.0856924262326034E-4,1.5703478385567848E-2,6.4691995808956904E-2,-1.8216205729881807E-3,-0.21986254164930585,-0.16273323152717012,-0.3040219195549394]
[null,null,null,null,null,null,null,null,null,null,null,null,null,null,null,null,null,176.61391005301556,{"$f":"2*PI()*R261/B56","v":2.5163218246908037E-2},6.3315414270696433E-4,1.6329140054576641E-2,8.0490515575320387E-2,-1.8952066554422942E-3,-0.2228751669459399,-0.17834016434154876,-0.30629088231303392]
[null,null,null,null,null,null,null,null,null,null,null,null,null,null,null,null,null,180.14618825407587,{"$f":"2*PI()*R262/B56","v":2.5666482611846193E-2},6.5873216581565036E-4,1.6979353329002578E-2,9.432630074689996E-2,-1.9717650052539781E-3,-0.22486495590641198,-0.19612868392654548,-0.3116597507623089]
[null,null,null,null,null,null,null,null,null,null,null,null,null,null,null,null,null,183.74911201915739,{"$f":"2*PI()*R263/B56","v":2.617981226408312E-2},6.8534342530466111E-4,1.7655049928897881E-2,0.10636618808300824,-2.0514156515414328E-3,-0.22594055507082089,-0.21651952310809719,-0.32049025581855339]
[null,null,null,null,null,null,null,null,null,null,null,null,null,null,null,null,null,187.42409425954054,{"$f":"2*PI()*R264/B56","v":2.6703408509364781E-2},7.1302965438230334E-4,1.8357194207275995E-2,0.11676594324141831,-2.1342834684237033E-3,-0.22620160435890568,-0.24003897087212778,-0.33325172125076286]
[null,null,null,null,null,null,null,null,null,null,null,null,null,null,null,null,null,191.17257614473135,{"$f":"2*PI()*R265/B56","v":2.7237476679552081E-2},7.4183427149201921E-4,1.9086784049427763E-2,0.12567066696014706,-2.220498370399504E-3,-0.22573933236542842,-0.26735195716719318,-0.35055433689344628]
[null,null,null,null,null,null,null,null,null,null,null,null,null,null,null,null,null,194.99602766762598,{"$f":"2*PI()*R266/B56","v":2.7782226213143118E-2},7.7180244833105721E-4,1.9844851773427763E-2,0.1332152398508768,-2.3101955156112908E-3,-0.22463713256826168,-0.29930774153064021,-0.37319497799020862]
[null,null,null,null,null,null,null,null,null,null,null,null,null,null,null,null,null,198.89594822097851,{"$f":"2*PI()*R267/B56","v":2.8337870737405988E-2},8.029811806117619E-4,2.0632465028533886E-2,0.13952479407787166,-2.4035155172743572E-3,-0.22297111717556106,-0.33700392579756766,-0.40222129938399753]
[null,null,null,null,null,null,null,null,null,null,null,null,null,null,null,null,null,202.8738671853981,{"$f":"2*PI()*R268/B56","v":2.8904628152154103E-2},8.3541936167582449E-4,2.1450727688414162E-2,0.14471520185723818,-2.5006046636262269E-3,-0.22081064629228564,-0.38187755684269575,-0.43902287825295527]
[null,null,null,null,null,null,null,null,null,null,null,null,null,null,null,null,null,206.93134452910607,{"$f":"2*PI()*R269/B56","v":2.9482720715197194E-2},8.6916785907630229E-4,2.230078073534969E-2,0.14889357225750643,-2.6016151467089799E-3,-0.21821883088154692,-0.43583700997525199,-0.48546310301065176]
[null,null,null,null,null,null,null,null,null,null,null,null,null,null,null,null,null,211.06997141968819,{"$f":"2*PI()*R270/B56","v":3.007237512950113E-2},9.0427959424676369E-4,2.3183803131104241E-2,0.15215874919628192,-2.7067053003779762E-3,-0.21525300865454255,-0.50145647636963275,-0.54407363799716713]
[null,null,null,null,null,null,null,null,null,null,null,null,null,null,null,null,null,215.29137084808195,{"$f":"2*PI()*R271/B56","v":3.0673822632091157E-2},9.4080962538174294E-4,2.4101012669909494E-2,0.15460180480049956,-2.8160398478558335E-3,-0.21196519255687463,-0.58226861589731271,-0.61834703083163411]
[null,null,null,null,null,null,null,null,null,null,null,null,null,null,null,null,null,219.5971982650436,{"$f":"2*PI()*R272/B56","v":3.1287299084732982E-2},9.7881523365761719E-4,2.5053666808179997E-2,0.15630652342988327,-2.9297901592642006E-3,-0.20840249194884564,-0.68321471189562999,-0.71318680376567656]
[null,null,null,null,null,null,null,null,null,null,null,null,null,null,null,null,null,223.98914223034447,{"$f":"2*PI()*R273/B56","v":3.1913045066427642E-2},1.0183560129282201E-3,2.6043063465042593E-2,0.1573498726558995,-3.0481345194930398E-3,-0.20460750691442087,-0.81135388983661016,-0.83561659514958198]
[null,null,null,null,null,null,null,null,null,null,null,null,null,null,null,null,null,228.46892507495136,{"$f":"2*PI()*R274/B56","v":3.255130596775619E-2},1.0594939630348527E-3,2.7070541787242774E-2,0.15780245835026818,-3.1712584068390726E-3,-0.20061869639535246,-0.97701006590769168,-0.99592702057237226]
[null,null,null,null,null,null,null,null,null,null,null,null,null,null,null,null,null,233.0383035764504,{"$f":"2*PI()*R275/B56","v":3.3202332087111319E-2},1.1022935868759561E-3,2.8137482871031239E-2,0.15772896177603712,-3.2993547828557013E-3,-0.19647072104125129,-1.1956803701143741,-1.2095840012914127]
[null,null,null,null,null,null,null,null,null,null,null,null,null,null,null,null,null,237.69906964797943,{"$f":"2*PI()*R276/B56","v":3.3866378728853549E-2},1.1468219913874933E-3,2.9245310433001492E-2,0.15718855720131586,-3.4326243938229695E-3,-0.19219476180864348,-1.4913110145671595,-1.5005045331353086]
[null,null,null,null,null,null,null,null,null,null,null,null,null,null,null,null,null,242.45305104093902,{"$f":"2*PI()*R277/B56","v":3.4543706303430621E-2},1.1931489925911505E-3,3.0395491420875942E-2,0.15623530908187178,-3.5712760843473745E-3,-0.18781881543801404,-1.9021178717457587,-1.9068771627653724]
[null,null,null,null,null,null,null,null,null,null,null,null,null,null,null,null,null,247.30211206175781,{"$f":"2*PI()*R278/B56","v":3.5234580429499236E-2},1.241347224873715E-3,3.1589536554292863E-2,0.15491854829446794,-3.7155271235489451E-3,-0.18336796799813726,-2.4913506109862311,-2.4919260212591565]
[null,null,null,null,null,null,null,null,null,null,null,null,null,null,null,null,null,252.24815430299296,{"$f":"2*PI()*R279/B56","v":3.5939272038089221E-2},1.291492254667519E-3,3.2829000784577289E-2,0.15328322725996202,-3.8656035443329628E-3,-0.17886464771739696,-3.3682610685213206,-3.3648790917385112]
[null,null,null,null,null,null,null,null,null,null,null,null,null,null,null,null,null,257.29311738905284,{"$f":"2*PI()*R280/B56","v":3.6658057478851001E-2},1.3436626987086168E-3,3.4115483661388168E-2,0.15137025408310478,-4.0217404962943348E-3,-0.17432885832865708,-4.7324846541008583,-4.7253495151813167]
[null,null,null,null,null,null,null,null,null,null,null,null,null,null,null,null,null,262.43897973683391,{"$f":"2*PI()*R281/B56","v":3.7391218628428029E-2},1.3979403470563982E-3,3.5450629592677529E-2,0.14921680606376952,-4.184182612774201E-3,-0.16977839414326468,-6.9846875293511914,-6.9739826704507832]
[null,null,null,null,null,null,null,null,null,null,null,null,null,null,null,null,null,267.68775933157059,{"$f":"2*PI()*R282/B56","v":3.8139043000996589E-2},1.4544102910656713E-3,3.6836127983239209E-2,0.14685662311267578,-4.3531843926318814E-3,-0.16522903804359856,-11.116888235595482,-11.102777706935797]
[null,null,null,null,null,null,null,null,null,null,null,null,null,null,null,null,null,273.04151451820201,{"$f":"2*PI()*R283/B56","v":3.8901823861016524E-2},1.513161056509847E-3,3.8273713235387419E-2,0.14432028173830247,-4.5290105973476713E-3,-0.16069474354793556,-21.693881313298945,-21.676511072470539]
[null,null,null,null,null,null,null,null,null,null,null,null,null,null,null,null,null,278.50234480856608,{"$f":"2*PI()*R284/B56","v":3.9679860338236853E-2},1.5742847420617649E-3,3.9765164593703162E-2,0.14163545037025926,-4.7119366640124838E-3,-0.15618780205707594,-17.231408467430981,-17.210907591188107]
[null,null,null,null,null,null,null,null,null,null,null,null,null,null,null,null,null,284.07239170473741,{"$f":"2*PI()*R285/B56","v":4.047345754500159E-2},1.6378771633469246E-3,4.1312305814049211E-2,0.13882712685240506,-4.9022491348980068E-3,-0.15171899634268726,-9.6610896569271745,-9.6375714697383046]
[null,null,null,null,null,null,null,null,null,null,null,null,null,null,null,null,null,289.75383953883215,{"$f":"2*PI()*R286/B56","v":4.1282926695901626E-2},1.7040380027924047E-3,4.2917004634833944E-2,0.13591785898230313,-5.1002461042095604E-3,-0.14729774128498718,-6.2293145866063355,{"$f":"U286+V286+W286+X286+Y286","v":-6.2028777103783952}]
[null,null,null,null,null,null,null,null,null,null,null,null,null,null,null,null,null,295.5489163296088,{"$f":"2*PI()*R287/B56","v":4.2108585229819653E-2},1.772870965503644E-3,4.4581172026482818E-2,0.13292794899670213,-5.3062376827517355E-3,-0.14293221281204893,-4.2855526722800477,-4.2562820017516634]
[null,null,null,null,null,null,null,null,null,null,null,null,null,null,null,null,null,301.45989465620096,{"$f":"2*PI()*R288/B56","v":4.2950756934416051E-2},1.8444839414104635E-3,4.6306761192603574E-2,0.12987564290953912,-5.520546481168509E-3,-0.138629465937953,-3.0855478406711825,-3.0535154489881613]
[null,null,null,null,null,null,null,null,null,null,null,null,null,null,null,null,null,307.48909254932499,{"$f":"2*PI()*R289/B56","v":4.3809772073104374E-2},1.9189891739332702E-3,4.8095766293620557E-2,0.12677730560264422,-5.743508112536766E-3,-0.13439554274163612,-2.3038209541377057,-2.2690869330956138]
[null,null,null,null,null,null,null,null,null,null,null,null,null,null,null,null,null,313.63887440031152,{"$f":"2*PI()*R290/B56","v":4.4685967514566466E-2},1.996503435430372E-3,4.9950220860953465E-2,0.12364758255378661,-5.975471715056635E-3,-0.13023557107388228,-1.77279954437725,-1.7354127837514488]
[null,null,null,null,null,null,null,null,null,null,null,null,null,null,null,null,null,319.91165188831775,{"$f":"2*PI()*R291/B56","v":4.5579686864857791E-2},2.0771482096976061E-3,5.1872195866362603E-2,0.12049954906156302,-6.2168004956273393E-3,-0.12615385472756202,-1.3991215603626799,-1.3591204706579436]
[null,null,null,null,null,null,null,null,null,null,null,null,null,null,null,null,null,326.30988492608412,{"$f":"2*PI()*R292/B56","v":4.6491280602154954E-2},2.1610498818022874E-3,5.3863797407991854E-2,0.1173448477982717,-6.4678722951576617E-3,-0.12215395575489651,-1.1280401386150487,-1.0854533214588393]
[null,null,null,null,null,null,null,null,null,null,null,null,null,null,null,null,null,332.83608262460581,{"$f":"2*PI()*R293/B56","v":4.7421106214198046E-2},2.2483399355445518E-3,5.5927163970483917E-2,0.1141938154869564,-6.7290801764388064E-3,-0.11823876956733415,-0.92612315890876573,-0.88097002919509837]
[null,null,null,null,null,null,null,null,null,null,null,null,null,null,null,null,null,339.49280427709795,{"$f":"2*PI()*R294/B56","v":4.8369528338482015E-2},2.3391551588508438E-3,5.8064463212687656E-2,0.11105559946288679,-7.0008330354971449E-3,-0.11441059340715753,-0.77222492900305895,-0.72451629277013918]
[null,null,null,null,null,null,null,null,null,null,null,null,null,null,null,null,null,346.28266036263989,{"$f":"2*PI()*R295/B56","v":4.9336918905251652E-2},2.4336378574162138E-3,6.0277888231791366E-2,0.10793826484102453,-7.2835562373221308E-3,-0.11067118873609871,-0.65254556226432214,-0.60228415416492709]
[null,null,null,null,null,null,null,null,null,null,null,null,null,null,null,null,null,353.20831356989271,{"$f":"2*PI()*R296/B56","v":5.0323657283356686E-2},2.5319360769246999E-3,6.2569653247880552E-2,0.10484889297225664,-7.5776922769525967E-3,-0.10702183804535537,-0.55782230709458247,-0.50500329119675325]
[null,null,null,null,null,null,null,null,null,null,null,null,null,null,null,null,null,360.27247984129059,{"$f":"2*PI()*R297/B56","v":5.1330130429023825E-2},2.6342038341899145E-3,6.4941988647312598E-2,0.10179367183132371,-7.8837014669046468E-3,-0.10346339655231418,-0.48167855551992744,-0.42628999306050996]
[null,null,null,null,null,null,null,null,null,null,null,null,null,null,null,null,null,367.4779294381164,{"$f":"2*PI()*R298/B56","v":5.2356733037604304E-2},2.7406013575715159E-3,6.7397135317612822E-2,9.8777978941178901E-2,-8.2020626519714313E-3,-9.9996339213134888E-2,-0.41962345609069018,-0.36164674369700478]
[null,null,null,null,null,null,null,null,null,null,null,null,null,null,null,null,null,374.82748802687871,{"$f":"2*PI()*R299/B56","v":5.3403867698356387E-2},2.851295337037177E-3,6.9937338200045218E-2,9.5806457399866929E-2,-8.5332739524686119E-3,-9.662080344688917E-2,-0.36842866258150764,-0.30783894438095327]
[null,null,null,null,null,null,null,null,null,null,null,null,null,null,null,null,null,382.32403778741627,{"$f":"2*PI()*R300/B56","v":5.4471945052323514E-2},2.9664591842541756E-3,7.2564838978735224E-2,9.2883085539455124E-2,-8.8778535370463985E-3,-9.3336627934945682E-2,-0.32573001150615255,-0.26249656845995428]
[null,null,null,null,null,null,null,null,null,null,null,null,null,null,null,null,null,389.97051854316459,{"$f":"2*PI()*R301/B56","v":5.5561383953369979E-2},3.0862733031098055E-3,7.5281867817935222E-2,9.0011240711000085E-2,-9.2363404262068016E-3,-9.0143387830458721E-2,-0.28976692592225817,-0.22385354564998838]
[null,null,null,null,null,null,null,null,null,null,null,null,null,null,null,null,null,397.7699289140279,{"$f":"2*PI()*R302/B56","v":5.6672611632437385E-2},3.2109253710754394E-3,7.8090634050035135E-2,8.719375765532078E-2,-9.6092953277207016E-3,-8.7040426685646821E-2,-0.25920822582129688,-0.19057355612930849]
[null,null,null,null,null,null,null,null,null,null,null,null,null,null,null,null,null,405.72532749230845,{"$f":"2*PI()*R303/B56","v":5.7806063865086126E-2},3.3406106318452761E-3,8.0993315708219882E-2,8.4432981887090364E-2,-9.9973015052121639E-3,-8.4026885379202554E-2,-0.23303337930669699,-0.16163126859580146]
[null,null,null,null,null,null,null,null,null,null,null,null,null,null,null,null,null,413.83983404215462,{"$f":"2*PI()*R304/B56","v":5.8962185142387852E-2},3.4755321996976936E-3,8.3992047787237567E-2,8.1730818489376134E-2,-1.0400965681160557E-2,-8.1101728303352161E-2,-0.21045007141051286,-0.13622989911841188]
[null,null,null,null,null,null,null,null,null,null,null,null,null,null,null,null,null,422.11663072299774,{"$f":"2*PI()*R305/B56","v":6.0141428845235614E-2},3.615901376044521E-3,8.7088909104927836E-2,7.9088776686120354E-2,-1.0820918975666949E-2,-7.8263767048369459E-2,-0.19083602356142393,-0.11374302379441215]
[null,null,null,null,null,null,null,null,null,null,null,null,null,null,null,null,null,430.55896333745773,{"$f":"2*PI()*R306/B56","v":6.1344257422140329E-2},3.7619379786517338E-3,9.0285907625077044E-2,7.650801053355849E-2,-1.1257817882387222E-2,-7.5511681802737485E-2,-0.17369729530719269,-9.3672876833681862E-2]
[null,null,null,null,null,null,null,null,null,null,null,null,null,null,null,null,null,439.17014260420689,{"$f":"2*PI()*R307/B56","v":6.2571142570583133E-2},3.9138706840338355E-3,9.358496408933803E-2,7.3989356045622401E-2,-1.1712345283019232E-2,-7.2844040668911703E-2,-0.15863797337842556,-7.562003919539606E-2]
[null,null,null,null,null,null,null,null,null,null,null,null,null,null,null,null,null,447.95354545629101,{"$f":"2*PI()*R308/B56","v":6.3822565421994798E-2},4.0719373835437162E-3,9.698789379117656E-2,{"$f":"10*LOG10(($G$121+$G$122+$G$123)^2 + ( $G$121*$G$123*$T308 - ($G$122*($G$121+$G$123) + 4*$G$121*$G$123) )*$T308 )  - 10*LOG10( (1+$G$124+$G$125)^2 + ( 1*$G$125*$T308 - ($G$124*(1+$G$125) + 4*1*$G$125) )*$T308)","v":7.1533365044246011E-2},{"$f":"10*LOG10(($G$126+$G$127+$G$128)^2 + ( $G$126*$G$128*$T308 - ($G$127*($G$126+$G$128) + 4*$G$126*$G$128) )*$T308 )  - 10*LOG10( (1+$G$129+$G$130)^2 + ( 1*$G$130*$T308 - ($G$129*(1+$G$130) + 4*1*$G$130) )*$T308)","v":-1.218521150187879E-2},{"$f":"10*LOG10(($G$131+$G$132+$G$133)^2 + ( $G$131*$G$133*$T308 - ($G$132*($G$131+$G$133) + 4*$G$131*$G$133) )*$T308 )  - 10*LOG10( (1+$G$134+$G$135)^2 + ( 1*$G$135*$T308 - ($G$134*(1+$G$135) + 4*1*$G$135) )*$T308)","v":-7.0259317077947969E-2},{"$f":"10*LOG10(($G$136+$G$137+$G$138)^2 + ( $G$136*$G$138*$T308 - ($G$137*($G$136+$G$138) + 4*$G$136*$G$138) )*$T308 )  - 10*LOG10( (1+$G$139+$G$140)^2 + ( 1*$G$140*$T308 - ($G$139*(1+$G$140) + 4*1*$G$140) )*$T308)","v":-0.14533784837638564},-5.9261118120789824E-2]
[null,null,null,null,null,null,null,null,null,null,null,null,null,null,null,null,null,456.91261636541685,{"$f":"2*PI()*R309/B56","v":6.5099016730434694E-2},{"$f":"4*(SIN(S309/2))^2","v":4.2363855536999284E-3},{"$f":"10*LOG10(($G$116+$G$117+$G$118)^2 + ( $G$116*$G$118*T309 - ($G$117*($G$116+$G$118) + 4*$G$116*$G$118) )*T309 )  - 10*LOG10( (1+$G$119+$G$120)^2 + ( 1*$G$120*T309 - ($G$119*(1+$G$120) + 4*1*$G$120) )*T309)","v":0.10049638630997038},6.9140336003883363E-2,-1.2677155402053053E-2,-6.7755905470725963E-2,-0.13353577380140536,-4.4332112360330633E-2]
[null,null,null,null,null,null,null,null,null,null,null,null,null,null,null,null,null,466.0508686927252,{"$f":"2*PI()*R310/B56","v":6.6400997065043391E-2},4.4074726413144217E-3,0.10411198300586477,6.6810342137863188E-2,-1.3188945524754025E-2,-6.5332135399437163E-2,-0.12301712070332371,-3.0615876483786941E-2]
[null,null,null,null,null,null,null,null,null,null,null,null,null,null,null,null,null,475.37188606657969,{"$f":"2*PI()*R311/B56","v":6.7729017006344247E-2},4.5854664640053479E-3,0.10783605205797997,6.4543256955445827E-2,-1.3721381273507305E-2,-6.2986284189946673E-2,-0.11360422048946361,-1.7932576939491796E-2]
[null,null,null,null,null,null,null,null,null,null,null,null,null,null,null,null,null,484.87932378791129,{"$f":"2*PI()*R312/B56","v":6.908359734647114E-2},4.7706456267022209E-3,0.11166976080841451,6.2338777500372089E-2,-1.4275294144884931E-2,-6.0716588293900031E-2,-0.10514901279991307,-6.1323569299114311E-3]
[null,null,null,null,null,null,null,null,null,null,null,null,null,null,null,null,null,494.5769102636695,{"$f":"2*PI()*R313/B56","v":7.0465269293400565E-2},4.9632999547739682E-3,0.1156140451527925,6.0196445464654857E-2,-1.4851549007516951E-2,-5.8521253447899824E-2,-9.7527337947120429E-2,4.910350214910153E-3]
[null,null,null,null,null,null,null,null,null,null,null,null,null,null,null,null,null,504.46844846894288,{"$f":"2*PI()*R314/B56","v":7.1874574679268569E-2},5.163730944434698E-3,0.11966957569452674,5.8115666356428619E-2,-1.5451045431268184E-2,-5.6398463747903804E-2,-9.0634468137437807E-2,1.5301264734345565E-2]
[null,null,null,null,null,null,null,null,null,null,null,null,null,null,null,null,null,514.55781743832176,{"$f":"2*PI()*R315/B56","v":7.3312066172853949E-2},5.3722522311069869E-3,0.12383672035443638,5.6095726886027819E-2,-1.6074719068381427E-2,-5.4346389736828371E-2,-8.4381580548551938E-2,2.5129757886702464E-2]
[null,null,null,null,null,null,null,null,null,null,null,null,null,null,null,null,null,524.8489737870882,{"$f":"2*PI()*R316/B56","v":7.4778307496311022E-2},5.5891900764485358E-3,0.12811550309969988,5.4135810721291477E-2,-1.6723543088615678E-2,-5.2363195595830803E-2,-7.8692952799073623E-2,3.4471622337471253E-2]
[null,null,null,null,null,null,null,null,null,null,null,null,null,null,null,null,null,535.34595326282999,{"$f":"2*PI()*R317/B56","v":7.627387364623725E-2},5.8148838747749051E-3,0.13250555842626,5.2235012751005172E-2,-1.7398529670319185E-2,-5.0447045521018197E-2,-7.3503717061058182E-2,4.3391278924869603E-2]
[null,null,null,null,null,null,null,null,null,null,null,null,null,null,null,null,null,546.05287232808655,{"$f":"2*PI()*R318/B56","v":7.7799351119161989E-2},6.0496866796388906E-3,0.13700608119646063,5.0392351983880701E-2,-1.8100731549571591E-2,-4.8596109361184858E-2,-6.875804954641751E-2,5.1943542723167369E-2]
[null,null,null,null,null,null,null,null,null,null,null,null,null,null,null,null,null,556.97392977464824,{"$f":"2*PI()*R319/B56","v":7.9355338141545231E-2},6.2939657513559743E-3,0.14161577139902803,4.8606783200462189E-2,-1.8831243629496619E-2,-4.6808567584925242E-2,-6.4407701787850158E-2,6.0175041597218204E-2]
[null,null,null,null,null,null,null,null,null,null,null,null,null,null,null,null,null,568.1134083701412,{"$f":"2*PI()*R320/B56","v":8.0942444904376132E-2},6.5481031262950243E-3,0.14633277336123385,4.687720746530033E-2,-1.9591204651983496E-2,-4.5082615640062329E-2,-6.0410802109679196E-2,{"$f":"U320+V320+W320+X320+Y320","v":6.8125358424809157E-2}]
[null,null,null,null,null,null,null,null,null,null,null,null,null,null,null,null,null,579.47567653754402,{"$f":"2*PI()*R321/B56","v":8.2561293802463645E-2},6.812496208784458E-3,0.1511546089028819,4.5202481598174415E-2,-2.0381798934070439E-2,-4.341646776232011E-2,-5.6730872084841621E-2,7.5827951719824149E-2]
[null,null,null,null,null,null,null,null,null,null,null,null,null,null,null,null,null,591.0651900682949,{"$f":"2*PI()*R322/B56","v":8.4212519678512926E-2},7.0875583865158643E-3,0.15607810387914967,4.3581426695126879E-2,-2.1204258171365176E-2,-4.180836028596957E-2,-5.333601511642172E-2,8.3310897000520079E-2]
[null,null,null,null,null,null,null,null,null,null,null,null,null,null,null,null,null,602.88649386966085,{"$f":"2*PI()*R323/B56","v":8.5896770072083198E-2},7.3737196703602074E-3,0.1610993075136733,4.2012835782088587E-2,-2.2059863310883721E-2,-4.0256554503656616E-2,-5.0198243638519102E-2,9.0597481842702443E-2]
[null,null,null,null,null,null,null,null,null,null,null,null,null,null,null,null,null,614.94422374705402,{"$f":"2*PI()*R324/B56","v":8.7614705473524845E-2},7.6714273595458763E-3,0.16621340387495209,4.0495480677648743E-2,-2.2949946495824491E-2,-3.8759339119373237E-2,-4.7292918578527576E-2,9.7706680358875531E-2]
[null,null,null,null,null,null,null,null,null,null,null,null,null,null,null,null,null,627.24310822199516,{"$f":"2*PI()*R325/B56","v":8.9366999582995363E-2},7.9811467331832031E-3,0.17141461479790721,3.9028118134666556E-2,-2.3875893084804645E-2,-3.7315032333879117E-2,-4.4598280217634567E-2,0.10465352729625543]
[null,null,null,null,null,null,null,null,null,null,null,null,null,null,null,null,null,639.78797038643506,{"$f":"2*PI()*R326/B56","v":9.1154339574655269E-2},8.3033617691563588E-3,0.17669609349893634,3.7609495324744557E-2,-2.4839143748198289E-2,-3.5921983599109808E-2,-4.2095053840832009E-2,0.11144940763554079]
[null,null,null,null,null,null,null,null,null,null,null,null,null,null,null,null,null,652.58372979416379,{"$f":"2*PI()*R327/B56","v":9.2977426366148377E-2},8.6385758914415706E-3,0.18204980807659155,3.6238354724460464E-2,-2.5841196644249109E-2,-3.4578575074320383E-2,-3.9766116880940672E-2,0.11810227420154185]
[null,null,null,null,null,null,null,null,null,null,null,null,null,null,null,null,null,665.63540439004703,{"$f":"2*PI()*R328/B56","v":9.4836974893471329E-2},8.9873127469491457E-3,0.18746641403182451,3.4913438456925405E-2,-2.6883609677740061E-2,-3.3283222814198155E-2,-3.759621685710357E-2,0.12461680313970813]
[null,null,null,null,null,null,null,null,null,null,null,null,null,null,null,null,null,678.94811247784799,{"$f":"2*PI()*R329/B56","v":9.673371439134075E-2},9.3501170130272527E-3,0.19293511488220361,3.3633492138008592E-2,-2.796800284399481E-2,-3.2034377716264828E-2,-3.5571731454886901E-2,0.13099449500506566]
[null,null,null,null,null,null,null,null,null,null,null,null,null,null,null,null,null,692.52707472740497,{"$f":"2*PI()*R330/B56","v":9.8668388679167579E-2},9.7275552368066981E-3,0.1984435098837416,3.239726827241185E-2,-2.9096060661144563E-2,-3.0830526252529467E-2,-3.3680463715107578E-2,0.13723372752737184]
[null,null,null,null,null,null,null,null,null,null,null,null,null,null,null,null,null,706.37761622195308,{"$f":"2*PI()*R331/B56","v":0.10064175645275093},1.0120216707608752E-2,0.20397742781334927,3.120352924073444E-2,-3.0269534693553979E-2,-2.9670191008079883E-2,-3.1911466590365478E-2,0.14332976476208437]
[null,null,null,null,null,null,null,null,null,null,null,null,null,null,null,null,null,720.50516854639216,{"$f":"2*PI()*R332/B56","v":0.10265459158180595},1.0528714363682221E-2,0.20952074570521972,3.0051049915478245E-2,-3.1490246169449065E-2,-2.8551931047367418E-2,-3.0254892161380553E-2,0.14927472624250093]
[null,null,null,null,null,null,null,null,null,null,null,null,null,null,null,null,null,734.91527191731996,{"$f":"2*PI()*R333/B56","v":0.10470768341344205},1.0953685734581262E-2,0.21505519137747342,2.8938619940440446E-2,-3.2760088695746425E-2,-2.747434212685107E-2,-2.8701861636037052E-2,0.15505751885927932]
[null,null,null,null,null,null,null,null,null,null,null,null,null,null,null,null,null,749.61357735566639,{"$f":"2*PI()*R334/B56","v":0.10680183708171091},1.1395793920542385E-2,0.22056012853245832,2.7865045705198099E-2,-3.408103107321736E-2,-2.6436056771125038E-2,-2.7244352925919202E-2,0.16066373346739482]
[null,null,null,null,null,null,null,null,null,null,null,null,null,null,null,null,null,764.60584890277971,{"$f":"2*PI()*R335/B56","v":0.10893787382334512},1.1855728610267145E-2,0.22601232316783282,2.6829152043603699E-2,-3.5455120215095448E-2,-2.5435744228140322E-2,-2.5875103139661348E-2,0.1660755076285394]
[null,null,null,null,null,null,null,null,null,null,null,null,null,null,null,null,null,779.89796588083527,{"$f":"2*PI()*R336/B56","v":0.11111663129981203},1.2334207138566783E-2,0.23138568999886644,2.5829783682681295E-2,-3.688448417229484E-2,-2.4472110317447004E-2,-2.4587523776595788E-2,0.1712713554152101]
[null,null,null,null,null,null,null,null,null,null,null,null,null,null,null,null,null,795.49592519845203,{"$f":"2*PI()*R337/B56","v":0.11333896392580826},1.2831975585375804E-2,0.23665101756813556,2.4865806466173979E-2,-3.8371335268434059E-2,-2.3543897184360674E-2,-2.3375626767261792E-2,0.17622596481425301]
[null,null,null,null,null,null,null,null,null,null,null,null,null,null,null,null,null,811.40584370242107,{"$f":"2*PI()*R338/B56","v":0.11560574320432444},1.3349809917694218E-2,0.24177567071164319,2.3936108374741139E-2,-3.9917973347852076E-2,-2.2649882971606417E-2,-2.2233959806030157E-2,0.18090996296089568]
[null,null,null,null,null,null,null,null,null,null,null,null,null,null,null,null,null,827.63396057646946,{"$f":"2*PI()*R339/B56","v":0.11791785806841092},1.3888517176071714E-2,0.24672326906530628,2.3039600362970702E-2,-4.1526789139798126E-2,-2.178888141892088E-2,-2.1157549666853015E-2,0.18528964920270496]
[null,null,null,null,null,null,null,null,null,null,null,null,null,null,null,null,null,844.18663978799884,{"$f":"2*PI()*R340/B56","v":0.12027621522977915},1.4448936707302528E-2,0.25145334033827993,2.2175217031694672E-2,-4.3200267742015797E-2,-2.095974140021184E-2,-2.01418523967547E-2,0.18932669583099226]
[null,null,null,null,null,null,null,null,null,null,null,null,null,null,null,null,null,861.07037258375885,{"$f":"2*PI()*R341/B56","v":0.12268173953437472},1.5031941445056258E-2,0.25592094715695168,2.134191715219913E-2,-4.4940992226818466E-2,-2.0161346406702307E-2,-1.9182709450802804E-2,0.19297781622482724]
[null,null,null,null,null,null,null,null,null,null,null,null,null,null,null,null,null,878.29178003543404,{"$f":"2*PI()*R342/B56","v":0.12513537432506222},1.563843924022815E-2,0.26007628640461888,2.0538684057967771E-2,-4.6751647372773597E-2,-1.9392613984045681E-2,-1.8276308973099731E-2,0.19619440013266765]
[null,null,null,null,null,null,null,null,null,null,null,null,null,null,null,null,null,895.85761563614278,{"$f":"2*PI()*R343/B56","v":0.12763808181156347},1.6269374242851766E-2,0.26386426015477937,1.976452591750899E-2,-4.8635023525027243E-2,-1.8652495130218938E-2,-1.7419151545894351E-2,0.19892211587114783]
[null,null,null,null,null,null,null,null,null,null,null,null,null,null,null,null,null,913.7747679488657,{"$f":"2*PI()*R344/B56","v":0.13019084344779475},1.6925728337477804E-2,0.2672240175338132,1.9018475901432907E-2,-5.0594020587149124E-2,-1.7939973660702435E-2,-1.6608019827728526E-2,0.20110047935966602]
[null,null,null,null,null,null,null,null,null,null,null,null,null,null,null,null,null,932.05026330784301,{"$f":"2*PI()*R345/B56","v":0.13279466031675063},1.7608522633985151E-2,0.27008846716236334,1.8299592254948038E-2,-5.2631652147325347E-2,-1.7254065546524089E-2,-1.5839951584588619E-2,0.20266239013887333]
[null,null,null,null,null,null,null,null,null,null,null,null,null,null,null,null,null,950.69126857399988,{"$f":"2*PI()*R346/B56","v":0.13545055352308569},1.8318819015853766E-2,0.2723837602292285,1.7606958286620511E-2,-5.475104974149847E-2,-1.6593818230269619E-2,-1.5112215687757669E-2,0.20353363485632325]
[null,null,null,null,null,null,null,null,null,null,null,null,null,null,null,null,null,969.70509394547992,{"$f":"2*PI()*R347/B56","v":0.13815956459354739},1.9057721747993601E-2,0.27402874476268124,1.6939682282867352E-2,-5.6955467255891179E-2,-1.5958309924862135E-2,-1.442229071155765E-2,0.20363235915323763]
[null,null,null,null,null,null,null,null,null,null,null,null,null,null,null,null,null,989.09919582438954,{"$f":"2*PI()*R348/B56","v":0.14092275588541833},1.982637914629027E-2,0.27493439229821348,1.6296897356923523E-2,-5.9248285471072748E-2,-1.5346648898884041E-2,-1.3767845814335544E-2,0.20286850947084467]
[null,null,null,null,null,null,null,null,null,null,null,null,null,null,null,null,null,1008.8811797408773,{"$f":"2*PI()*R349/B56","v":0.1437412110031267},2.0625985311094615E-2,0.27500319891820268,1.5677761240148413E-2,-6.1633016749468972E-2,-1.4757972752541093E-2,-1.3146723628409518E-2,0.20114324702793152]
[null,null,null,null,null,null,null,null,null,null,null,null,null,null,null,null,null,1029.0588033356948,{"$f":"2*PI()*R350/B56","v":0.14661603522318925},2.1457781926952333E-2,0.2741285635763191,1.5081456023025908E-2,-6.4113309867813051E-2,-1.4191447687181835E-2,-1.2556924921668156E-2,0.19834833712268196]
[null,null,null,null,null,null,null,null,null,null,null,null,null,null,null,null,null,1049.6399794024087,{"$f":"2*PI()*R351/B56","v":0.14954835592765303},2.2323060130938484E-2,0.27219414773628969,1.4507187852125014E-2,-6.6692954995676956E-2,-1.364626777159117E-2,-1.1996594824211115E-2,0.19436551799693547]
[null,null,null,null,null,null,null,null,null,null,null,null,null,null,null,null,null,1070.6327789904569,{"$f":"2*PI()*R352/B56","v":0.15253932304620607},2.3223162452032202E-2,0.26907322167053138,1.3954186589209883E-2,-6.9375888820667697E-2,-1.3121654207495226E-2,-1.1464010440029426E-2,0.18906585479154892]
[null,null,null,null,null,null,null,null,null,null,null,null,null,null,null,null,null,1092.045434570266,{"$f":"2*PI()*R353/B56","v":0.1555901095071302},2.4159484824037427E-2,0.26462800429317568,1.3421705437636433E-2,-7.2166199820325794E-2,-1.2616854596707583E-2,-1.0957569687107593E-2,0.18230908562667114]
[null,null,null,null,null,null,null,null,null,null,null,null,null,null,null,null,null,1113.8863432616713,{"$f":"2*PI()*R354/B56","v":0.1587019116972728},2.5133478674627292E-2,0.25870900515759132,1.2909020540966765E-2,-7.5068133680122884E-2,-1.2131142211813994E-2,-1.0475781228343806E-2,0.1739429685782774]
[null,null,null,null,null,null,null,null,null,null,null,null,null,null,null,null,null,1136.1640701269048,{"$f":"2*PI()*R355/B56","v":0.16187594993121826},2.6146653093161686E-2,0.25115437923567896,1.2415430558114338E-2,-7.8086098856084973E-2,-1.1663815272360267E-2,-1.0017255373334422E-2,0.16380264029201363]
[null,null,null,null,null,null,null,null,null,null,null,null,null,null,null,null,null,1158.8873515294429,{"$f":"2*PI()*R356/B56","v":0.16511346892984263},2.7200577079999566E-2,0.24178930731145698,1.1940256219091339E-2,-8.1224672279764043E-2,-1.1214196227975037E-2,-9.5806958452371305E-3,0.15170999917757211]
[null,null,null,null,null,null,null,null,null,null,null,null,null,null,null,null,null,1182.0650985600319,{"$f":"2*PI()*R357/B56","v":0.16841573830843948},2.8296881880100291E-2,0.23042541724950638,1.1482839864726202E-2,-8.4488605202159839E-2,-1.0781631049919582E-2,-9.1648923199976196E-3,0.13747312854215554]
[null,null,null,null,null,null,null,null,null,null,null,null,null,null,null,null,null,1205.7064005312325,{"$f":"2*PI()*R358/B56","v":0.17178405307460828},2.943726340378014E-2,0.21686026400740133,1.1042544973719259E-2,-8.7882829172029275E-2,-1.0365488532112721E-2,-8.7687136561420687E-3,0.12088577762083652]
[null,null,null,null,null,null,null,null,null,null,null,null,null,null,null,null,null,1229.8205285418571,{"$f":"2*PI()*R359/B56","v":0.17521973413610042},3.0623484737562153E-2,0.20087688899777945,1.0618755679725922E-2,-9.1412462142619333E-2,-9.9651596027996447E-3,-8.3911017428484058E-3,0.10172692118923798]
[null,null,null,null,null,null,null,null,null,null,null,null,null,null,null,null,null,1254.4169391126943,{"$f":"2*PI()*R360/B56","v":0.17872412881882246},3.1857378748128801E-2,0.1822434821924972,1.0210876281256276E-2,-9.5082814699269491E-2,-9.5800566476818005E-3,-8.0310659026281428E-3,7.9760421224174038E-2]
[null,null,null,null,null,null,null,null,null,null,null,null,null,null,null,null,null,1279.5052778949482,{"$f":"2*PI()*R361/B56","v":0.1822986113951989},3.3140850782456571E-2,0.16071317309072342,9.8183307464907443E-3,-9.8899396398502759E-2,-9.2096128451650827E-3,-7.6876777919601125E-3,5.4734816801586206E-2]
[null,null,null,null,null,null,null,null,null,null,null,null,null,null,null,null,null,1305.0953834528473,{"$f":"2*PI()*R362/B56","v":0.1859445836231029},3.4475881467281456E-2,0.13602397920387688,9.4405622151683133E-3,-0.10286792220716023,-8.8532815145470067E-3,-7.3600667499249539E-3,2.6383270947412996E-2]
[null,null,null,null,null,null,null,null,null,null,null,null,null,null,null,null,null,1331.1972911219043,{"$f":"2*PI()*R363/B56","v":0.18966347529556499},3.5864529611110273E-2,0.10789894286494572,9.07703249939118E-3,-0.10699431902770051,-8.51053547740932E-3,-7.047415550083258E-3,-5.5762946908561872E-3]
[null,null,null,null,null,null,null,null,null,null,null,null,null,null,null,null,null,1357.8212369443424,{"$f":"2*PI()*R364/B56","v":0.19345674480147629},3.7308935212058705E-2,7.6046488733297224E-2,8.7272215849303336E-3,-0.11128473229307634,-8.1808664328342218E-3,-6.7489565162475174E-3,-4.144084492393052E-2]
[null,null,null,null,null,null,null,null,null,null,null,null,null,null,null,null,null,1384.9776616832294,{"$f":"2*PI()*R365/B56","v":0.19732587969750584},3.8811322574859114E-2,4.0161035087717067E-2,8.390627134449602E-3,-0.11574553261152154,-7.863784346636038E-3,-6.4639679666846916E-3,-8.15216227026756E-2]
[null,null,null,null,null,null,null,null,null,null,null,null,null,null,null,null,null,1412.6772149168939,{"$f":"2*PI()*R366/B56","v":0.20127239729145593},4.0374003540439893E-2,-7.6108397475849188E-5,8.066763994008852E-3,-0.12038332243792116,-7.5588168549316492E-3,-6.1917709553220845E-3,-0.12614325465164189]
[null,null,null,null,null,null,null,null,null,null,null,null,null,null,null,null,null,1440.9307592152318,{"$f":"2*PI()*R367/B56","v":0.20529784523728503},4.1999380831534788E-2,-4.4995525513009227E-2,7.7551637038340004E-3,-0.1252049427444959,-7.2655086821420412E-3,-5.9317262817621952E-3,-0.17564253951757536]
[null,null,null,null,null,null,null,null,null,null,null,null,null,null,null,null,null,1469.7493743995365,{"$f":"2*PI()*R368/B56","v":0.20940380214203075},4.3689951517830387E-2,-9.4938133655880108E-2,7.4553740144622793E-3,-0.13021747965880248,-6.9834210736203772E-3,-5.6832317450883352E-3,-0.23036689211892902]
[null,null,null,null,null,null,null,null,null,null,null,null,null,null,null,null,null,1499.1443618875271,{"$f":"2*PI()*R369/B56","v":0.21359187818487135},4.5448310604207481E-2,-0.15025325739954809,7.1669584090159333E-3,-0.13542827103183264,-6.7121312429030411E-3,-5.4457196186881163E-3,-0.29067242088395595]
[null,null,null,null,null,null,null,null,null,null,null,null,null,null,null,null,null,1529.1272491252778,{"$f":"2*PI()*R370/B56","v":0.2178637157485688},4.727715474567127E-2,-0.21129632133507315,6.8894956323966028E-3,-0.14084491289294299,-6.4512318335907537E-3,-5.2186543260361873E-3,-0.35692162475524647]
[null,null,null,null,null,null,null,null,null,null,null,null,null,null,null,null,null,1559.7097941077834,{"$f":"2*PI()*R371/B56","v":0.22222099006354021},4.9179286092599646E-2,-0.27842615802669357,6.6225792279794859E-3,-0.14647526574150405,-6.2003303958704237E-3,-5.0015302992392208E-3,-0.42948070523532778]
[null,null,null,null,null,null,null,null,null,null,null,null,null,null,null,null,null,1590.9039899899392,{"$f":"2*PI()*R372/B56","v":0.22666540986481101},5.1157616269964339E-2,-0.35200193921521006,6.3658170823686078E-3,-0.15232746061736169,-5.9590488775000949E-3,-4.7938700038194781E-3,{"$f":"U372+V372+W372+X372+Y372","v":-0.50871650163152271}]
[null,null,null,null,null,null,null,null,null,null,null,null,null,null,null,null,null,1622.722069789738,{"$f":"2*PI()*R373/B56","v":0.23119871806210723},{"$f":"4*(SIN(S373/2))^2","v":5.3215170494197626E-2},{"$f":"10*LOG10(($G$116+$G$117+$G$118)^2 + ( $G$116*$G$118*T373 - ($G$117*($G$116+$G$118) + 4*$G$116*$G$118) )*T373 )  - 10*LOG10( (1+$G$119+$G$120)^2 + ( 1*$G$120*T373 - ($G$119*(1+$G$120) + 4*1*$G$120) )*T373)","v":-0.4323797527899309},{"$f":"10*LOG10(($G$121+$G$122+$G$123)^2 + ( $G$121*$G$123*$T373 - ($G$122*($G$121+$G$123) + 4*$G$121*$G$123) )*$T373 )  - 10*LOG10( (1+$G$124+$G$125)^2 + ( 1*$G$125*$T373 - ($G$124*(1+$G$125) + 4*1*$G$125) )*$T373)","v":6.1188309787283401E-3},{"$f":"10*LOG10(($G$126+$G$127+$G$128)^2 + ( $G$126*$G$128*$T373 - ($G$127*($G$126+$G$128) + 4*$G$126*$G$128) )*$T373 )  - 10*LOG10( (1+$G$129+$G$130)^2 + ( 1*$G$130*$T373 - ($G$129*(1+$G$130) + 4*1*$G$130) )*$T373)","v":-0.15840990488323392},{"$f":"10*LOG10(($G$131+$G$132+$G$133)^2 + ( $G$131*$G$133*$T373 - ($G$132*($G$131+$G$133) + 4*$G$131*$G$133) )*$T373 )  - 10*LOG10( (1+$G$134+$G$135)^2 + ( 1*$G$135*$T373 - ($G$134*(1+$G$135) + 4*1*$G$135) )*$T373)","v":-5.7270231292214646E-3},{"$f":"10*LOG10(($G$136+$G$137+$G$138)^2 + ( $G$136*$G$138*$T373 - ($G$137*($G$136+$G$138) + 4*$G$136*$G$138) )*$T373 )  - 10*LOG10( (1+$G$139+$G$140)^2 + ( 1*$G$140*$T373 - ($G$139*(1+$G$140) + 4*1*$G$140) )*$T373)","v":-4.5952221153520156E-3},-0.59499307193900997]
[null,null,null,null,null,null,null,null,null,null,null,null,null,null,null,null,null,1655.1765111855329,{"$f":"2*PI()*R374/B56","v":0.23582269242334938},5.5355091831384449E-2,-0.51990886413519277,5.8812561589149936E-3,-0.16473128764212763,-5.5039024244329937E-3,-4.405159834330874E-3,-0.68866795787716928]
[null,null,null,null,null,null,null,null,null,null,null,null,null,null,null,null,null,1688.2800414092437,{"$f":"2*PI()*R375/B56","v":0.24053914627181644},5.7580645600456969E-2,-0.61492771761652776,5.6527408948809921E-3,-0.17130058470118925,-5.289348992967291E-3,-4.2232793275829295E-3,-0.79008818974338624]
[null,null,null,null,null,null,null,null,null,null,null,null,null,null,null,null,null,1722.0456422374286,{"$f":"2*PI()*R376/B56","v":0.24534992919725276},5.9895223925052588E-2,-0.71775975135075143,5.4329460694688692E-3,-0.17812706298031422,-5.0830375687063167E-3,-4.0491982851804664E-3,-0.89958610411548356]
[null,null,null,null,null,null,null,null,null,null,null,null,null,null,null,null,null,1756.4865550821773,{"$f":"2*PI()*R377/B56","v":0.25025692778119779},6.2302350437668144E-2,-0.82870911495264821,5.2215447668544357E-3,-0.18522028424875625,-4.884654950899403E-3,-3.8825545832281705E-3,-1.0174750639686776]
[null,null,null,null,null,null,null,null,null,null,null,null,null,null,null,null,null,1791.6162861838209,{"$f":"2*PI()*R378/B56","v":0.2552620663368218},6.4805685139696992E-2,-0.94805639447036683,5.018221872763462E-3,-0.1925901080559056,-4.6938995789460591E-3,-3.7230050436072304E-3,-1.1440451852760622]
[null,null,null,null,null,null,null,null,null,null,null,null,null,null,null,null,null,1827.4486119074973,{"$f":"2*PI()*R379/B56","v":0.2603673076635582},6.7409029420875358E-2,-1.0760544599584918,4.8226736845080609E-3,-0.20024669370283821,-4.5104811203415807E-3,-3.5702242825408348E-3,-1.2795591853797044]
[null,null,null,null,null,null,null,null,null,null,null,null,null,null,null,null,null,1863.9975841456471,{"$f":"2*PI()*R380/B56","v":0.26557465381682938},7.0116331241583854E-2,-1.2129245578939809,4.6346075309777746E-3,-0.20820050107897092,-4.3341200715474315E-3,-3.4239036409360324E-3,-1.4242484751544575]
[null,null,null,null,null,null,null,null,null,null,null,null,null,null,null,null,null,1901.2775358285601,{"$f":"2*PI()*R381/B56","v":0.27088614689316592},7.293169048134765E-2,-1.3588527719025763,4.453741402535627E-3,-0.21646229016276397,-4.1645473716158676E-3,-3.2837501895564003E-3,-1.5783096182239769]
[null,null,null,null,null,null,null,null,null,null,null,null,null,null,null,null,null,1939.3030865451312,{"$f":"2*PI()*R382/B56","v":0.27630386983102928},7.5859364456755604E-2,-1.5139869703351074,4.2798035908084842E-3,-0.22504311895634288,-4.0015040281176084E-3,-3.1494858033127571E-3,-1.7419012755320722]
[null,null,null,null,null,null,null,null,null,null,null,null,null,null,null,null,null,1978.0891482760339,{"$f":"2*PI()*R383/B56","v":0.28182994722764987},7.8903773611867414E-2,-1.6784343478471939,4.1125323383894852E-3,-0.2339543395908219,-3.8447407552197888E-3,-3.0208462989449458E-3,-1.9151417421537911]
[null,null,null,null,null,null,null,null,null,null,null,null,null,null,null,null,null,2017.6509312415546,{"$f":"2*PI()*R384/B56","v":0.28746654617220285},8.2069507384001303E-2,-1.8522596505311313,3.9516754983175417E-3,-0.24320759230126665,-3.6940176236583966E-3,-2.897580631262997E-3,-2.0981071655890018]
[null,null,null,null,null,null,null,null,null,null,null,null,null,null,null,null,null,2058.0039498663859,{"$f":"2*PI()*R385/B56","v":0.29321587709564695},8.5361330247583342E-2,-2.0354841510961599,3.7969902032557457E-3,-0.2528147969269634,-3.5491037221042632E-3,-2.7794501433078267E-3,-2.2908305116852796]
[null,null,null,null,null,null,null,null,null,null,null,null,null,null,null,null,null,2099.1640288637136,{"$f":"2*PI()*R386/B56","v":0.29908019463755986},8.8784187938498238E-2,-2.2280854133583468,3.6482425443011834E-3,-0.26278814154324426,-3.4097768299545805E-3,-2.6662278662925587E-3,-2.493301317053537]
[null,null,null,null,null,null,null,null,null,null,null,null,null,null,null,null,null,2141.147309440988,{"$f":"2*PI()*R387/B56","v":0.30506179853031107},9.2343213861100185E-2,-2.4299978555458921,3.5052072593018124E-3,-0.27314006777461763,-3.2758231009708538E-3,-2.5576978656012272E-3,-2.70546623702778]
[null,null,null,null,null,null,null,null,null,null,null,null,null,null,null,null,null,2183.970255629808,{"$f":"2*PI()*R388/B56","v":0.31116303450091731},9.604373567971991E-2,-2.641114091555707,3.3676674304032872E-3,-0.28388325227424893,-3.1470367575927582E-3,-2.4536546291571426E-3,-2.9272303677863025]
[null,null,null,null,null,null,null,null,null,null,null,null,null,null,null,null,null,2227.6496607424042,{"$f":"2*PI()*R389/B56","v":0.3173862951909357},9.9891282096139206E-2,-2.8612870002794146,3.2354141909607392E-3,-0.29503058378089619,-3.0232197957076323E-3,-2.3539024953151966E-3,-3.1584592921603729]
[null,null,null,null,null,null,null,null,null,null,null,null,null,null,null,null,null,2272.2026539572521,{"$f":"2*PI()*R390/B56","v":0.32373402109475435},0.10389158981408669,-3.0903324472858316,3.1082464413110245E-3,-0.30659513507964142,-2.9041816994066494E-3,-2.2582551170309273E-3,-3.3989817727405995]
[null,null,null,null,null,null,null,null,null,null,null,null,null,null,null,null,null,2317.6467070363974,{"$f":"2*PI()*R391/B56","v":0.33020870151664949},0.10805061069134136,-3.3280325620294917,2.9859705735049147E-3,-0.31859012909584727,-2.7897391656246384E-3,-2.1665349598691819E-3,-3.6485929946773279]
[null,null,null,null,null,null,null,null,null,null,null,null,null,null,null,null,null,2363.9996411771253,{"$f":"2*PI()*R392/B56","v":0.33681287554698247},0.11237451907950029,-3.5741394584385695,2.8684002047114632E-3,-0.33102889824056447,-2.6797158382585451E-3,-2.0785728312731067E-3,-3.9070582451439542]
[null,null,null,null,null,null,null,null,null,null,null,null,null,null,null,null,null,2411.279634000668,{"$f":"2*PI()*R393/B56","v":0.34354913305792217},0.11686971935087712,-3.8283792777903756,2.7553559190813814E-3,-0.34392483599840773,-2.5739420515478173E-3,-1.9942074389689424E-3,-4.1741169073602187]
[null,null,null,null,null,null,null,null,null,null,null,null,null,null,null,null,null,2459.5052266806815,{"$f":"2*PI()*R394/B56","v":0.35042011571908066},0.12154285361133513,-4.0904564302517734,2.6466650179628459E-3,-0.35729133960294668,-2.472254582396971E-3,-1.913284976250651E-3,-4.4494866443954049]
[null,null,null,null,null,null,null,null,null,null,null,null,null,null,null,null,null,2508.695331214295,{"$f":"2*PI()*R395/B56","v":0.35742851803346221},0.12640080959712169,-4.3600579149028569,2.5421612782103864E-3,-0.371141742477473,-2.3744964114236211E-3,-1.8356587324532825E-3,-4.7328676512459964]
[null,null,null,null,null,null,null,null,null,null,null,null,null,null,null,null,null,2558.8692378385808,{"$f":"2*PI()*R396/B56","v":0.36457708839413144},0.13145072875295208,-4.636857606645254,2.4416847184411949E-3,-0.38548923492725518,-2.2805164923944687E-3,-1.7611887267321436E-3,-5.0239468620731946]
[null,null,null,null,null,null,null,null,null,null,null,null,null,null,null,null,null,2610.0466225953523,{"$f":"2*PI()*R397/B56","v":0.37186863016201405},0.13670001448767868,-4.9205204110221601,2.3450813729901654E-3,-0.40034677134961383,-2.190169529878716E-3,-1.6897413635668102E-3,-5.3224020118922297]
[null,null,null,null,null,null,null,null,null,null,null,null,null,null,null,null,null,2662.2475550472595,{"$f":"2*PI()*R398/B56","v":0.37930600276525439},0.14215634060287818,-5.210706203412343,2.2522030734428711E-3,-0.41572696197612613,-2.1033157647423195E-3,-1.621189108519161E-3,-5.6279054671882882]
[null,null,null,null,null,null,null,null,null,null,null,null,null,null,null,null,null,2715.4925061482049,{"$f":"2*PI()*R399/B56","v":0.38689212282055951},0.14782765988857302,-5.5070734860599799,2.1629072374516056E-3,-0.43164194687251012,-2.0198207673516322E-3,-1.5554101828563205E-3,-5.9401277566452464]
[null,null,null,null,null,null,null,null,null,null,null,null,null,null,null,null,null,2769.8023562711692,{"$f":"2*PI()*R400/B56","v":0.3946299652769707},0.15372221287908017,-5.8092827138155201,2.0770566647350108E-3,-0.44810324959062031,-1.9395552381986647E-3,-1.4922882758057199E-3,-6.2587407502554093]
[null,null,null,null,null,null,null,null,null,null,null,null,null,null,null,null,null,2825.1984033965928,{"$f":"2*PI()*R401/B56","v":0.40252256458251012},0.15984853676062516,-6.1169992563076327,1.994519339994838E-3,-0.46512160748799403,-1.8623948156211156E-3,-1.431712273202379E-3,-6.5834204515444554]
[null,null,null,null,null,null,null,null,null,null,null,null,null,null,null,null,null,2881.7023714645247,{"$f":"2*PI()*R402/B56","v":0.41057301587416034},0.1662154744208762,-6.4298959797754698,1.915168242581089E-3,-0.48270677529616712,-1.7882198905461166E-3,-1.373576001515886E-3,-6.9138493827211178]
[null,null,null,null,null,null,null,null,null,null,null,null,null,null,null,null,null,2939.3364188938153,{"$f":"2*PI()*R403/B56","v":0.41878447619164361},0.17283218362892142,-6.7476554454251527,1.838881162742112E-3,-0.50086729802257457,-1.7169154279024212E-3,-1.3177779862658667E-3,-7.2497185556991539]
[null,null,null,null,null,null,null,null,null,null,null,null,null,null,null,null,null,2998.1231472716918,{"$f":"2*PI()*R404/B56","v":0.42716016571547644},0.17970814633242282,-7.0699717326165867,1.7655405242003042E-3,-0.51961024870335182,-1.6483707945145198E-3,-1.2642212238063166E-3,-7.5907290328140586]
[null,null,null,null,null,null,null,null,null,null,null,null,null,null,null,null,null,3058.0856102171256,{"$f":"2*PI()*R405/B56","v":0.43570336902978596},0.18685317805672502,-7.3965519043161905,1.6950332129095358E-3,-0.53894092587684206,-1.5824795932513069E-3,-1.2128129657185127E-3,-7.9365930895390928]
[null,null,null,null,null,null,null,null,null,null,null,null,null,null,null,null,null,3119.2473224214682,{"$f":"2*PI()*R406/B56","v":0.44441743641038173},0.19427743738855144,-7.7271171391038109,1.6272504118592934E-3,-0.55886250490969935,-1.5191395032942978E-3,-1.1634645149616318E-3,-8.2870349976199069]
[null,null,null,null,null,null,null,null,null,null,null,null,null,null,null,null,null,3181.6322688698974,{"$f":"2*PI()*R407/B56","v":0.45330578513858932},0.20199143552458654,-8.0614035587560657,1.5620874416075736E-3,-0.57937563646862422,-1.4582521261736758E-3,-1.116091033065203E-3,-8.6417914509423213]
[null,null,null,null,null,null,null,null,null,null,null,null,null,null,null,null,null,3245.2649142472956,{"$f":"2*PI()*R408/B56","v":0.46237190084136115},0.21000604586268698,-8.3991627832804774,1.4994436065052241E-3,-0.60047798447916945,-1.3997228375117743E-3,-1.0706113576617327E-3,-9.0006116583483156]
[null,null,null,null,null,null,null,null,null,null,null,null,null,null,null,null,null,3310.1702125322417,{"$f":"2*PI()*R409/B56","v":0.47161933885818846},0.21833251361068443,-8.7401622465266229,1.4392220463506078E-3,-0.62216369483734102,-1.3434606442004338E-3,-1.0269478297644241E-3,-9.3632571277915773]
[null,null,null,null,null,null,null,null,null,null,null,null,null,null,null,null,null,3376.3736167828865,{"$f":"2*PI()*R410/B56","v":0.4810517256353522},0.22698246538471595,-9.0841853054498749,1.381329593332481E-3,-0.64442278492824778,-1.2893780468612448E-3,-9.8502613010076345E-4,-9.7295011649617518]
[null,null,null,null,null,null,null,null,null,null,null,null,null,null,null,null,null,3443.9010891185444,{"$f":"2*PI()*R411/B56","v":0.49067276014805922},0.23596791876572432,-9.4310311750416265,1.3256766340745685E-3,-0.66724044264817106,-1.2373909073666312E-3,-9.4477512406498931E-4,-10.099128107087154]
[null,null,null,null,null,null,null,null,null,null,null,null,null,null,null,null,null,3512.7791109009154,{"$f":"2*PI()*R412/B56","v":0.50048621535102045},0.24530129177919077,-9.7805147191354234,1.2721769766734781E-3,-0.69059622211379201,-1.1874183212974287E-3,-9.0612671472634077E-4,-10.471932309308565]
[null,null,null,null,null,null,null,null,null,null,null,null,null,null,null,null,null,3583.0346931189338,{"$f":"2*PI()*R413/B56","v":0.51049593965804085},0.25499541225928291,-10.132466124989662,1.220747722468829E-3,-0.71446312156957381,-1.1393824951149156E-3,-8.6901570336372913E-4,-10.847716897035246]
[null,null,null,null,null,null,null,null,null,null,null,null,null,null,null,null,null,3654.6953869813124,{"$f":"2*PI()*R414/B56","v":0.52070585845120165},0.26506352705438613,-10.486730486934739,1.1713091424780941E-3,-0.73880652717224704,-1.0932086279087372E-3,-8.3337965720531315E-4,-11.226292293249623]
[null,null,null,null,null,null,null,null,null,null,null,null,null,null,null,null,null,3727.7892947209389,{"$f":"2*PI()*R415/B56","v":0.53111997562022573},0.27551931102642696,-10.843167321620172,1.1237845583238482E-3,-0.76358300434891291,-1.0488247975590781E-3,-7.9915878380099059E-4,-11.607474524992121]
[null,null,null,null,null,null,null,null,null,null,null,null,null,null,null,null,null,3802.3450806153578,{"$f":"2*PI()*R416/B56","v":0.54174237513263024},0.28637687579145749,-11.201650034632989,1.0781002274580231E-3,-0.78873891631423598,-1.0061618511318926E-3,-7.6629581179510353E-4,-11.991083308382693]
[null,null,null,null,null,null,null,null,null,null,null,null,null,null,null,null,null,3878.3919822276648,{"$f":"2*PI()*R417/B56","v":0.55257722263528286},0.29765077814363328,-11.562065355578998,1.0341852325890244E-3,-0.81420884713206743,-9.6515329938995365E-4,-7.3473587760908288E-4,-12.376939906655474]
[null,null,null,null,null,null,null,null,null,null,null,null,null,null,null,null,null,3955.9598218722181,{"$f":"2*PI()*R418/B56","v":0.56362876708798848},0.30935602809894641,-11.92431275619057,9.9197137516249256E-4,-0.83991380448199271,-9.257352152509668E-4,-7.0442641779067117E-4,-12.764864750930442]
[null,null,null,null,null,null,null,null,null,null,null,null,null,null,null,null,null,4035.0790183096624,{"$f":"2*PI()*R419/B56","v":0.57490134242974833},0.32150809648885542,-12.288303863693674,9.513930727216291E-4,-0.86575917514068923,-8.8784613605241702E-4,-6.753170666353725E-4,-13.154674808964328]
[null,null,null,null,null,null,null,null,null,null,null,null,null,null,null,null,null,4115.7805986758558,{"$f":"2*PI()*R420/B56","v":0.58639936927834335},0.33412292202723592,-12.653961879557503,9.123872600831362E-4,-0.89163240425581991,-8.5142696949525032E-4,-6.4735955885986129E-4,-13.546180683081595]
[null,null,null,null,null,null,null,null,null,null,null,null,null,null,null,null,null,4198.0962106493726,{"$f":"2*PI()*R421/B56","v":0.59812735666391004},0.34721691776685143,-13.021221011874038,8.7489329410495031E-4,-0.91740036798252023,-8.1642090311540017E-4,-6.2050763697385491E-4,-13.939183415102542]
[null,null,null,null,null,null,null,null,null,null,null,null,null,null,null,null,null,4282.05813486236,{"$f":"2*PI()*R422/B56","v":0.6100899037971883},0.36080697685376256,-13.390025927971518,8.3885286202090015E-4,-0.94290640825374972,-7.8277331719611709E-4,-5.9471696314616906E-4,-14.333470973643589]
[null,null,null,null,null,null,null,null,null,null,null,null,null,null,null,null,null,4367.6992975596077,{"$f":"2*PI()*R423/B56","v":0.6222917018731321},0.37491047747972062,-13.76033123244655,8.0420989312202096E-4,-0.96796699875229253,-7.5043170092925493E-4,-5.6994503531804241E-4,-14.728814398041967]
[null,null,null,null,null,null,null,null,null,null,null,null,null,null,null,null,null,4455.0532835107997,{"$f":"2*PI()*R424/B56","v":0.63473753591059479},0.38954528692362156,-14.132100974592761,7.7091047376853794E-4,-0.99236801305701894,-7.1934557177932845E-4,-5.461511072848424E-4,-15.124963573855077]
[null,null,null,null,null,null,null,null,null,null,null,null,null,null,null,null,null,4544.1543491810162,{"$f":"2*PI()*R425/B56","v":0.6474322866288067},0.40472976456344412,-14.505308188190487,7.3890276552823764E-4,-1.0158605701167436,-6.8946639788691755E-4,-5.2329611260137909E-4,-15.521642618052191]
[null,null,null,null,null,null,null,null,null,null,null,null,null,null,null,null,null,4635.0374361646363,{"$f":"2*PI()*R426/B56","v":0.66038093236138284},0.42048276372977222,-14.879934465785517,7.0813692635862679E-4,-1.0381564395129677,-6.6074752340483656E-4,-5.0134259205236731E-4,-15.918544858487582]
[null,null,null,null,null,null,null,null,null,null,null,null,null,null,null,null,null,4727.7381848879295,{"$f":"2*PI()*R427/B56","v":0.67358855100861048},0.43682363226094273,-15.255969568906547,6.785650347778116E-4,-1.0589230004661268,-6.3314409668713267E-4,-4.8025462454681644E-4,-16.315327403059129]
[null,null,null,null,null,null,null,null,null,null,null,null,null,null,null,null,null,4822.2929485856885,{"$f":"2*PI()*R428/B56","v":0.68706032202878276},0.45377221160802766,-15.633411075130583,6.5014101681892811E-4,-1.0777777654981886,-6.0661300119591033E-4,-4.5999776120275726E-4,-16.711605310374352]
[null,null,null,null,null,null,null,null,null,null,null,null,null,null,null,null,null,4918.7388075574027,{"$f":"2*PI()*R429/B56","v":0.7008015284693585},0.47134883432523678,-16.012264062488555,6.2282057576990013E-4,-1.0942825035798114,-5.8111278903272279E-4,-4.4053896252727043E-4,-17.106945397244154]
[null,null,null,null,null,null,null,null,null,null,null,null,null,null,null,null,null,5017.1135837085512,{"$f":"2*PI()*R430/B56","v":0.71481755903874578},0.48957431976784216,-16.392540831390757,5.9656112452088905E-4,-1.1079370301205143,-5.5660361701281857E-4,-4.2184653845822595E-4,-17.500859750542222]
[null,null,null,null,null,null,null,null,null,null,null,null,null,null,null,null,null,5117.4558553827219,{"$f":"2*PI()*R431/B56","v":0.72911391021952066},0.50846996780537623,-16.774260664031537,5.7132172047147378E-4,-1.1181727740226419,-5.3304718517921401E-4,-4.0389009118513286E-4,-17.892799053610073]
[null,null,null,null,null,null,null,null,null,null,null,null,null,null,null,null,null,5219.8049724903767,{"$f":"2*PI()*R432/B56","v":0.74369618842391116},0.52805755034258117,-17.157449621090311,5.4706300290163767E-4,-1.1243462867925746,-5.1040667765001047E-4,-3.8664046055991719E-4,-18.282145892018193]
[null,null,null,null,null,null,null,null,null,null,null,null,null,null,null,null,null,5324.2010719401842,{"$f":"2*PI()*R433/B56","v":0.75857011219238935},0.54835930042435432,-17.542140375470971,5.2374713268310558E-4,-1.125732926504498,-4.8864670575010649E-4,-3.7006967200969854E-4,-18.668208271220546]
[null,null,null,null,null,null,null,null,null,null,null,null,null,null,null,null,null,5430.6850933789883,{"$f":"2*PI()*R434/B56","v":0.77374151443623729},0.56939789868373036,-17.928372082805311,5.0133773430260931E-4,-1.1215210304219292,-4.6773325330828897E-4,-3.5415088679080498E-4,-19.050213659633037]
[null,null,null,null,null,null,null,null,null,null,null,null,null,null,null,null,null,5539.2987952465683,{"$f":"2*PI()*R435/B56","v":0.78921634472496194},0.59119645687369948,-18.316190288478317,4.7979984006563114E-4,-1.1108069828753555,-4.4763362404509621E-4,-3.3885835448899115E-4,-19.427303963492143]
[null,null,null,null,null,null,null,null,null,null,null,null,null,null,null,null,null,5650.0847711514998,{"$f":"2*PI()*R436/B56","v":0.80500067161946121},0.61377849820440022,-18.705646871010124,4.5909983642467012E-4,-1.0925916856971207,-4.2831639100082697E-4,-3.2416736764862009E-4,{"$f":"U436+V436+W436+X436+Y436","v":-19.798531940629466}]
[null,null,null,null,null,null,null,null,null,null,null,null,null,null,null,null,null,5763.0864665745303,{"$f":"2*PI()*R437/B56","v":0.82110068505185041},{"$f":"4*(SIN(S437/2))^2","v":0.63716793418687057},{"$f":"10*LOG10(($G$116+$G$117+$G$118)^2 + ( $G$116*$G$118*T437 - ($G$117*($G$116+$G$118) + 4*$G$116*$G$118) )*T437 )  - 10*LOG10( (1+$G$119+$G$120)^2 + ( 1*$G$120*T437 - ($G$119*(1+$G$120) + 4*1*$G$120) )*T437)","v":-19.09680002174369},{"$f":"10*LOG10(($G$121+$G$122+$G$123)^2 + ( $G$121*$G$123*$T437 - ($G$122*($G$121+$G$123) + 4*$G$121*$G$123) )*$T437 )  - 10*LOG10( (1+$G$124+$G$125)^2 + ( 1*$G$125*$T437 - ($G$124*(1+$G$125) + 4*1*$G$125) )*$T437)","v":4.3920541234010457E-4},{"$f":"10*LOG10(($G$126+$G$127+$G$128)^2 + ( $G$126*$G$128*$T437 - ($G$127*($G$126+$G$128) + 4*$G$126*$G$128) )*$T437 )  - 10*LOG10( (1+$G$129+$G$130)^2 + ( 1*$G$130*$T437 - ($G$129*(1+$G$130) + 4*1*$G$130) )*$T437)","v":-1.0657790398361136},{"$f":"10*LOG10(($G$131+$G$132+$G$133)^2 + ( $G$131*$G$133*$T437 - ($G$132*($G$131+$G$133) + 4*$G$131*$G$133) )*$T437 )  - 10*LOG10( (1+$G$134+$G$135)^2 + ( 1*$G$135*$T437 - ($G$134*(1+$G$135) + 4*1*$G$135) )*$T437)","v":-4.0975134789045242E-4},{"$f":"10*LOG10(($G$136+$G$137+$G$138)^2 + ( $G$136*$G$138*$T437 - ($G$137*($G$136+$G$138) + 4*$G$136*$G$138) )*$T437 )  - 10*LOG10( (1+$G$139+$G$140)^2 + ( 1*$G$140*$T437 - ($G$139*(1+$G$140) + 4*1*$G$140) )*$T437)","v":-3.1005421844199077E-4},-20.162859661733794]
[null,null,null,null,null,null,null,null,null,null,null,null,null,null,null,null,null,5878.3481959060209,{"$f":"2*PI()*R438/B56","v":0.83752269875288743},0.66138903766312984,-19.489714260936434,4.2008550963723579E-4,-1.0291771370598608,-3.919094623499042E-4,-2.964961572442526E-4,-20.519159718106252]
[null,null,null,null,null,null,null,null,null,null,null,null,null,null,null,null,null,5995.9151598241415,{"$f":"2*PI()*R439/B56","v":0.85427315272794535},0.68646641167984546,-19.88446049053519,4.0171027523072667E-4,-0.98150292323008315,-3.7476283096360419E-4,-2.834713530681654E-4,-20.866219937674071]
[null,null,null,null,null,null,null,null,null,null,null,null,null,null,null,null,null,6115.8334630206245,{"$f":"2*PI()*R440/B56","v":0.87135861578250418},0.71242495383922511,-20.281116084124463,3.8405101519867202E-4,-0.92139110788674117,-3.5828463605014349E-4,-2.7095885572947509E-4,-21.202752384487784]
[null,null,null,null,null,null,null,null,null,null,null,null,null,null,null,null,null,6238.1501322810373,{"$f":"2*PI()*R441/B56","v":0.88878578809815423},0.73928981573609365,-20.679765014779548,3.6708015060860077E-4,-0.84740803353934258,-3.4244910411329599E-4,-2.5893855970204882E-4,-21.527407355832096]
[null,null,null,null,null,null,null,null,null,null,null,null,null,null,null,null,null,6362.9131349266581,{"$f":"2*PI()*R442/B56","v":0.90656150386011747},0.76708635706434691,-21.080498021826379,3.5077117504123123E-4,-0.75807105640188732,-3.2723146589574981E-4,-2.4739116953309548E-4,-21.838792929688655]
[null,null,null,null,null,null,null,null,null,null,null,null,null,null,null,null,null,6490.1713976251913,{"$f":"2*PI()*R443/B56","v":0.92469273393731988},0.79584009394919997,-21.483412817813324,3.3509861376535E-4,-0.65187370744055761,-3.1260791800225007E-4,-2.3629816680070803E-4,-22.13550033272492]
[null,null,null,null,null,null,null,null,null,null,null,null,null,null,null,null,null,6619.9748255776949,{"$f":"2*PI()*R444/B56","v":0.94318658861606608},0.82557664103388517,-21.888614337336858,3.2003798447144405E-4,-0.52731648992212854,-2.9855558600622167E-4,-2.256417784962661E-4,-22.416134986639015]
[null,null,null,null,null,null,null,null,null,null,null,null,null,null,null,null,null,6752.3743220892493,{"$f":"2*PI()*R445/B56","v":0.96205032038838756},0.85632164682079737,-22.296215029737901,3.0556575954587828E-4,-0.38294263924260918,-2.8505248899146629E-4,-2.1540494680394318E-4,-22.67935256065676]
[null,null,null,null,null,null,null,null,null,null,null,null,null,null,null,null,null,6887.421808531034,{"$f":"2*PI()*R446/B56","v":0.98129132679615516},0.88810072173759647,-22.7063351981026,2.916593297925818E-4,-0.21737756273499098,-2.7207750549629317E-4,-2.0557130018183933E-4,-22.923898750313477]
[null,null,null,null,null,null,null,null,null,null,null,null,null,null,null,null,null,7025.1702447016551,{"$f":"2*PI()*R447/B56","v":1.0009171533320784},0.9209393583686406,-23.119103387467014,2.7829696958436845E-4,-2.9370062393783813E-2,-2.5961034078358924E-4,-1.9612512570621465E-4,-23.148650888357707]
[null,null,null,null,null,null,null,null,null,null,null,null,null,null,null,null,null,7165.6736495956884,{"$f":"2*PI()*R448/B56","v":1.0209354963987198},0.95486284326138438,-23.53465682564584,2.654578033698396E-4,0.18216708073600052,-2.476314954034109E-4,-1.8705134262525513E-4,-23.352658969944496]
[null,null,null,null,null,null,null,null,null,null,null,null,null,null,null,null,null,7308.9871225876022,{"$f":"2*PI()*R449/B56","v":1.0413542063266943},0.98989615968635236,-23.953141920690907,2.5312177349881559E-4,0.41811990625934303,-2.3612223499025475E-4,-1.7833547704937391E-4,-23.535183350370104]
[null,null,null,null,null,null,null,null,null,null,null,null,null,null,null,null,null,7455.166865039354,{"$f":"2*PI()*R450/B56","v":1.0621812904532282},1.0260638806980633,-24.374714819645103,2.4126960930809238E-4,0.67914223102541227,-2.2506456127205365E-4,-1.6996363774929302E-4,-23.695726347209401]
[null,null,null,null,null,null,null,null,null,null,null,null,null,null,null,null,null,7604.2702023401416,{"$f":"2*PI()*R451/B56","v":1.0834249162622929},1.0633900518132537,-24.799542034005547,2.2988279744856621E-4,0.96563320577131972,-2.1444118422175862E-4,-1.6192249300289729E-4,-23.834055309114007]
[null,null,null,null,null,null,null,null,null,null,null,null,null,null,null,null,null,7756.3556063869446,{"$f":"2*PI()*R452/B56","v":1.1050934145875386},1.1018980625921029,-25.227801138160466,2.1894355336882221E-4,1.2777252306797899,-2.0423549532133656E-4,-1.5419924844761734E-4,-23.95021539867108]
[null,null,null,null,null,null,null,null,null,null,null,null,null,null,null,null,null,7911.4827185146833,{"$f":"2*PI()*R453/B56","v":1.1271952828792895},1.1416105063783917,-25.659681548036239,2.0843479396726039E-4,1.6152830225282393,-1.9443154191756129E-4,-1.4678162590597843E-4,-24.044531303881854]
[null,null,null,null,null,null,null,null,null,null,null,null,null,null,null,null,null,8069.7123728849774,{"$f":"2*PI()*R454/B56","v":1.1497391885368753},1.1825490274259751,-26.095385388306056,1.9834011132791041E-4,1.9779135116410669,-1.8501400259540723E-4,-1.3965784311942286E-4,-24.117598208399379]
[null,null,null,null,null,null,null,null,null,null,null,null,null,null,null,null,null,8231.1066203426763,{"$f":"2*PI()*R455/B56","v":1.1727339723076127},1.2247341546121908,-26.535128457795864,1.8864374751514923E-4,2.3649851503619237,-1.7596816356868494E-4,-1.3281659438768578E-4,-24.170263448444381]
[null,null,null,null,null,null,null,null,null,null,null,null,null,null,null,null,null,8395.72875274953,{"$f":"2*PI()*R456/B56","v":1.1961886517537652},1.2681851209144166,-26.979141304208678,1.7933057042673894E-4,2.7756542964783399,-1.6727989603326776E-4,-1.2624703205021959E-4,-24.203601204087995]
[null,null,null,null,null,null,null,null,null,null,null,null,null,null,null,null,null,8563.6433278045206,{"$f":"2*PI()*R457/B56","v":1.2201124247888404},1.3129196678045827,-27.427670421012571,1.7038605061658885E-4,3.2088957125158979,-1.5893563445867898E-4,-1.199387487855752E-4,-24.218883196829303]
[null,null,null,null,null,null,null,null,null,null,null,null,null,null,null,null,null,8734.9161943606105,{"$f":"2*PI()*R458/B56","v":1.2445146732846173},1.3589538336989135,-27.880979581347891,1.6179623908563201E-4,3.6635339468283203,-1.5092235579050595E-4,-1.1388176070648015E-4,-24.217548642396981]
[null,null,null,null,null,null,null,null,null,null,null,null,null,null,null,null,null,8909.6145182478231,{"$f":"2*PI()*R459/B56","v":1.2694049667503096},1.4063017255872312,-28.339351326160788,1.5354774602904797E-4,4.1382724174072978,-1.4322755953077859E-4,-1.080664911987661E-4,-24.201176655058187]
[null,null,null,null,null,null,null,null,null,null,null,null,null,null,null,null,null,9087.8068086127805,{"$f":"2*PI()*R460/B56","v":1.2947930660853157},1.4549752729590217,-28.803088626532983,1.4562772046078365E-4,4.6317173323796519,-1.3583924866544805E-4,-1.0248375551125122E-4,-24.171463989437051]
[null,null,null,null,null,null,null,null,null,null,null,null,null,null,null,null,null,9269.562944785037,{"$f":"2*PI()*R461/B56","v":1.3206889274070224},1.5049839631430761,-29.272516743435244,1.3802383074246194E-4,5.1423940521179752,-1.2874591143408054E-4,-9.7124746028409703E-5,-24.130210538143984]
[null,null,null,null,null,null,null,null,null,null,null,null,null,null,null,null,null,9454.9542036807379,{"$f":"2*PI()*R462/B56","v":1.3471027059551628},1.5563345571853027,-29.747985311988405,1.3072424596183296E-4,5.6687540270412597,-1.2193650388248045E-4,-9.1981018243370016E-5,-24.07931447822331]
[null,null,null,null,null,null,null,null,null,null,null,null,null,null,null,null,null,9644.0532877543537,{"$f":"2*PI()*R463/B56","v":1.3740447600742662},1.6090307854066579,-30.229870681900323,1.2371761814389259E-4,6.2091709569760578,-1.154004332262204E-4,-8.704447737706289E-5,-24.020778452216724]
[null,null,null,null,null,null,null,null,null,null,null,null,null,null,null,null,null,9836.9343535094413,{"$f":"2*PI()*R464/B56","v":1.4015256552757516},1.6630730218116418,-30.718578551217746,1.1699306527912512E-4,6.7619252766292703,-1.0912754195491203E-4,-8.2307365651956843E-5,-23.956727716430802]
[null,null,null,null,null,null,null,null,null,null,null,null,null,null,null,null,null,10033.67304057963,{"$f":"2*PI()*R465/B56","v":1.4295561683812665},1.718457936559354,-31.214546937090283,1.1054015515643556E-4,7.32517648921855,-1.0310809269764576E-4,-7.7762250172419556E-5,-23.889440778059448]
[null,null,null,null,null,null,null,null,null,null,null,null,null,null,null,null,null,10234.346501391223,{"$f":"2*PI()*R466/B56","v":1.458147291748892},1.7751781257656125,-31.718249535137623,1.0434888995458635E-4,7.89692330901247,-9.7332753822954032E-5,-7.3402011427248226E-5,-23.821392612000448]
[null,null,null,null,null,null,null,null,null,null,null,null,null,null,null,null,null,10439.033431419048,{"$f":"2*PI()*R467/B56","v":1.4873102375838696},1.8332217179784132,-32.230199528558089,9.8409691637435515E-5,8.4749521465699509,-9.1792585742211941E-5,-6.921983236907181E-5,-23.755309984714611]
[null,null,null,null,null,null,null,null,null,null,null,null,null,null,null,null,null,10647.81410004743,{"$f":"2*PI()*R468/B56","v":1.5170564423355475},1.8925719567624746,-32.750953919716139,9.2713388060161606E-5,9.0567753396388966,-8.6479027944896814E-5,-6.5209188084836001E-5,-23.694237554905214]
[null,null,null,null,null,null,null,null,null,null,null,null,null,null,null,null,null,10860.770382048378,{"$f":"2*PI()*R469/B56","v":1.5473975711822583},1.9532067589444848,-33.281118471109835,8.7251199870408414E-5,9.6395618998918948,-8.1383886712416142E-5,-6.136383603827511E-5,-23.641612067740819]
[null,null,null,null,null,null,null,null,null,null,null,null,null,null,null,null,null,11077.985789689346,{"$f":"2*PI()*R470/B56","v":1.5783455226059036},2.015098248211967,-33.821353360003343,8.2014728117307811E-5,10.220065627014673,-7.6499323541590059E-5,-5.767780686305457E-5,-23.601339895390957]
[null,null,null,null,null,null,null,null,null,null,null,null,null,null,null,null,null,11299.545505483133,{"$f":"2*PI()*R471/B56","v":1.6099124330580215},2.0782122639285543,-34.372379672460923,7.6995942606572498E-5,10.794558405341753,-7.1817844257360264E-5,-5.4145395733229407E-5,-23.577870234416554]
[null,null,null,null,null,null,null,null,null,null,null,null,null,null,null,null,null,11525.536415592796,{"$f":"2*PI()*R472/B56","v":1.6421106817191822},2.1425078452306043,-34.934986889143154,7.218717101409311E-5,11.358780342330641,-6.7332288811172702E-5,-5.0761154267497943E-5,-23.576252453084578]
[null,null,null,null,null,null,null,null,null,null,null,null,null,null,null,null,null,11756.047143904652,{"$f":"2*PI()*R473/B56","v":1.674952895353566},2.2079366907081166,-35.510041548466248,6.7581088716295312E-5,11.907922760070061,-6.3035821783685719E-5,-4.7519883007218766E-5,-23.602161763012266]
[null,null,null,null,null,null,null,null,null,null,null,null,null,null,null,null,null,11991.168086782745,{"$f":"2*PI()*R474/B56","v":1.7084519532606373},2.2744425942511834,-36.098497314493386,6.3170709396764835E-5,12.436663906610274,-5.8921923590027347E-5,-4.4416624444210129E-5,-23.661873575721749]
[null,null,null,null,null,null,null,null,null,null,null,null,null,null,null,null,null,12230.9914485184,{"$f":"2*PI()*R475/B56","v":1.7426209923258498},2.3419608579659075,-36.70140672976067,5.8949376409600518E-5,12.939278761358125,-5.4984382408918009E-5,-4.1446656616983546E-5,-23.762165450065162]
[null,null,null,null,null,null,null,null,null,null,null,null,null,null,null,null,null,12475.611277488768,{"$f":"2*PI()*R476/B56","v":1.777473412172367},2.4104176834357385,-37.319935000552078,5.491075491814712E-5,13.409840839464387,-5.1217286817895058E-5,-3.8605487294063323E-5,-23.910129073106884]
[null,null,null,null,null,null,null,null,null,null,null,null,null,null,null,null,null,12725.123503038543,{"$f":"2*PI()*R477/B56","v":1.8130228804158142},2.4797295430303663,-37.955376248544596,5.1048824857957698E-5,13.842522761514555,-4.7615019220792476E-5,-3.5888848720411204E-5,-24.112885942073124]
[null,null,null,null,null,null,null,null,null,null,null,null,null,null,null,null,null,12979.625973099315,{"$f":"2*PI()*R478/B56","v":1.8492833380241305},2.5498025334499772,-38.609172774562211,4.7357874736420058E-5,14.231982388548744,-4.4172250039054006E-5,-3.3292693016662156E-5,-24.377220493081786]
[null,null,null,null,null,null,null,null,null,null,null,null,null,null,null,null,null,13239.218492561302,{"$f":"2*PI()*R479/B56","v":1.8862690047846133},2.6205317142431821,-39.28293802612842,4.3832496295692636E-5,14.573795047048304,-4.088393272283497E-5,-3.0813188180545126E-5,-24.709170843704726]
[null,null,null,null,null,null,null,null,null,null,null,null,null,null,null,null,null,13504.002862412528,{"$f":"2*PI()*R480/B56","v":1.9239943848803054},2.6918004346579574,-39.978484152773341,4.0467580115333135E-5,14.864867318295484,-3.7745299625413509E-5,-2.8446714766872105E-5,-25.113642558912133]
[null,null,null,null,null,null,null,null,null,null,null,null,null,null,null,null,null,13774.082919660779,{"$f":"2*PI()*R481/B56","v":1.9624742725779116},2.7634796528821282,-40.697855288842526,3.7258312193699794E-5,15.103755141723976,-3.4751858809300984E-5,-2.6189863289616255E-5,-25.594123830528453]
[null,null,null,null,null,null,null,null,null,null,null,null,null,null,null,null,null,14049.564578053994,{"$f":"2*PI()*R482/B56","v":2.00172375802947},2.8354272525090227,-41.443368047492775,3.4200171569409576E-5,15.290818111120378,-3.1899391807144184E-5,-2.4039432357625401E-5,-26.152571675024991]
[null,null,null,null,null,null,null,null,null,null,null,null,null,null,null,null,null,14330.555869615075,{"$f":"2*PI()*R483/B56","v":2.0417582331900594},2.9074873619306074,-42.217661177343494,3.1288929090322881E-5,15.42817418298865,-2.9183952470646091E-5,-2.1992427628347855E-5,-26.789506881805856]
[null,null,null,null,null,null,null,null,null,null,null,null,null,null,null,null,null,14617.166987007377,{"$f":"2*PI()*R484/B56","v":2.0825933978538607},2.9794896833199775,-43.023756977403721,2.8520647408214472E-5,15.519464673067549,-2.660186694214417E-5,-2.0046061646183944E-5,-27.504310431617355]
[null,null,null,null,null,null,null,null,null,null,null,null,null,null,null,null,null,14909.510326747524,{"$f":"2*PI()*R485/B56","v":2.1242452658109379},3.0512488389226804,-43.865137964907632,2.5891682312817466E-5,15.569481322522773,-2.4149734901612874E-5,-1.8197754636517516E-5,-28.295673098192083]
[null,null,null,null,null,null,null,null,null,null,null,null,null,null,null,null,null,15207.700533282476,{"$f":"2*PI()*R486/B56","v":2.1667301711271567},3.1225637435363387,-44.74584356389957,2.3398685568665201E-5,15.583730368087181,-2.1824432186789977E-5,-1.6445136351350698E-5,-29.16212806669536]
[null,null,null,null,null,null,null,null,null,null,null,null,null,null,null,null,null,15511.854543948126,{"$f":"2*PI()*R487/B56","v":2.2100647745497},3.1932170133240865,-45.670593414642113,2.1038609387957763E-5,15.568007732198993,-1.9623114981826006E-5,-1.4786049094439591E-5,-30.102599052997803]
[null,null,null,null,null,null,null,null,null,null,null,null,null,null,null,null,null,15822.091634827089,{"$f":"2*PI()*R488/B56","v":2.254266070040694},3.2629744224819182,-46.644946587358334,1.8808712777484971E-5,15.528040156601127,-1.7543225691696307E-5,-1.3218552059157673E-5,-31.116918383822174]
[null,null,null,null,null,null,null,null,null,null,null,null,null,null,null,null,null,16138.533467523632,{"$f":"2*PI()*R489/B56","v":2.2993513914415082},3.3315844207643246,-47.675509990818348,1.6706569930136084E-5,15.469220341111624,-1.5582500802580057E-5,-1.1740927122971812E-5,-32.206300266564718]
[null,null,null,null,null,null,null,null,null,null,null,null,null,null,null,null,null,16461.304136874103,{"$f":"2*PI()*R490/B56","v":2.3453384192703379},3.3987777264657022,-48.770215379674603,1.4730081019820318E-5,15.396439943008346,-1.3738980909394627E-5,-1.0351686331233623E-5,-33.373784797252483]
[null,null,null,null,null,null,null,null,null,null,null,null,null,null,null,null,null,16790.530219611584,{"$f":"2*PI()*R491/B56","v":2.3922451876557447},3.4642670111540599,-49.938693917916581,1.2877485637829977E-5,15.314008040466588,-1.2011023269309362E-5,-9.0495812514745921E-6,-34.624694060568871]
[null,null,null,null,null,null,null,null,null,null,null,null,null,null,null,null,null,17126.340824003815,{"$f":"2*PI()*R492/B56","v":2.4400900914088597},3.5277466942525684,-51.192792592701068,1.1147379366249766E-5,15.225635086857658,-1.0397317225852021E-5,-7.8336145410418112E-6,-35.967164589395807]
[null,null,null,null,null,null,null,null,null,null,null,null,null,null,null,null,null,17468.867640483892,{"$f":"2*PI()*R493/B56","v":2.4888918932370365},3.5888928674543488,-52.547302156335228,9.5387338614472128E-6,15.134461430544455,-8.8969029743424244E-6,-6.703053987422436E-6,-37.412846787013876]
[null,null,null,null,null,null,null,null,null,null,null,null,null,null,null,null,null,17818.244993293571,{"$f":"2*PI()*R494/B56","v":2.5386697311017774},3.6473633709231819,-54.021009773218324,8.0509211155543881E-6,15.043112338830598,-7.5091941340588164E-6,-5.6574494671224329E-6,-38.977902550110215]
[null,null,null,null,null,null,null,null,null,null,null,null,null,null,null,null,null,18174.609893159442,{"$f":"2*PI()*R495/B56","v":2.5894431257238133},3.7027980452593665,-55.638267143989367,6.6837424625987296E-6,14.953765799375173,-6.2340048501141609E-6,-4.6966533151504564E-6,-40.684505591529899]
[null,null,null,null,null,null,null,null,null,null,null,null,null,null,null,null,null,18538.102091022633,{"$f":"2*PI()*R496/B56","v":2.6412319882382893},3.7548191852719457,-57.43140993479399,5.4374632920684007E-6,14.868223692400516,-5.0715821355851176E-6,-3.8208446220266978E-6,-42.563189697356947]
[null,null,null,null,null,null,null,null,null,null,null,null,null,null,null,null,null,18908.864132843086,{"$f":"2*PI()*R497/B56","v":2.6940566280030556},3.8030322236652561,-59.444650967064092,4.3128543385506646E-6,14.787980517343783,-4.0226444006918882E-6,-3.0305582399137165E-6,-44.656673190068609]
[null,null,null,null,null,null,null,null,null,null,null,null,null,null,null,null,null,19287.041415499949,{"$f":"2*PI()*R498/B56","v":2.7479377605631168},3.8470266747811603,-61.740675136444359,3.3112408761581946E-6,14.714286516355706,-3.0884273094500259E-6,-2.3267192990061858E-6,-47.026390723994382]
[null,null,null,null,null,null,null,null,null,null,null,null,null,null,null,null,null,19672.782243809947,{"$f":"2*PI()*R499/B56","v":2.8028965157743788},3.8863773704912048,-64.412552981921195,2.434561237052435E-6,14.648203832519387,-2.2707383706688233E-6,-1.7106843017700157E-6,-49.764350696263243]

{"sheet":"Equalizer 48 kHz","index":1,"n_rows":499,"n_cols":38,"rows_kept":499,"cut":false,"hidden":false,"merged":[]}
[]
[]
[]
[]
[]
[]
[]
[]
[]
[]
[]
[]
[]
[]
[]
[null,"LPF","HPF","Hi Shelf","Lo Shelf","PeakingEQ"]
[null,null,null,null,null,null,null,"Select Slider, then"]
[null,null,null,null,null,null,null,"Page up/Down : Big Jump"]
[null,null,null,null,null,null,null,"Up/Down arrows : Fine tune"]
[]
[]
[null,null,null,null,null,null,null,"References : "]
[null,null,null,null,null,null,null,"Cookbook",null,"http://www.musicdsp.org/files/Audio-EQ-Cookbook.txt"]
[null,null,null,null,null,null,null,"Freq Response",null,"http://groups.google.com/group/comp.dsp/browse_frm/thread/8c0fa8d396aeb444/a1bc5b63ac56b686"]
[]
[null,null,null,null,null,null,null,"Usenet thread",null,"http://www.dsprelated.com/showmessage/50960/1.php"]
[]
[]
[]
[]
[]
[]
[]
["F0",{"$f":"10^(B48/333333)*20","v":2000},{"$f":"10^(C48/333333)*20","v":99.997396874553189},{"$f":"10^(D48/333333)*20","v":10000.015994567402},{"$f":"10^(E48/333333)*20","v":49.997742279755144},{"$f":"10^(F48/333333)*20","v":274.99837906963131}]
["Q",{"$f":"B49/1000000*10+0.002","v":0.81526999999999994},{"$f":"C49/1000000*10+0.002","v":0.78515000000000001},{"$f":"D49/1000000*10+0.002","v":1.05623},{"$f":"E49/1000000*10+0.002","v":0.81526999999999994},{"$f":"F49/1000000*30+0.002","v":30.001999999999999}]
["dBgain",{"$f":"(B50-500000)/500000*30","v":-29.999940000000002},{"$f":"(C50-500000)/500000*30","v":-29.999940000000002},{"$f":"(D50-500000)/500000*30","v":14.4579},{"$f":"(E50-500000)/500000*30","v":19.9956},{"$f":"(F50-500000)/500000*30","v":-29.999940000000002}]
["IdBoffset",{"$f":"((B51-500000)/500000*20)","v":0},{"$f":"((C51-500000)/500000*20)","v":0},{"$f":"((D51-500000)/500000*20)","v":0},{"$f":"((E51-500000)/500000*20)","v":0},{"$f":"((F51-500000)/500000*20)","v":0}]
[]
[]
[]
[]
[]
[]
[]
[]
[]
[]
["S1",666666,232986,899656,132640,379433,null,null,"Master dB",500000]
["S2",81327,78315,105423,81327,1000000,null,null,"Normal dB",{"$f":"(J48-500000)/500000*20","v":0}]
["S3",1,1,740965,833260,1,null,null,null,{"$f":"10^(J49/20)","v":1}]
["S4",500000,500000,500000,500000,500000,null,null,null,{"$f":"J50","v":1}]
[]
[]
[]
[]
[null,48000,"Hz"]
[]
[]
[null,"LPF","HPF","Hi Shelf","Lo Shelf","Peaking EQ"]
["A",{"$f":"SQRT( 10^((B36)/20) )","v":0.17782855520090204},{"$f":"SQRT( 10^((C36)/20) )","v":0.17782855520090204},{"$f":"10^((D36)/40)","v":2.2985158347332257},{"$f":"10^((E36)/40)","v":3.1614768061205401},{"$f":"10^((F36)/40)","v":0.17782855520090204}]
["wo",{"$f":"2*PI()*B34/B56","v":0.26179938779914941},{"$f":"2*PI()*C34/B56","v":1.3089628641633301E-2},{"$f":"2*PI()*D34/B56","v":1.3089990326797241},{"$f":"2*PI()*E34/B56","v":6.5446891600897733E-3},{"$f":"2*PI()*F34/B56","v":3.5997203643093952E-2}]
["cos(wo)",{"$f":"COS(B61)","v":0.96592582628906831},{"$f":"COS(C61)","v":0.99991433203420677},{"$f":"COS(D61)","v":0.25881702275852814},{"$f":"COS(E61)","v":0.99997858359834302},{"$f":"COS(F61)","v":0.99935217062417503}]
["sin(wo)",{"$f":"SIN(B61)","v":0.25881904510252074},{"$f":"SIN(C61)","v":1.3089254852212245E-2},{"$f":"SIN(D61)","v":0.96592636817223887},{"$f":"SIN(E61)","v":6.5446424387924753E-3},{"$f":"SIN(F61)","v":3.5989429958666067E-2}]
["Alpha",{"$f":" B63/(2*B35)","v":0.15873210415109151},{"$f":" C63/(2*C35)","v":8.3355122283718039E-3},{"$f":" D63/(2*D35)","v":0.45725190923011033},{"$f":" E63/(2*E35)","v":4.0137883393185541E-3},{"$f":" F63/(2*F35)","v":5.9978384705463086E-4}]
["Lingain",{"$f":"10^(B37/20)","v":1},{"$f":"10^(C37/20)","v":1},{"$f":"10^(D37/20)","v":1},{"$f":"10^(E37/20)","v":1},{"$f":"10^(F37/20)","v":1}]
[null,null,null,null,null,null,null,null,null,null,"Coefficients"]
[null,null,null,null,null,null,null,null,null,null,"B0","B1","B2","-A1","-A2"]
["B0",{"$f":"B65*J51*(1 - B62)/2","v":1.7037086855465844E-2},{"$f":"C65*J51*(1 + C62)/2","v":0.99995716601710338},{"$f":"D65*J51*(D60*( (D60+1) + (D60-1)*D62 + 2*SQRT(D60)*D64 ))","v":11.540985904088245},{"$f":"E65*J51*(E60*( (E60+1) - (E60-1)*E62 + 2*SQRT(E60)*E64 ))","v":6.3682251938834824},{"$f":"F65*$J$51*(1+(F64*F60))","v":1.0001066586949545},null,null,null,"BQ0",{"$f":"(B68/B71)","v":1.4703214655425061E-2},{"$f":"(B69/B71)","v":2.9406429310850121E-2},{"$f":"(B70/B71)","v":1.4703214655425061E-2},{"$f":"(-B72/B71)","v":1.6672116407730386},{"$f":"(-B73/B71)","v":-0.72602449939473879}]
["B1",{"$f":"B65*J51*(1 - B62)","v":3.4074173710931688E-2},{"$f":"C65*J51*-(1 + C62)","v":-1.9999143320342068},{"$f":"D65*J51*(-2*D60*( (D60-1) + (D60+1)*D62 ))","v":-9.8938597362243268},{"$f":"E65*J51*(2*E60*( (E60-1) - (E60+1)*E62 ))","v":-12.645343698457436},{"$f":"F65*$J$51*(-2*F62)","v":-1.9987043412483501},null,null,null,"BQ1",{"$f":"(C68/C71)","v":0.99169091427440392},{"$f":"(C69/C71)","v":-1.9833818285488078},{"$f":"(C70/C71)","v":0.99169091427440392},{"$f":"(-C72/C71)","v":1.9832968687663206},{"$f":"(-C73/C71)","v":-0.98346678833129519}]
["B2",{"$f":"B65*J51*((1 - B62)/2)","v":1.7037086855465844E-2},{"$f":"C65*J51*(1 +C62)/2","v":0.99995716601710338},{"$f":"D65*J51*(D60*( (D60+1) + (D60-1)*D62 - 2*SQRT(D60)*D64 ))","v":5.1673570706330398},{"$f":"E65*J51*(E60*( (E60+1) - (E60-1)*E62 - 2*SQRT(E60)*E64 ))","v":6.2779747267949588},{"$f":"F65*$J$51*(1-(F60*F64))","v":0.99989334130504548},null,null,null,"BQ2",{"$f":"(D68/D71)","v":2.6537688419056553},{"$f":"(D69/D71)","v":-2.2750237208829942},{"$f":"(D70/D71)","v":1.188197551145886},{"$f":"(-D72/D71)","v":-0.20455902817240668},{"$f":"(-D73/D71)","v":-0.3623836439961402}]
["A0",{"$f":"1+B64","v":1.1587321041510914},{"$f":"1+C64","v":1.0083355122283717},{"$f":"(D60+1) - (D60-1)*D62 + 2*SQRT(D60)*D64","v":4.3489039896183019},{"$f":"(E60+1) + (E60-1)*E62 + 2*SQRT(E60)*E64","v":6.3371807877683661},{"$f":"1 + (F64/F60)","v":1.0033728207844743},null,null,null,"BQ3",{"$f":"(E68/E71)","v":1.004898772364998},{"$f":"(E69/E71)","v":-1.995421011637335},{"$f":"(E70/E71)","v":0.99065735017569911},{"$f":"(-E72/E71)","v":1.9954818081208334},{"$f":"(-E73/E71)","v":-0.99549532605719948}]
["A1",{"$f":"-2*B62","v":-1.9318516525781366},{"$f":"-2*C62","v":-1.9998286640684135},{"$f":"2*((D60-1)-(D60+1)*D62)","v":0.88960757373142196},{"$f":"-2*((E60-1)+(E60+1)*E62)","v":-12.645728976764627},{"$f":"-2*F62","v":-1.9987043412483501},null,null,null,"BQ4",{"$f":"(F68/F71)","v":0.99674481705916029},{"$f":"(F69/F71)","v":-1.9919857303745665},{"$f":"(F70/F71)","v":0.99653221673205339},{"$f":"(-F72/F71)","v":1.9919857303745665},{"$f":"(-F73/F71)","v":-0.99327703379121379}]
["A2",{"$f":"1-B64","v":0.84126789584890849},{"$f":"1-C64","v":0.99166448777162819},{"$f":"(D60+1) - (D60-1)*D62 - 2*SQRT(D60)*D64","v":1.5759716751472326},{"$f":"(E60+1) +(E60-1)*E62 - 2*SQRT(E60)*E64","v":6.3086338546028902},{"$f":"1-(F64/F60)","v":0.99662717921552579}]
[]
[]
[]
[]
[]
[]
[]
[]
[]
[]
[]
[]
[]
[]
[]
[]
[]
[]
[]
[]
[]
[]
[]
[]
[]
[]
[]
[]
[]
[]
[]
[]
[]
[]
[]
[null,"Fo",563154,{"$f":"10^(C109/333333)*20","v":978.34872897125581},{"$f":"LOG(C109)","v":5.7506271731900638}]
[null,"Q",912551,{"$f":"C110/1000000*7","v":6.3878570000000003}]
[null,"dBgain",361479,{"$f":"(C111-500000)/500000*20","v":-5.5408400000000002}]
[null,"Master dbgain",554218,{"$f":"(C112-500000)/500000*20","v":2.16872}]
[null,null,538360,null,null,null,null,null,null,null,null,null,null,null,null,null,null,null,null,null,"PRE-EQ",null,null,null,null,null,null,null,null,null,"POST-EQ"]
[null,null,null,null,null,null,null,null,null,null,null,null,null,null,null,null,null,null,null,null,"LPF","HPF","Hi Shelf","Low Shelf","Peak EQ","Total"]
[null,null,null,null,null,null,null,null,null,null,null,null,null,null,null,null,null,"FREQ","w","Phi","CH1 Pre-EQ1","CH1 Pre-EQ2","CH1 Pre-EQ3","CH1 Pre-EQ4","CH1 Pre-EQ5","CH1 Pre-EQ",null,null,null,null,"CH1 Post-EQ1","CH1 Post-EQ2","CH1 Post-EQ3","CH1 Post-EQ4","CH1 Post-EQ5","CH1 Post-EQ",null,"CH1 Pre + Post"]
[null,null,"pre1","B0",1,null,{"$f":"B68/B71","v":1.4703214655425061E-2},null,null,null,null,null,null,null,null,null,null,10,{"$f":"2*PI()*R116/B56","v":1.308996938995747E-3},{"$f":"4*(SIN(S116/2))^2","v":1.7134727416344432E-6},{"$f":"10*LOG10(($G$116+$G$117+$G$118)^2 + ( $G$116*$G$118*T116 - ($G$117*($G$116+$G$118) + 4*$G$116*$G$118) )*T116 )  - 10*LOG10( (1+$G$119+$G$120)^2 + ( 1*$G$120*T116 - ($G$119*(1+$G$120) + 4*1*$G$120) )*T116)","v":5.3180611107706E-5},{"$f":"10*LOG10(($G$121+$G$122+$G$123)^2 + ( $G$121*$G$123*$T116 - ($G$122*($G$121+$G$123) + 4*$G$121*$G$123) )*$T116 )  - 10*LOG10( (1+$G$124+$G$125)^2 + ( 1*$G$125*$T116 - ($G$124*(1+$G$125) + 4*1*$G$125) )*$T116)","v":-39.983788601226209},{"$f":"10*LOG10(($G$126+$G$127+$G$128)^2 + ( $G$126*$G$128*$T116 - ($G$127*($G$126+$G$128) + 4*$G$126*$G$128) )*$T116 )  - 10*LOG10( (1+$G$129+$G$130)^2 + ( 1*$G$130*$T116 - ($G$129*(1+$G$130) + 4*1*$G$130) )*$T116)","v":-6.4980626190980217E-6},{"$f":"10*LOG10(($G$131+$G$132+$G$133)^2 + ( $G$131*$G$133*$T116 - ($G$132*($G$131+$G$133) + 4*$G$131*$G$133) )*$T116 )  - 10*LOG10( (1+$G$134+$G$135)^2 + ( 1*$G$135*$T116 - ($G$134*(1+$G$135) + 4*1*$G$135) )*$T116)","v":20.176548545066197},{"$f":"10*LOG10(($G$136+$G$137+$G$138)^2 + ( $G$136*$G$138*$T116 - ($G$137*($G$136+$G$138) + 4*$G$136*$G$138) )*$T116 )  - 10*LOG10( (1+$G$139+$G$140)^2 + ( 1*$G$140*$T116 - ($G$139*(1+$G$140) + 4*1*$G$140) )*$T116)","v":-2.0203722205280883E-4},{"$f":"U116+V116+W116+X116+Y116","v":-19.807395410833578},null,null,null,null,{"$f":"10*LOG10(($G$141+$G$142+$G$143)^2 + ( $G$141*$G$143*$T116 - ($G$142*($G$141+$G$143) + 4*$G$141*$G$143) )*$T116 )  - 10*LOG10( (1+$G$144+$G$145)^2 + ( 1*$G$145*$T116 - ($G$144*(1+$G$145) + 4*1*$G$145) )*$T116)","v":-1.5130181516553876E-5},{"$f":"10*LOG10(($G$146+$G$147+$G$148)^2 + ( $G$146*$G$148*$T116 - ($G$147*($G$146+$G$148) + 4*$G$146*$G$148) )*$T116 )  - 10*LOG10( (1+$G$149+$G$150)^2 + ( 1*$G$150*$T116 - ($G$149*(1+$G$150) + 4*1*$G$150) )*$T116)","v":2.3199590062574771E-3},{"$f":"10*LOG10(($G$151+$G$152+$G$153)^2 + ( $G$151*$G$153*$T116 - ($G$152*($G$151+$G$153) + 4*$G$151*$G$153) )*$T116 )  - 10*LOG10( (1+$G$154+$G$155)^2 + ( 1*$G$155*$T116 - ($G$154*(1+$G$155) + 4*1*$G$155) )*$T116)","v":-3.9640618549098718},{"$f":"10*LOG10(($G$156+$G$157+$G$158)^2 + ( $G$156*$G$158*$T116 - ($G$157*($G$156+$G$158) + 4*$G$156*$G$158) )*$T116 )  - 10*LOG10( (1+$G$159+$G$160)^2 + ( 1*$G$160*$T116 - ($G$159*(1+$G$160) + 4*1*$G$160) )*$T116)","v":5.1238338179064868E-2},{"$f":"10*LOG10(($G$161+$G$162+$G$163)^2 + ( $G$161*$G$163*$T116 - ($G$162*($G$161+$G$163) + 4*$G$161*$G$163) )*$T116 )  - 10*LOG10( (1+$G$164+$G$165)^2 + ( 1*$G$165*$T116 - ($G$164*(1+$G$165) + 4*1*$G$165) )*$T116)","v":2.0870233612413358E-4},{"$f":"AE116+AF116+AG116+AH116+AI116","v":-3.9103099855699419},null,{"$f":"AJ116+Z116","v":-23.71770539640352}]
[null,null,"LPF","B1",2,null,{"$f":"B69/B71","v":2.9406429310850121E-2},null,null,null,null,null,null,null,null,null,null,10.199999999999999,{"$f":"2*PI()*R117/B56","v":1.3351768777756618E-3},{"$f":"4*(SIN(S117/2))^2","v":1.7826970301126432E-6},{"$f":"10*LOG10(($G$116+$G$117+$G$118)^2 + ( $G$116*$G$118*T117 - ($G$117*($G$116+$G$118) + 4*$G$116*$G$118) )*T117 )  - 10*LOG10( (1+$G$119+$G$120)^2 + ( 1*$G$120*T117 - ($G$119*(1+$G$120) + 4*1*$G$120) )*T117)","v":5.5329010617555241E-5},-39.639152122816455,-6.7605842350992873E-6,20.181029349739717,-2.1022181503127513E-4,-19.458284426465383,null,null,null,null,-1.5741571601779469E-5,2.4136794033822184E-3,-3.9556547117335157,5.1240480084530304E-2,2.1714221355040308E-4,-3.9017991516036545,null,-23.360083578069037]
[null,null,null,"B2",3,null,{"$f":"B70/B71","v":1.4703214655425061E-2},null,null,null,null,null,null,null,null,null,null,10.404,{"$f":"2*PI()*R118/B56","v":1.3618804153311753E-3},1.8547179789976451E-6,5.7564197458503941E-5,-39.29449162218468,-7.0337117135110816E-6,20.185447709662398,-2.1873890680979002E-4,-19.10921212094334,null,null,null,null,-1.6377672622525097E-5,2.5111856145016986E-3,-3.9469331585826737,5.1242708525869318E-2,2.2592374699570428E-4,-3.8929697183679295,null,-23.00218183931127]
[null,null,null,"-A1",4,null,{"$f":"B72/B71","v":-1.6672116407730386},null,null,null,null,null,null,null,null,null,null,10.612080000000001,{"$f":"2*PI()*R119/B56","v":1.3891180236377989E-3},1.929648573300003E-6,5.9889677171298672E-5,-38.949806246094411,-7.3178735329193501E-6,20.189780011684121,-2.2760208260308445E-4,-18.76020126468925,null,null,null,null,-1.7039483800829203E-5,2.6126305461033894E-3,-3.9378864347165745,5.1245026999364285E-2,2.3506079588031525E-4,-3.8838107558590274,null,-22.644012020548278]
[null,null,null,"-A2",5,null,{"$f":"B73/B71","v":0.72602449939473879},null,null,null,null,null,null,null,null,null,null,10.824321600000001,{"$f":"2*PI()*R120/B56","v":1.416900384110555E-3},2.0076063626189397E-6,6.2309096879431536E-5,-38.605095116592153,-7.6135154789547244E-6,20.193999871865998,-2.3682548909675916E-4,-18.411277374633855,null,null,null,null,-1.7728044781506469E-5,2.7181732788079671E-3,-3.9285034883411214,5.1247439142578344E-2,2.4456778425729908E-4,-3.8743110361802593,null,-22.285588410814114]
[null,null,"pre2","B0",6,null,{"$f":"C68/C71","v":0.99169091427440392},null,null,null,null,null,null,null,null,null,null,11.040808032000001,{"$f":"2*PI()*R121/B56","v":1.4452383917927659E-3},2.088713645551248E-6,6.4826250987692902E-5,-38.260357330823794,-7.921101345953474E-6,20.198077873352048,-2.4642385815809575E-4,-18.062468976180256,null,null,null,null,-1.844443728771239E-5,2.8279793164713851E-3,-3.9187729748204134,5.1249948740043294E-2,2.54459723876721E-4,-3.8644590314773097,null,-21.926928007657565]
[null,null,"HPF","B1",7,null,{"$f":"C69/C71","v":-1.9833818285488078},null,null,null,null,null,null,null,null,null,null,11.261624192640001,{"$f":"2*PI()*R122/B56","v":1.4741431596286215E-3},2.1730976615502875E-6,6.7445087118755964E-5,-37.915591960911883,-8.2411136714810596E-6,20.201981282970834,-2.5641253161268196E-4,-17.713807886499211,null,null,null,null,-1.9189786861772973E-5,2.9422208454192855E-3,-3.9086832554313631,5.1252559729217495E-2,2.6475223854305341E-4,-3.854242912405045,null,-21.568050798904256]
[null,null,null,"B2",8,null,{"$f":"C70/C71","v":0.99169091427440392},null,null,null,null,null,null,null,null,null,null,11.486856676492801,{"$f":"2*PI()*R123/B56","v":1.5036260228211938E-3},2.260890790536022E-6,7.0169712326872968E-5,-37.570798053902323,-8.5740544792933804E-6,20.205673745357174,-2.6680748711527258E-4,-17.365329520374409,null,null,null,null,-1.9965264570487307E-5,3.0610770040695456E-3,-3.8982223967119936,5.1255276206642719E-2,2.7546158910496388E-4,-3.8436505471767468,null,-21.208980067551156]
[null,null,null,"-A1",9,null,{"$f":"C72/C71","v":-1.9832968687663206},null,null,null,null,null,null,null,null,null,null,11.716593810022657,{"$f":"2*PI()*R124/B56","v":1.5336985432776176E-3},2.3522307605692784E-6,7.3004399517628826E-5,-37.225974631789342,-8.9204460809177988E-6,20.209114953428667,-2.7762536520015146E-4,-17.017073219772435,null,null,null,null,-2.0772088916487519E-5,3.1847341634829718E-3,-3.887378170457346,5.1258102434413644E-2,2.8660469981645065E-4,-3.8326695012485494,null,-20.849742721020984]
[null,null,null,"-A2",10,null,{"$f":"C73/C71","v":0.98346678833129519},null,null,null,null,null,null,null,null,null,null,11.95092568622311,{"$f":"2*PI()*R125/B56","v":1.5643725141431702E-3},2.4472608639159826E-6,7.5953594119937407E-5,-36.881120691629278,-9.280831886560037E-6,20.212260294127205,-2.8888349748967812E-4,-16.669082608237332,null,null,null,null,-2.1611527749598736E-5,3.31338621916899E-3,-3.8761380544186537,5.1261042846821425E-2,2.9819918555773484E-4,-3.8212870376948551,null,-20.490369645932187]
[null,null,"pre3","B0",11,null,{"$f":"D68/D71","v":2.6537688419056553},null,null,null,null,null,null,null,null,null,null,12.189944199947572,{"$f":"2*PI()*R126/B56","v":1.5956599644260333E-3},2.5461301818403314E-6,7.9021921081334767E-5,-36.536235205753371,-9.6557772621963522E-6,20.215060468451298,-3.0059993612496783E-4,-16.321405971094379,null,null,null,null,-2.2484900213726178E-5,3.44723489466503E-3,-3.8644892337636421,5.1264102057334782E-2,3.1026338042750012E-4,-3.8094901183314285,null,-20.130896089425807]
[null,null,"Hi Shelf","B1",12,null,{"$f":"D69/D71","v":-2.2750237208829942},null,null,null,null,null,null,null,null,null,null,12.433743083946524,{"$f":"2*PI()*R127/B56","v":1.6275731637145541E-3},2.648993818479575E-6,8.2214192111962348E-5,-36.191317122092343,-1.004587041020244E-5,20.217461084969884,-3.1279348465318435E-4,-15.974096662285412,null,null,null,null,-2.3393578935326786E-5,3.5864900573585601E-3,-3.8524186033589842,5.1267284865854634E-2,3.2281636732989227E-4,-3.7972654056473765,null,-19.771362067932788]
[null,null,null,"B2",13,null,{"$f":"D70/D71","v":1.188197551145886},null,null,null,null,null,null,null,null,null,null,12.682417945625454,{"$f":"2*PI()*R128/B56","v":1.6601246269888452E-3},2.756013144167249E-6,8.5535413205661825E-5,-35.846365364625754,-1.0451723301940774E-5,20.219402226232404,-3.254837301653879E-4,-15.627213538433608,null,null,null,null,-2.4338992083983157E-5,3.7313700470065214E-3,-3.8399127709365288,5.1270596266217439E-2,3.3587800894707698E-4,-3.7845992656064418,null,-19.41181280404005]
[null,null,null,"-A1",14,null,{"$f":"D72/D71","v":0.20455902817240668},null,null,null,null,null,null,null,null,null,null,12.936066304537963,{"$f":"2*PI()*R129/B56","v":1.6933271195286219E-3},2.8673560485866123E-6,8.8990792484366921E-5,-35.501378833970591,-1.0873972626779249E-5,20.220817987784159,-3.3869107696915535E-4,-15.280821420443544,null,null,null,null,-2.5322625681667432E-5,3.8821020175276999E-3,-3.8269580612083587,5.1274041454075103E-2,3.4946897994103665E-4,-3.7714777713824965,null,-19.052299191826041]
[null,null,null,"-A2",15,null,{"$f":"D73/D71","v":0.3623836439961402},null,null,null,null,null,null,null,null,null,null,13.194787630628722,{"$f":"2*PI()*R130/B56","v":1.7271936619191945E-3},2.9831972041514115E-6,9.2585748362239428E-5,-35.156356408125291,-1.1313280800617775E-5,20.221635989873448,-3.5243678175334026E-4,-14.934991582566035,null,null,null,null,-2.634602599016489E-5,4.0389222924943624E-3,-3.8135405209964262,5.1277625834995177E-2,3.6361080057645268E-4,-3.7578867080943503,null,-18.692878290660385]
[null,null,"pre4","B0",16,null,{"$f":"E68/E71","v":1.004898772364998},null,null,null,null,null,null,null,null,null,null,13.458683383241297,{"$f":"2*PI()*R131/B56","v":1.7617375351575786E-3},3.1037183400271407E-6,9.6325918022444057E-5,-34.811296943386481,-1.1770336998395692E-5,20.221776862412995,-3.6674299037997571E-4,-14.58980226838284,null,null,null,null,-2.7410801855864975E-5,4.2020767350479105E-3,-3.7996459254445938,5.1281355032994469E-2,3.7832587172204057E-4,-3.7438115786066852,null,-18.333613846989525]
[null,null,"Lo Shelf","B1",17,null,{"$f":"E69/E71","v":-1.995421011637335},null,null,null,null,null,null,null,null,null,null,13.727857050906124,{"$f":"2*PI()*R132/B56","v":1.79697228586073E-3},3.2291085272226729E-6,1.0021716624919463E-4,-34.466199275457683,-1.2245858237669438E-5,20.221153704346236,-3.8163277625358205E-4,-14.245339232579688,null,null,null,null,-2.8518627345874847E-5,4.3718211325654011E-3,-3.7852597853821095,5.1285234899360432E-2,3.9363751135113034E-4,-3.7292376104661784,null,-17.974576843045867]
[null,null,null,"B2",18,null,{"$f":"E70/E71","v":0.99065735017569911},null,null,null,null,null,null,null,null,null,null,14.002414191924247,{"$f":"2*PI()*R133/B56","v":1.8329117315779447E-3},3.3595644751995165E-6,1.0426559462928253E-4,-34.121062220771108,-1.2740590502602345E-5,20.219671519288013,-3.9713018070841599E-4,-13.90169630665968,null,null,null,null,-2.9671244384132933E-5,4.5484215969722186E-3,-3.7703673559084265,5.1289271521824276E-2,4.0956999259122995E-4,-3.7141497640414229,null,-17.615846070701103]
[null,null,null,"-A1",19,null,{"$f":"E72/E71","v":-1.9954818081208334},null,null,null,null,null,null,null,null,null,null,14.282462475762733,{"$f":"2*PI()*R134/B56","v":1.8695699662095039E-3},3.4952908404639594E-6,1.0847755105913848E-4,-33.775884578045265,-1.325530992035695E-5,20.217226630174821,-4.1326025490917573E-4,-13.558975985884217,null,null,null,null,-3.0870465437260464E-5,4.7321549810135366E-3,-3.7549536462701951,5.1293471234089338E-2,4.2614858341494255E-4,-3.6985327419371146,null,-17.257508727821332]
[null,null,null,"-A2",20,null,{"$f":"E73/E71","v":0.99549532605719948},null,null,null,null,null,null,null,null,null,null,14.568111725277987,{"$f":"2*PI()*R135/B56","v":1.9069613655336938E-3},3.6365005476262434E-6,1.128596397315107E-4,-33.430665130103691,-1.3790823965020849E-5,20.213706076689434,-4.3004910398281027E-4,-13.217290033702476,null,null,null,null,-3.2118176491735539E-5,4.9233093114224857E-3,-3.7390034311011178,5.1297840625853297E-2,4.4339958803618629E-4,-3.6823709997522975,null,-16.899661033454773]
[null,null,"pre5","B0",21,null,{"$f":"F68/F71","v":0.99674481705916029},null,null,null,null,null,null,null,null,null,null,14.859473959783546,{"$f":"2*PI()*R136/B56","v":1.9451005928443677E-3},3.7834151234304096E-6,1.1741873144899273E-4,-33.085402645982441,-1.4347972737027703E-5,20.208987000436167,-4.475239330901104E-4,-12.876760098720652,null,null,null,null,-3.3416339945802065E-5,5.122184239382932E-3,-3.7225012630958503,5.1302386553075507E-2,4.6135038995487321E-4,-3.6656487582533828,null,-16.542408856974035]
[null,null,"PeakEQ","B1",22,null,{"$f":"F69/F71","v":-1.9919857303745665},null,null,null,null,null,null,null,null,null,null,15.156663438979217,{"$f":"2*PI()*R137/B56","v":1.9840026047012551E-3},3.9362650442788125E-6,1.2216197439229859E-4,-32.740095883356219,-1.4927630277661308E-5,20.202936024248473,-4.6571309563603336E-4,-12.537518337859268,null,null,null,null,-3.4766997785595777E-5,5.3290915092532032E-3,-3.7054314871878233,5.1307116148780807E-2,4.8002949701952957E-4,-3.6483500170305554,null,-16.185868354889823]
["Master A",{"$f":"SQRT( 10^((D112)/20) )","v":1.1329689296300816},null,"B2",23,null,{"$f":"F70/F71","v":0.99653221673205339},null,null,null,null,null,null,null,null,null,null,15.459796707758802,{"$f":"2*PI()*R138/B56","v":2.0236826567952802E-3},4.0952900977964917E-6,1.2709680528644185E-4,-32.3947435913162,-1.5530705936850353E-5,20.195408633624396,-4.8464614374665871E-4,-12.199708037736201,null,null,null,null,-3.6172274782586555E-5,5.5443554460481437E-3,-3.6877782563004047,5.1312036834239905E-2,4.9946658833732727E-4,-3.6304585697065619,null,-15.830166607442763]
["A",{"$f":"SQRT( 10^((D111)/20) )","v":0.72690724928258155},null,"-A1",24,null,{"$f":"F72/F71","v":-1.9919857303745665},null,null,null,null,null,null,null,null,null,null,15.768992641913979,{"$f":"2*PI()*R139/B56","v":2.0641563099311859E-3},4.2607397590025958E-6,1.322309610749528E-4,-32.04934451353553,-1.6158145802691593E-5,20.186248570109015,-5.0435388124014935E-4,-11.863484224492488,null,null,null,null,-3.7634381897078129E-5,5.7683134625605703E-3,-3.6695255487383776,5.1317156330661362E-2,5.1969256318074031E-4,-3.611958020763872,null,-15.47544224525636]
["wo",{"$f":"2*PI()*D109/B56","v":0.12806554914937537},null,"-A2",25,null,{"$f":"F73/F71","v":0.99327703379121379},null,null,null,null,null,null,null,null,null,null,16.084372494752259,{"$f":"2*PI()*R140/B56","v":2.1054394361298095E-3},4.4328735816789597E-6,1.3757249099555224E-4,-31.703897391861744,-1.6810934186040072E-5,20.175287248478355,-5.2486841892118719E-4,-11.529014250245503,null,null,null,null,-3.9155619759867477E-5,6.0013165868753049E-3,-3.6506571872852405,5.132248267124595E-2,5.4073959205425126E-4,-3.5928318040548248,null,-15.121846054300327]
["cos(wo)",{"$f":"COS(B140)","v":0.99181080917449804},"post1","B0",26,null,{"$f":"B186/B189","v":0.99360224476460113},null,null,null,null,null,null,null,null,null,null,16.406059944647303,{"$f":"2*PI()*R141/B56","v":2.1475482248524058E-3},4.6119616055498078E-6,1.4312976918873233E-4,-31.35840097037925,-1.7490095161942776E-5,20.162343211809116,-5.4622323273889606E-4,-11.196478342128845,null,null,null,null,-4.0738382324434497E-5,6.2437300111071181E-3,-3.6311568600680033,5.1328024213873391E-2,5.6264116997084557E-4,-3.5730632030553764,null,-14.769541545184222]
["sin(wo)",{"$f":"SIN(B140)","v":0.12771577351536248},null,"B1",27,null,{"$f":"B187/B189","v":-1.9567120166794318},null,null,null,null,null,null,null,null,null,null,16.734181143540251,{"$f":"2*PI()*R142/B56","v":2.1904991893494539E-3},4.7982847799113188E-6,1.4891150779661189E-4,-31.012853999988437,-1.819669417635339E-5,20.14722164091927,-5.6845322452403479E-4,-10.866070097480069,null,null,null,null,-4.2385160710978198E-5,6.495933662208131E-3,-3.6110081432479575,5.1333789654169237E-2,5.8543217196671549E-4,-3.5526353729203244,null,-14.418705470400393]
["Alpha",{"$f":" B142/(2*D110)","v":9.9967620999783235E-3},null,"B2",28,null,{"$f":"B188/B189","v":0.9792659661677221},null,null,null,null,null,null,null,null,null,null,17.068864766411057,{"$f":"2*PI()*R143/B56","v":2.2343091731364434E-3},4.992135404375616E-6,1.5492677060890969E-4,-30.667255243553129,-1.8931839723457244E-5,20.129713937187375,-5.9159478582415659E-4,-10.537996906220691,null,null,null,null,-4.4098547093085472E-5,6.7583227956333758E-3,-3.590194525591258,5.1339788039204137E-2,6.0914891110286362E-4,-3.5315313643924107,null,-14.069528270613102]
[null,null,null,"-A1",29,null,{"$f":"B190/B189","v":-1.9567120166794318},null,null,null,null,null,null,null,null,null,null,17.410242061739279,{"$f":"2*PI()*R144/B56","v":2.2789953565991723E-3},5.1938175874206032E-6,1.6118498720985031E-4,-30.321603481672014,-1.9696685077619236E-5,20.109597400337677,-6.1568586478699672E-4,-10.21248027889699,null,null,null,null,-4.5881238904144084E-5,7.0313086130013858E-3,-3.5686994349676411,5.1346028781665609E-2,6.3382919904597657E-4,-3.5097341496128323,null,-13.722214428509822]
[null,null,null,"-A2",30,null,{"$f":"B191/B189","v":0.97286821093232312},null,null,null,null,null,null,null,null,null,null,17.758446902974065,{"$f":"2*PI()*R145/B56","v":2.3245752637311556E-3},5.4036477234649582E-6,1.6769596775745299E-4,-29.975897519134875,-2.0492430103047354E-5,20.086635025319396,-6.4076603626972428E-4,-9.8897560563140949,null,null,null,null,-4.7736043036650244E-5,7.3153189044390388E-3,-3.546506266819847,5.1352521674665752E-2,6.5951240908646014E-4,-3.4872266498746924,null,-13.376982706188787]
["LPF B0",{"$f":"B138^2*(1 - B141)/2","v":5.255898812885359E-3},"post2","B0",31,null,{"$f":"B196","v":1.1335819379207495},null,null,null,null,null,null,null,null,null,null,18.113615841033546,{"$f":"2*PI()*R146/B56","v":2.3710667690057786E-3},5.621954989216703E-6,1.7446991831349123E-4,-29.630136192130891,-2.1320323140283648E-5,20.060575444788483,-6.6687657541564249E-4,-9.5700744743226487,null,null,null,null,-4.966588040389297E-5,7.6107987168256841E-3,-3.5235984146388262,5.1359276907113838E-2,6.8623954223312467E-4,-3.4639917653530574,null,-13.034066239675706]
["LPF B1",{"$f":"B138^2*(1 - B141)","v":1.0511797625770718E-2},"PA EQ","B1",32,null,{"$f":"B197","v":-1.9639342069592398},null,null,null,null,null,null,null,null,null,null,18.475888157854218,{"$f":"2*PI()*R147/B56","v":2.4184881043858948E-3},5.8490818600739708E-6,1.8151745679162445E-4,-29.284318376281092,-2.218166296374946E-5,20.031153045761315,-6.940605349825546E-4,-9.2537000552609321,null,null,null,null,-5.1673790515849305E-5,7.9182110487820978E-3,-3.4999593024719857,5.1366305079703523E-2,7.1405329583029697E-4,-3.4400124068381857,null,-12.693712462099118]
["LPF B2",{"$f":"B138^2*((1 - B141)/2)","v":5.255898812885359E-3},null,"B2",33,null,{"$f":"B198","v":0.84656809552550594},null,null,null,null,null,null,null,null,null,null,18.845405921011302,{"$f":"2*PI()*R148/B56","v":2.4668578664736123E-3},6.0853846473880462E-6,1.8884962958409801E-4,-28.938442995574206,-2.3077800813897653E-5,19.998088290565434,-7.223628263233195E-4,-8.9409112960063268,null,null,null,null,-5.3762936374823767E-5,8.2380375736548217E-3,-3.4755724194830862,5.1373617221589285E-2,7.4299813564238093E-4,-3.4152715294885745,null,-12.356182825494901]
["LPF A0",{"$f":"1+B143","v":1.0099967620999784},null,"-A1",34,null,{"$f":"B199","v":-1.9639342069592398},null,null,null,null,null,null,null,null,null,null,19.222314039431527,{"$f":"2*PI()*R149/B56","v":2.5161950238030847E-3},6.3312340574315284E-6,1.9647792879950998E-4,-28.592509032292696,-2.4010142523955835E-5,19.961088273038101,-7.5183030456571487E-4,-8.6320001217728866,null,null,null,null,-5.5936609470563781E-5,8.5707793914622243E-3,-3.4504213565718516,5.1381224807705905E-2,7.731203706953238E-4,-3.3897521686114587,null,-12.021752290384345]
["LPF A1",{"$f":"-2*B141","v":-1.9836216183489961},null,"-A2",35,null,{"$f":"B200","v":0.98015003344625529},null,null,null,null,null,null,null,null,null,null,19.606760320220157,{"$f":"2*PI()*R150/B56","v":2.5665189242791461E-3},6.5870157729484108E-6,2.044143102466478E-4,-28.246515538022891,-2.4980150719056127E-5,19.919847540772381,-7.825118581124002E-4,-8.3272710749490955,null,null,null,null,-5.8198235102224771E-5,8.9169578110031011E-3,-3.4244898450511769,5.138913977676296E-2,8.0446823181290483E-4,-3.3634374774667002,null,-11.690708552415796]
["LPF A2",{"$f":"1-B143","v":0.99000323790002165},"post3","B0",36,null,1.029078483581543,null,null,null,null,null,null,null,null,null,null,19.998895526624562,{"$f":"2*PI()*R151/B56","v":2.6178493027647289E-3},6.8531310581984245E-6,2.1267121212176221E-4,-27.900461645851522,-2.5989347116173178E-5,19.874049212816914,-8.1445850254624474E-4,-8.0270402096721476,null,null,null,null,-6.0551377764284098E-5,9.2771151633783688E-3,-3.3977617973676857,5.1397374550052888E-2,8.3709195337888787E-4,-3.3363107670786398,null,-11.363350976750787]
[null,null,null,"B1",37,null,-1.0814294815063477,null,null,null,null,null,null,null,null,null,null,20.398873437157054,{"$f":"2*PI()*R152/B56","v":2.6702062888200235E-3},7.1299973884447463E-6,2.2126157443125294E-4,-27.554346583861062,-2.7039314909327317E-5,19.82336641933081,-8.477234795378763E-4,-7.731633665750266,null,null,null,null,-6.2999746916148069E-5,9.6518156481479878E-3,-3.3702213498384239,5.1405942050919862E-2,8.7104385888636671E-4,-3.3083555480273859,null,-11.039989213777652]
[null,null,null,"B2",38,null,5.7410240173339844E-2,null,null,null,null,null,null,null,null,null,null,20.806850905900195,{"$f":"2*PI()*R153/B56","v":2.7236104145964245E-3},7.4180491048725272E-6,2.301988592208204E-4,-27.208169690045025,-2.8131701249378693E-5,19.76746408502953,-8.8236236062755324E-4,-7.4413859002181511,null,null,null,null,-6.5547202865445797E-5,1.004164621333814E-2,-3.3418529073632826,5.1414855725063546E-2,9.0637845035246301E-4,-3.2795555741773939,null,-10.720941474395545]
["HPF B0",{"$f":"B138^2*(1 + B141)/2","v":1.2783626966942474},null,"-A1",39,null,-1.3199930191040039,null,null,null,null,null,null,null,null,null,null,21.222987924018199,{"$f":"2*PI()*R154/B56","v":2.7780826228883527E-3},7.7177380959656782E-6,2.3949707158621436E-4,-26.861930428775906,-2.9268219835287823E-5,19.706001071627824,-9.184331566203241E-4,-7.1566375614529534,null,null,null,null,-6.8197762971067277E-5,1.0447217470819226E-2,-3.3126411900576755,5.1424129561713272E-2,9.4315250159127118E-4,-3.2498948882865228,null,-10.406532449739476]
["HPF B1",{"$f":"B138^2*-(1 + B141)","v":-2.5567253933884948},null,"-A2",40,null,0.32817935943603516,null,null,null,null,null,null,null,null,null,null,21.647447682498562,{"$f":"2*PI()*R155/B56","v":2.8336442753461202E-3},8.0295345064107207E-6,2.4917078156860839E-4,-26.515628408970045,-3.0450653595526234E-5,19.638632685763014,-9.5599643253052591E-4,-6.8777329995115899,null,null,null,null,-7.0955608066469722E-5,1.0869164648298124E-2,-3.2825712817350237,5.1433778115551831E-2,9.8142515598453883E-4,-3.2193578694232556,null,-10.097090868934846]
["HPF B2",{"$f":"B138^2*(1 + B141)/2","v":1.2783626966942474},"post4","B0",41,null,0.84765434265136719,null,null,null,null,null,null,null,null,null,null,22.080396636148535,{"$f":"2*PI()*R156/B56","v":2.8903171608530426E-3},8.3539274746397624E-6,2.5923514689196736E-4,-26.169263404105976,-3.1680857487170755E-5,19.565013548052534,-9.9511542872932068E-4,-6.6050174171927658,null,null,null,null,-7.3825089152990131E-5,1.1308148579423971E-2,-3.2516286801520877,5.1443816529634034E-2,1.0212580284161277E-3,-3.1879292821037666,null,-9.7929466992965324]
["HPF A0",{"$f":"1+B143","v":1.0099967620999784},null,"B1",42,null,-1.3982982635498047,null,null,null,null,null,null,null,null,null,null,22.522004568871505,{"$f":"2*PI()*R157/B56","v":2.9481235040701029E-3},8.6914259001696055E-6,2.6970593663477871E-4,-25.822835374267186,-3.2960761410461004E-5,19.484800806138068,-1.0358561883805351E-3,-6.3388336791422724,null,null,null,null,-7.6810734427112948E-5,1.1764856733620377E-2,-3.219799348913817,5.1454260559143705E-2,1.0627153119671107E-3,-3.1555943270435129,null,-9.4944280061857853]
["HPF A1",{"$f":"-2*B141","v":-1.9836216183489961},null,"B2",43,null,0.64283657073974609,null,null,null,null,null,null,null,null,null,null,22.972444660248936,{"$f":"2*PI()*R158/B56","v":3.0070859741515056E-3},9.0425592419406905E-6,2.8059955583259466E-4,-25.476344490394027,-3.4292373225941475E-5,19.397657660104301,-1.0782876918042916E-3,-6.0795188107989233]
["HPF A2",{"$f":"1-B143","v":0.99000323790002165},null,"-A1",44,null,-1.7774972915649414,null,null,null,null,null,null,null,null,null,null,23.431893553453914,{"$f":"2*PI()*R159/B56","v":3.0672276936345357E-3},9.4078783489081294E-6,2.9193307109309785E-4,-25.129791160946994,-3.5677781916820805E-5,19.303257153048378,-1.1224819980881762E-3,-5.8274002346075271]
[null,null,null,"-A2",45,null,0.86914825439453125,null,null,null,null,null,null,null,null,null,null,23.900531424522992,{"$f":"2*PI()*R160/B56","v":3.1285722475072261E-3},9.7879563241879131E-6,3.0372423722724307E-4,-24.783176061198887,-3.7119160855692002E-5,19.201286163532956,-1.1685143943864773E-3,-5.5827918069839448]
[null,null,"post 5","B0",46,null,1.0084399188751516,null,null,null,null,null,null,null,null,null,null,24.378542053013451,{"$f":"2*PI()*R161/B56","v":3.1911436924573705E-3},1.0183389424113715E-5,3.1599152493200222E-4,-24.436500165393923,-3.861877122091073E-5,19.091449521086915,-1.2164635534119839E-3,-5.3459897351067092]
["HShelf B0",{"$f":"B138^2*(B139*( (B139+1) + (B139-1)*B141 + 2*SQRT(B139)*B143 ))","v":1.3745052133103892},null,"B1",47,null,-1.994599000969469,null,null,null,null,null,null,null,null,null,null,24.866112894073719,{"$f":"2*PI()*R162/B56","v":3.2549665663065175E-3},1.0594797993614649E-5,3.2875414960997773E-4,-24.089764782030585,-4.0178965534654054E-5,18.973474151876459,-1.2664116996106145E-3,-5.1172684666696604]
["HShelf B1",{"$f":"B138^2*(-2*B139*( (B139-1) + (B139+1)*B141 ))","v":-2.686635273442683},null,"B2",48,null,0.98968454359703684,null,null,null,null,null,null,null,null,null,null,25.363435151955194,{"$f":"2*PI()*R163/B56","v":3.320065897632648E-3},1.1022827439381337E-5,3.4203210131877881E-4,-23.742971592546709,-4.1802191367068531E-5,18.847113150285352,-1.3184447847223169E-3,-4.8968766571361257]
["HShelf B2",{"$f":"B138^2*(B139*( (B139+1) + (B139-1)*B141 - 2*SQRT(B139)*B143 ))","v":1.3426944677209505},null,"-A1",49,null,-1.9945990009694701,null,null,null,null,null,null,null,null,null,null,25.8707038549943,{"$f":"2*PI()*R164/B56","v":3.3864672155853016E-3},1.1468149242346719E-5,3.5584617593187318E-4,-23.396122693709088,-4.3490995161654666E-5,18.712149664526748,-1.3726526731332456E-3,-4.6850333266747022]
["HShelf A0",{"$f":"(B139+1) - (B139-1)*B141 + 2*SQRT(B139)*B143","v":2.01480984131888},null,"-A2",50,null,0.998124462472188,null,null,null,null,null,null,null,null,null,null,26.388117932094186,{"$f":"2*PI()*R165/B56","v":3.4541965598970073E-3},1.1931462011069969E-5,3.7021800756775747E-4,-23.049220644033227,-4.524802624006341E-5,18.568400481545495,-1.4291293378434489E-3,-4.4819243218442466]
["HShelf A1",{"$f":"2*((B139-1)-(B139+1)*B141)","v":-3.9717160539953644},null,null,null,null,null,null,null,null,null,null,null,null,null,null,null,26.915880290736069,{"$f":"2*PI()*R166/B56","v":3.5232804910949474E-3},1.2413492577675835E-5,3.8517010225902482E-4,-22.702268514586223,-4.7076040949889375E-5,18.415719199091853,-1.4879730675190217E-3,-4.2876991945005791]
["HShelf A2",{"$f":"(B139+1) - (B139-1)*B141 - 2*SQRT(B139)*B143","v":1.9807173413837476},null,null,null,null,null,null,null,null,null,null,null,null,null,null,null,27.454197896550792,{"$f":"2*PI()*R167/B56","v":3.5937461009168466E-3},1.2914997138068513E-5,4.0072587305672869E-4,-22.355269944553783,-4.8977906998093346E-5,18.253998881343378,-1.5492866857798049E-3,-4.1024686019301271]
[null,null,null,null,null,null,null,null,null,null,null,null,null,null,null,null,null,28.003281854481809,{"$f":"2*PI()*R168/B56","v":3.6656210229351837E-3},1.3436762438208691E-5,4.1690967643503996E-4,-22.008229201981038,-5.0956607939411924E-5,18.083174108761895,-1.6131777831205341E-3,-3.9263023179337679]
[null,null,null,null,null,null,null,null,null,null,null,null,null,null,null,null,null,28.563347491571445,{"$f":"2*PI()*R169/B56","v":3.7389334433938874E-3},1.3979607008314574E-5,4.337468502377817E-4,-21.661151250129592,-5.3015247861498693E-5,17.903222352476234,-1.6797589624744091E-3,-3.7592279250134553]
["LShelf B0",{"$f":"B138^2*(B139*( (B139+1) - (B139-1)*B141 + 2*SQRT(B139)*B143 ))","v":1.8799619680352315},null,null,null,null,null,null,null,null,null,null,null,null,null,null,null,29.134614441402874,{"$f":"2*PI()*R170/B56","v":3.8137121122617649E-3},1.4544382446922843E-5,4.5126375309223477E-4,-21.314041819925251,-5.5157056257471027E-5,17.714164627385443,-1.7491480996341124E-3,-3.6012302339426085]
["LShelf B1",{"$f":"B138^2*(2*B139*( (B139-1) - (B139+1)*B141 ))","v":-3.7058957010348026},null,null,null,null,null,null,null,null,null,null,null,null,null,null,null,29.717306730230931,{"$f":"2*PI()*R171/B56","v":3.8899863545069999E-3},1.5131974756823826E-5,4.6948780544298074E-4,-20.966907489006672,-5.7385393084530278E-5,17.516065405000504,-1.8214686190844986E-3,-3.4522514502128949]
["LShelf B2",{"$f":"B138^2*(B139*( (B139+1) - (B139-1)*B141 - 2*SQRT(B139)*B143 ))","v":1.848151222445793},null,null,null,null,null,null,null,null,null,null,null,null,null,null,null,30.311652864835551,{"$f":"2*PI()*R172/B56","v":3.9677860815971406E-3},1.5743305734966347E-5,4.8844753213472814E-4,-20.619755767920012,-5.9703754038409329E-5,17.309031795124724,-1.8968497867248857E-3,-3.3121920788039176]
["LShelf A0",{"$f":"(B139+1) + (B139-1)*B141 + 2*SQRT(B139)*B143","v":1.4730971571814153},null,null,null,null,null,null,null,null,null,null,null,null,null,null,null,30.917885922132264,{"$f":"2*PI()*R173/B56","v":4.0471418032290837E-3},1.6379334418512536E-5,5.0817260681768062E-4,-20.272595194043404,-6.2115776039650683E-5,17.093212033036735,-1.9754270205183388E-3,-3.1809125311964088]
["LShelf A1",{"$f":"-2*((B139-1)+(B139+1)*B141)","v":-2.8793450511256902},null,null,null,null,null,null,null,null,null,null,null,null,null,null,null,31.536243640574909,{"$f":"2*PI()*R174/B56","v":4.1280846392936655E-3},1.7041058589310841E-5,5.2869389802268074E-4,-19.925435433862631,-6.4625242934379656E-5,16.868793334151363,-2.0573422203753466E-3,-3.0582353732765561]
["LShelf A2",{"$f":"(B139+1) +(B139-1)*B141 - 2*SQRT(B139)*B143","v":1.4390046572462831},null,null,null,null,null,null,null,null,null,null,null,null,null,null,null,32.166968513386408,{"$f":"2*PI()*R175/B56","v":4.2106463320795385E-3},1.7729516339147144E-5,5.5004351711573918E-4,-19.578287394258993,-6.7236091427780309E-5,16.635999199681052,-2.1427441187356067E-3,-2.9439481312709894]
[null,null,null,null,null,null,null,null,null,null,null,null,null,null,null,null,null,32.81030788365414,{"$f":"2*PI()*R176/B56","v":4.2948592587211303E-3},1.8445787698229228E-5,5.7225486817458204E-4,-19.23116334350955,-6.9952417268481781E-5,16.395086273432952,-2.2317886532832176E-3,-2.8378065562789772]
[null,null,null,null,null,null,null,null,null,null,null,null,null,null,null,null,null,33.466514041327223,{"$f":"2*PI()*R177/B56","v":4.3807564438955527E-3},1.9190996329458868E-5,5.9536269980497991E-4,-18.884077042738554,-7.2778481662538752E-5,16.146340860831785,-2.3246393634934748E-3,-2.7395382370521197]
["Notch B0",1,null,null,null,null,null,null,null,null,null,null,null,null,null,null,null,34.135844322153766,{"$f":"2*PI()*R178/B56","v":4.4683715727734637E-3},1.9966311291149346E-5,6.1940315909225774E-4,-18.537043888596727,-7.5718717964079474E-5,15.890075226300581,-2.42146781278052E-3,-2.6488464456678003]
["Notch B1",{"$f":"-2*B141","v":-1.9836216183489961},null,null,null,null,null,null,null,null,null,null,null,null,null,null,null,34.81856120859684,{"$f":"2*PI()*R179/B56","v":4.5577390042289331E-3},2.0772948870953083E-5,6.4441384760627329E-4,-18.190081067981069,-7.8777738628854621E-5,15.626623784469871,-2.5224540382851046E-3,-2.5654141014405063]
["Notch B2",{"$f":"1","v":1},null,null,null,null,null,null,null,null,null,null,null,null,null,null,null,35.514932432768781,{"$f":"2*PI()*R180/B56","v":4.648893784313512E-3},2.1612174493876118E-5,6.704338797192122E-4,{"$f":"10*LOG10(($G$121+$G$122+$G$123)^2 + ( $G$121*$G$123*$T180 - ($G$122*($G$121+$G$123) + 4*$G$121*$G$123) )*$T180 )  - 10*LOG10( (1+$G$124+$G$125)^2 + ( 1*$G$125*$T180 - ($G$124*(1+$G$125) + 4*1*$G$125) )*$T180)","v":-17.843207725638834},{"$f":"10*LOG10(($G$126+$G$127+$G$128)^2 + ( $G$126*$G$128*$T180 - ($G$127*($G$126+$G$128) + 4*$G$126*$G$128) )*$T180 )  - 10*LOG10( (1+$G$129+$G$130)^2 + ( 1*$G$130*$T180 - ($G$129*(1+$G$130) + 4*1*$G$130) )*$T180)","v":-8.196034244756234E-5},{"$f":"10*LOG10(($G$131+$G$132+$G$133)^2 + ( $G$131*$G$133*$T180 - ($G$132*($G$131+$G$133) + 4*$G$131*$G$133) )*$T180 )  - 10*LOG10( (1+$G$134+$G$135)^2 + ( 1*$G$135*$T180 - ($G$134*(1+$G$135) + 4*1*$G$135) )*$T180)","v":15.356339294914093},{"$f":"10*LOG10(($G$136+$G$137+$G$138)^2 + ( $G$136*$G$138*$T180 - ($G$137*($G$136+$G$138) + 4*$G$136*$G$138) )*$T180 )  - 10*LOG10( (1+$G$139+$G$140)^2 + ( 1*$G$140*$T180 - ($G$139*(1+$G$140) + 4*1*$G$140) )*$T180)","v":-2.6277870301925077E-3},{"$f":"U180+V180+W180+X180+Y180","v":-2.4889077442176628}]
["Notch A0",{"$f":"1+B143","v":1.0099967620999784},null,null,null,null,null,null,null,null,null,null,null,null,null,null,null,36.225231081424155,{"$f":"2*PI()*R181/B56","v":4.7418716599997822E-3},{"$f":"4*(SIN(S181/2))^2","v":2.2485304707372126E-5},{"$f":"10*LOG10(($G$116+$G$117+$G$118)^2 + ( $G$116*$G$118*T181 - ($G$117*($G$116+$G$118) + 4*$G$116*$G$118) )*T181 )  - 10*LOG10( (1+$G$119+$G$120)^2 + ( 1*$G$120*T181 - ($G$119*(1+$G$120) + 4*1*$G$120) )*T181)","v":6.9750394318646158E-4},-17.496445145527957,-8.5271522073604444E-5,15.079589160123504,-2.7376652432167248E-3,-2.4189814182265579]
["Notch A1",{"$f":"-2*B141","v":-1.9836216183489961},null,null,null,null,null,null,null,null,null,null,null,null,null,null,null,36.949735703052639,{"$f":"2*PI()*R182/B56","v":4.8367090931997776E-3},2.3393709246629808E-5,7.2566636215398717E-4,-17.149816946826277,-8.8716471855487811E-5,14.796751913277475,-2.8522971423541321E-3,-2.3552803808008562]
["Notch A2",{"$f":"1-B143","v":0.99000323790002165},null,null,null,null,null,null,null,null,null,null,null,null,null,null,null,37.688730417113689,{"$f":"2*PI()*R183/B56","v":4.9334432750637721E-3},2.4338813183292831E-5,7.5496516264550451E-4,-16.803349295493859,-9.2300595984085021E-5,14.508213967216363,-2.9719017861538077E-3,-2.2974445654969884]
[null,null,null,null,null,null,null,null,null,null,null,null,null,null,null,null,null,38.442505025455965,{"$f":"2*PI()*R184/B56","v":5.0321121405650484E-3},2.5322099160982918E-5,7.8544614065023666E-4,-16.457071132293891,-9.6029516968076933E-5,14.214366679905467,-3.0967094498279835E-3,-2.2451117452145688]
[null,null,null,null,null,null,null,null,null,null,null,null,null,null,null,null,null,39.211355125965085,{"$f":"2*PI()*R185/B56","v":5.1327543833763496E-3},2.6345109721132112E-5,8.1715693297113035E-4,-16.111014418163492,-9.9909084456228925E-5,13.915603775607465,-3.2269622922314056E-3,-2.1979203569997452]
["Peaking B0",{"$f":"1+(B143*B139)","v":1.0072667188398277},null,null,null,null,null,null,null,null,null,null,null,null,null,null,null,39.995582228484388,{"$f":"2*PI()*R186/B56","v":5.2354094710438765E-3},2.7409449722772614E-5,8.5014709074116013E-4,-15.765214397794466,-1.0394538441005352E-4,13.612319145721585,-3.362915069516248E-3,-2.1555119654360659]
["Peaking B1",{"$f":"-2*B141","v":-1.9836216183489961},null,null,null,null,null,null,null,null,null,null,null,null,null,null,null,40.795493873054077,{"$f":"2*PI()*R187/B56","v":5.3401176604647551E-3},2.8516788860079326E-5,8.8446815597720274E-4,-15.419709882230038,-1.0814474865128432E-4,13.304905039393532,-3.5048358999816287E-3,-2.1175333553291615]
["Peaking B2",{"$f":"1-(B143*B139)","v":0.99273328116017234},null,null,null,null,null,null,null,null,null,null,null,null,null,null,null,41.611403750515159,{"$f":"2*PI()*R188/B56","v":5.4469200136740489E-3},2.9668864281613743E-5,9.2017374108976924E-4,-15.074543551202865,-1.1251376479348707E-4,12.993750641933872,-3.6530070839262407E-3,-2.0836382563766236]
["Peaking A0",{"$f":"1 + (B143/B139)","v":1.0137524589414186},null,null,null,null,null,null,null,null,null,null,null,null,null,null,null,42.443631825525465,{"$f":"2*PI()*R189/B56","v":5.5558584139475302E-3},3.0867483315377596E-5,9.5731961153688871E-4,-14.729762275826005,-1.1705928657468334E-4,12.679241028991839,-3.807725983456578E-3,-2.0534887124926602]
["Peaking A1",{"$f":"-2*B141","v":-1.9836216183489961},null,null,null,null,null,null,null,null,null,null,null,null,null,null,null,43.292504462035971,{"$f":"2*PI()*R190/B56","v":5.6669755822264809E-3},3.2114526303949842E-5,9.9596377175359407E-4,-14.385417462095617,-1.2178844460608573E-4,12.361756476345931,-3.9693059673027165E-3,-2.0267561163898407]
["Peaking A2",{"$f":"1-(B143/B139)","v":0.98624754105858126},null,null,null,null,null,null,null,null,null,null,null,null,null,null,null,44.158354551276695,{"$f":"2*PI()*R191/B56","v":5.7803150938710119E-3},3.3411949554154181E-5,1.0361665544493803E-3,-14.041565415464916,-1.2670865755870508E-4,12.041672098991555,-4.1380774262052E-3,-2.0031219360026764]
[null,null,null,null,null,null,null,null,null,null,null,null,null,null,null,null,null,45.041521642302229,{"$f":"2*PI()*R192/B56","v":5.8959213957484307E-3},3.4761788405882966E-5,1.077990713440613E-3,-13.698267726495231,-1.3182764380204048E-4,11.719357788732864,-4.3143888650760687E-3,-1.9822781635578046]
[null,null,null,null,null,null,null,null,null,null,null,null,null,null,null,null,null,45.942352075148271,{"$f":"2*PI()*R193/B56","v":6.0138398236633996E-3},3.6166160424890893E-5,1.1215015200889411E-3,-13.355591677272557,-1.3715343349973708E-4,11.395178416473797,-4.4986080789257699E-3,-1.9639275207910956]
["Planet Analog 2nd order EQ filter",null,null,"Fc",{"$f":"D109","v":978.34872897125581},null,null,null,null,null,null,null,null,null,null,null,null,46.861199116651235,{"$f":"2*PI()*R194/B56","v":6.1341166201366671E-3},3.7627268724565661E-5,1.1667668635659822E-3,-13.013610667886113,-1.4269438121727873E-4,11.069494263567321,-4.6911234196613805E-3,-1.9477834552561042]
[null,null,null,"g",{"$f":"D111+20","v":14.459160000000001},null,"d",{"$f":"-COS(2*PI()*E194/B56)","v":-0.99181080917449804},null,null,null,null,null,null,null,null,null,47.798423098984259,{"$f":"2*PI()*R195/B56","v":6.2567989525394007E-3},3.9147405421885601E-5,1.2138573550259935E-3,-12.672404661792015,-1.4845917901862293E-4,10.742661645641533,-4.8923451624958147E-3,-1.9335699631369714]
["PA EQ B0",{"$f":" 1 + (1+E202)*E197/2","v":1.1335819379207495},null,"b",{"$f":"E194/D110","v":153.15758148174822},null,null,null,null,null,null,null,null,null,null,null,null,48.754391560963946,{"$f":"2*PI()*R196/B56","v":6.3819349315901884E-3},4.0728955232984157E-5,1.2628464358819258E-3,-12.332060648313714,-1.5445687010107179E-4,10.415033692006617,-5.102706980572691E-3,-1.9210212737218892]
["PA EQ B1",{"$f":" H195*(1-E202)","v":-1.9639342069592398},null,"H",{"$f":"E195-1","v":13.459160000000001},null,null,null,null,null,null,null,null,null,null,null,null,49.729479392183222,{"$f":"2*PI()*R197/B56","v":6.509573630221992E-3},4.2374399213960383E-5,1.3138104902559178E-3,-11.992673119856235,-1.6069686297637276E-4,10.086961243817498,-5.3226675384223654E-3,-1.9098814299498805]
["PA EQ B2",{"$f":"-E202-(1+E202)*E197/2","v":0.84656809552550594},null,null,null,null,null,null,null,null,null,null,null,null,null,null,null,50.724068980026885,{"$f":"2*PI()*R198/B56","v":6.639765102826432E-3},4.4086318652801924E-5,1.366828961906208E-3,-11.654344560617588,-1.6718894623179992E-4,9.7587938344217804,-5.5527122148504304E-3,-1.899903798394984]
["PA EQ A1",{"$f":"B197","v":-1.9639342069592398},null,null,null,null,null,null,null,null,null,null,null,null,null,null,null,51.738550359627425,{"$f":"2*PI()*R199/B56","v":6.7725604048829609E-3},4.5867399118524437E-5,1.421984475626914E-3,-11.317185942662391,-1.7394330387920931E-4,9.4308807156028536,-5.7933549678992335E-3,-1.8908505408556895]
["PA EQ A2",{"$f":"-E202","v":0.98015003344625529},null,"a1 g<1",{"$f":" (TAN(PI()*E196/B56)-E195)/(TAN(PI()*E196/B56)+E195)","v":-0.9986143688954312},null,null,null,null,null,null,null,null,null,null,null,null,52.773321366819971,{"$f":"2*PI()*R200/B56","v":6.9080116129806206E-3},4.7720434673877191E-5,1.4793629634333172E-3,-10.981317224166759,-1.8097053132715146E-4,9.1035718936211651,-6.0451403555674688E-3,-1.8824920784690544]
[null,null,null,"a2 g>=1",{"$f":" (TAN(PI()*E196/B56)-1)/(TAN(PI()*E196/B56)+1)","v":-0.98015003344625529},null,null,null,null,null,null,null,null,null,null,null,null,53.828787794156369,{"$f":"2*PI()*R201/B56","v":7.0461718452402324E-3},4.9648332258221678E-5,1.53905379562147E-3,-10.646867843450565,-1.8828165200179825E-4,8.777219139002213,-6.3086457272092389E-3,-1.8746065780319405]
[null,null,null,"a",{"$f":"IF(E195<1, E200,E201)","v":-0.98015003344625529},null,null,null,null,null,null,null,null,null,null,null,null,54.905363550039496,{"$f":"2*PI()*R202/B56","v":7.1870952821450375E-3},5.1654116247456333E-5,1.6011499169223953E-3,-10.313977201074948,-1.9588813463178312E-4,8.4521769339011996,-6.5844836026656139E-3,-1.866979488994124]
[null,null,null,null,null,null,null,null,null,null,null,null,null,null,null,null,null,56.003470821040288,{"$f":"2*PI()*R203/B56","v":7.3308371877879377E-3},5.3740933198138248E-5,1.6657479879356174E-3,-9.9827951208095982,-2.0380191123425817E-4,8.1288033206301407,-6.8733042577235892E-3,-1.8594031583604789]
[null,null,null,null,null,null,null,null,null,null,null,null,null,null,null,null,null,57.123540237461093,{"$f":"2*PI()*R204/B56","v":7.4774539315436957E-3},5.5912056783241672E-5,1.7329485320054516E-3,-9.6534822786739198,-2.1203539583503073E-4,7.8074606146472973,-7.1757985368492427E-3,-1.8516765494273013]
[null,null,null,null,null,null,null,null,null,null,null,null,null,null,null,null,null,58.266011042210316,{"$f":"2*PI()*R205/B56","v":7.6270030101745698E-3},5.8170892927292796E-5,1.8028560877816346E-3,-9.3262105875504488,-2.2060150392988476E-4,7.4885159451157506,-7.4927009164298397E-3,-1.8436050887672764]
[null,null,null,null,null,null,null,null,null,null,null,null,null,null,null,null,null,59.431331263054524,{"$f":"2*PI()*R206/B56","v":7.7795430703780626E-3},6.0520985148933963E-5,1.8755793676774601E-3,-9.0011635230930551,-2.2951367273904566E-4,7.1723415862137756,-7.8247928444099557E-3,-1.8350006640287511]
[null,null,null,null,null,null,null,null,null,null,null,null,null,null,null,null,null,60.619957888315618,{"$f":"2*PI()*R207/B56","v":7.9351339317856231E-3},6.2966020119294272E-5,1.951231422374633E-3,-8.6785363748500117,-2.387858822903155E-4,6.8593150429488645,-8.1729063855036088E-3,-1.8256817927465665]
[null,null,null,null,null,null,null,null,null,null,null,null,null,null,null,null,null,61.832357046081931,{"$f":"2*PI()*R208/B56","v":8.0938366104213368E-3},6.5509833444883149E-5,2.0299298116555065E-3,-8.358536404759775,-2.4843267733176688E-4,6.5498188565409663,-8.5379282043405169E-3,-1.815473979288825]
[null,null,null,null,null,null,null,null,null,null,null,null,null,null,null,null,null,63.069004187003571,{"$f":"2*PI()*R209/B56","v":8.2557133426297627E-3},6.8156415684073957E-5,2.1117967817723127E-3,-8.0413828935378859,-2.5846919014549385E-4,6.2442400967770908,-8.9208039231749581E-3,-1.8042102730923428]
[null,null,null,null,null,null,null,null,null,null,null,null,null,null,null,null,null,64.33038427074365,{"$f":"2*PI()*R210/B56","v":8.4208276094823592E-3},7.0909918606612253E-5,2.1969594495701017E-3,-7.7273070540558422,-2.6891116427796291E-4,5.9429695123856874,-9.3225428947789624E-3,-1.7917320362796421]
[null,null,null,null,null,null,null,null,null,null,null,null,null,null,null,null,null,65.616991956158529,{"$f":"2*PI()*R211/B56","v":8.5892441616720067E-3},7.3774661705962622E-5,2.2855499936760282E-3,-7.4165517897450997,-2.797749792300408E-4,5.6464003157019391,-9.7442234370035408E-3,-1.7778899224657181]
[null,null,null,null,null,null,null,null,null,null,null,null,null,null,null,null,null,66.929331795281698,{"$f":"2*PI()*R212/B56","v":8.7610290449054475E-3},7.6755138974705868E-5,2.3777058528438033E-3,-7.1093712754797878,-2.9107767613822944E-4,5.3549265849279237,-1.0186998580330453E-2,-1.7625450609554889]
[null,null,null,null,null,null,null,null,null,null,null,null,null,null,null,null,null,68.26791843118734,{"$f":"2*PI()*R213/B56","v":8.9362496258035568E-3},7.9856025953609151E-5,2.4735699319009541E-3,-6.8060303384628753,-3.0283698449862229E-4,5.0689412762862673,-1.0652102387240348E-2,-1.7455704316164464]
[null,null,null,null,null,null,null,null,null,null,null,null,null,null,null,null,null,69.633276799811085,{"$f":"2*PI()*R214/B56","v":9.1149746183196278E-3},8.3082187065421586E-5,2.5732908154267875E-3,-6.5068036175292576,-3.1507134997443842E-4,4.7888338493716986,-1.1140856909250374E-2,-1.726852405601357]
[null,null,null,null,null,null,null,null,null,null,null,null,null,null,null,null,null,71.025942335807315,{"$f":"2*PI()*R215/B56","v":9.2972741106860223E-3},8.6438683244893037E-5,2.6770229894914621E-3,-6.2119744811612634,-3.2779996330933869E-4,4.5149875219239988,-1.1654679856548E-2,-1.7062924160676305]
[null,null,null,null,null,null,null,null,null,null,null,null,null,null,null,null,null,72.446461182523464,{"$f":"2*PI()*R216/B56","v":9.4832195928997425E-3},8.9930779876978671E-5,2.7849270716870933E-3,-5.9218336875476325,-3.4104279042423968E-4,4.2477761848001876,-1.2195093064775619E-2,-1.6838087115309577]
[null,null,null,null,null,null,null,null,null,null,null,null,null,null,null,null,null,73.895390406173931,{"$f":"2*PI()*R217/B56","v":9.6728839847577373E-3},9.3563955055674558E-5,2.8971700497955055E-3,-5.6366777743463956,-3.5482060372604707E-4,3.9875610236441617,-1.2763731855216065E-2,-1.6593381331113806]
[null,null,null,null,null,null,null,null,null,null,null,null,null,null,null,null,null,75.373298214297407,{"$f":"2*PI()*R218/B56","v":9.866341664452891E-3},9.7343908176431552E-5,3.013925529309347E-3,-5.3568071715291552,-3.691550146762701E-4,3.7346869099518329,-1.336235539802999E-2,-1.6328378464607187]
[null,null,null,null,null,null,null,null,null,null,null,null,null,null,null,null,null,76.880764178583362,{"$f":"2*PI()*R219/B56","v":1.0063668497741951E-2},1.0127656887561786E-4,3.13537399019026E-3,-5.0825240378228642,-3.8406850767325196E-4,3.4894786400378024,-1.3992858203067726E-2,-1.6042869505056121]
[null,null,null,null,null,null,null,null,null,null,null,null,null,null,null,null,null,78.418379462155031,{"$f":"2*PI()*R220/B56","v":1.0264941867696791E-2},1.0536810633104335E-4,3.2617030530595059E-3,-4.814129829769243,-3.9958447530974439E-4,3.2522371147947524,-1.4657282881017863E-2,-1.5736878792777587]
[null,null,null,null,null,null,null,null,null,null,null,null,null,null,null,null,null,79.986747051398126,{"$f":"2*PI()*R221/B56","v":1.0470240705050725E-2},1.0962493893812628E-4,3.3931077552509237E-3,-4.5519226221401823,-4.1572725504801511E-4,3.0232355649810785,-1.5357834337464737E-2,-1.5410675109963652]
[null,null,null,null,null,null,null,null,null,null,null,null,null,null,null,null,null,81.586481992426087,{"$f":"2*PI()*R222/B56","v":1.0679645519151739E-2},1.1405374437686875E-4,3.5297908369322784E-3,-4.2961942090990135,-4.3252216737732496E-4,2.8027159349634303,-1.6096895587402571E-2,-1.5064779010534313]
[null,null,null,null,null,null,null,null,null,null,null,null,null,null,null,null,null,83.218211632274617,{"$f":"2*PI()*R223/B56","v":1.0893238429534775E-2},1.1866147008542135E-4,3.6719630377248791E-3,-4.0472270266856896,-4.4999555550528925E-4,2.590885541376025,-1.6877045404264379E-2,-1.4699965632317094]
[null,null,null,null,null,null,null,null,null,null,null,null,null,null,null,null,null,84.882575864920113,{"$f":"2*PI()*R224/B56","v":1.1111103198125472E-2},1.234553441566535E-4,3.8198434040346285E-3,-3.8052909484020745,-4.6817482666927646E-4,2.3879141212698585,-1.77010780512461E-2,-1.4317262366060968]
[null,null,null,null,null,null,null,null,null,null,null,null,null,null,null,null,null,86.580227382218524,{"$f":"2*PI()*R225/B56","v":1.1333325262087982E-2},1.284428866748086E-4,3.9736596075385933E-3,-3.5706400162526108,-4.8708849508960483E-4,2.1939313765824835,-1.8572025379832269E-2,-1.3917940939375106]
[null,null,null,null,null,null,null,null,null,null,null,null,null,null,null,null,null,88.31183192986289,{"$f":"2*PI()*R226/B56","v":1.1559991767329742E-2},1.336319215100122E-4,4.1336482751219705E-3,-3.3435091788540632,-5.0676622668088811E-4,2.0090251081603867,-1.949318162576219E-2,-1.3503503702709976]
[null,null,null,null,null,null,null,null,null,null,null,null,null,null,null,null,null,90.078068568460154,{"$f":"2*PI()*R227/B56","v":1.1791191602676337E-2},1.3903058858911744E-4,4.3000553305319045E-3,-3.1241111154353689,-5.2723888555039622E-4,1.8332400135814453,-2.0468131284758329E-2,-1.3075664166937004]
[null,null,null,null,null,null,null,null,null,null,null,null,null,null,null,null,null,91.879629939829357,{"$f":"2*PI()*R228/B56","v":1.2027015434729863E-2},1.4464735666212008E-4,4.4731363482881648E-3,-2.9126332290119308,-5.4853858238113062E-4,1.6665771995878913,-2.1500780512717199E-2,-1.2636322121708496]
[null,null,null,null,null,null,null,null,null,null,null,null,null,null,null,null,null,93.717222538625947,{"$f":"2*PI()*R229/B56","v":1.226755574342446E-2},1.5049103658414841E-4,4.6531569200070066E-3,-2.7092348931432468,-5.7069872476622763E-4,1.5089944333933545,-2.2595392568220518E-2,-1.2187533941228721]
[null,null,null,null,null,null,null,null,null,null,null,null,null,null,null,null,null,95.591566989398473,{"$f":"2*PI()*R230/B56","v":1.2512906858292951E-2},1.565707951338425E-4,4.8403930335894074E-3,-2.5140450340474558,-5.9375406957684618E-4,1.3604071291025974,-2.3756627902457694E-2,-1.1731478938833035]
[null,null,null,null,null,null,null,null,null,null,null,null,null,null,null,null,null,97.503398329186439,{"$f":"2*PI()*R231/B56","v":1.2763164995458808E-2},1.628961693897761E-4,5.0351314656182922E-3,-2.32716012325713,-6.1774077743503852E-4,1.2206900377538403,-2.4989589605119988E-2,-1.1270422844202264]
[null,null,null,null,null,null,null,null,null,null,null,null,null,null,null,null,null,99.45346629577017,{"$f":"2*PI()*R232/B56","v":1.3018428295367986E-2},1.6947708168744816E-4,5.2376701873519949E-3,-2.1486426455396241,-6.4269646939729697E-4,1.089679583807424,-2.6299875038837683E-2,-1.0806679630530831]
[null,null,null,null,null,null,null,null,null,null,null,null,null,null,null,null,null,101.44253562168558,{"$f":"2*PI()*R233/B56","v":1.3278796861275345E-2},1.7632385518027844E-4,5.4483187845448811E-3,-1.978520092846864,-6.6866028591050508E-4,0.96717676881125669,-2.7693634642417919E-2,-1.0342573001793909]
[null,null,null,null,null,null,null,null,null,null,null,null,null,null,null,null,null,103.47138633411929,{"$f":"2*PI()*R234/B56","v":1.3544372798500853E-2},1.8344723002898923E-4,5.6673988916848828E-3,-1.8167845182587286,-6.9567294815975345E-4,0.85295054568757678,-2.917763906164339E-2,-0.98803988568927004]
[null,null,null,null,null,null,null,null,null,null,null,null,null,null,null,null,null,105.54081406080168,{"$f":"2*PI()*R235/B56","v":1.3815260254470871E-2},1.9085838024473568E-4,5.8952446407189996E-3,-1.6633926651362003,-7.2377682188706771E-4,0.74674155539273102,-3.075935598046442E-2,-0.94223899790510179]
[null,null,null,null,null,null,null,null,null,null,null,null,null,null,null,null,null,107.65163034201771,{"$f":"2*PI()*R236/B56","v":1.4091565459560288E-2},1.9856893121237177E-4,6.1322031248387532E-3,-1.5182666670687155,-7.5301598377830459E-4,0.64826611190700589,-3.2447038285425833E-2,-0.89706840630607498]
[null,null,null,null,null,null,null,null,null,null,null,null,null,null,null,null,null,109.80466294885807,{"$f":"2*PI()*R237/B56","v":1.4373396768751493E-2},2.0659097792130311E-4,6.3786348775956014E-3,-1.3812952948254207,-7.83436290534123E-4,0.55722032146546496,-3.4249825510826781E-2,-0.85272960028372102]
[null,null,null,null,null,null,null,null,null,null,null,null,null,null,null,null,null,112.00075620783522,{"$f":"2*PI()*R238/B56","v":1.4660864704126522E-2},2.1493710393248231E-4,6.6349143675985545E-3,-1.252335708520846,-8.1508545073116778E-4,0.47328422708355333,-3.6177860896664527E-2,-0.80940951341708978]
[null,null,null,null,null,null,null,null,null,null,null,null,null,null,null,null,null,114.24077133199194,{"$f":"2*PI()*R239/B56","v":1.4954081998209055E-2},2.2362040111125755E-4,6.9014305092771622E-3,-1.1312156575808388,-8.4801309957160953E-4,0.39612587890098894,-3.8242426860975343E-2,-0.7672787881311196]
[null,null,null,null,null,null,null,null,null,null,null,null,null,null,null,null,null,116.52558675863177,{"$f":"2*PI()*R240/B56","v":1.5253163638173237E-2},2.3265449015697856E-4,7.1785871898555342E-3,-1.017736058637567,-8.8227087665559978E-4,0.32540524360827305,-4.0456102265700622E-2,-0.72649060098179463]
[null,null,null,null,null,null,null,null,null,null,null,null,null,null,null,null,null,118.85609849380441,{"$f":"2*PI()*R241/B56","v":1.5558226910936701E-2},2.4205354196151421E-4,7.4668038129743763E-3,-0.91167387272702172,-9.179125068867755E-4,0.26077788109759581,-4.2832945567674585E-2,-0.68718004589101289]
[null,null,null,null,null,null,null,null,null,null,null,null,null,null,null,null,null,121.2332204636805,{"$f":"2*PI()*R242/B56","v":1.5869391449155435E-2},2.5183229983012759E-4,7.7665158591315731E-3,-0.81278519835188945,-9.5499388464048707E-4,0.20189833239028587,-4.5388708828674851E-2,-0.64946405281578734]
[null,null,null,null,null,null,null,null,null,null,null,null,null,null,null,null,null,123.65788487295411,{"$f":"2*PI()*R243/B56","v":1.6186779278138545E-2},2.6200610259950605E-4,8.0781754632859304E-3,-0.72080849606014397,-9.9357316132664408E-4,0.14842317884344425,-4.8141088658411491E-2,-0.61344180357315192]
[null,null,null,null,null,null,null,null,null,null,null,null,null,null,null,null,null,126.1310425704132,{"$f":"2*PI()*R244/B56","v":1.6510514863701316E-2},2.7259090868914402E-4,8.4022520097413178E-3,{"$f":"10*LOG10(($G$121+$G$122+$G$123)^2 + ( $G$121*$G$123*$T244 - ($G$122*($G$121+$G$123) + 4*$G$121*$G$123) )*$T244 )  - 10*LOG10( (1+$G$124+$G$125)^2 + ( 1*$G$125*$T244 - ($G$124*(1+$G$125) + 4*1*$G$125) )*$T244)","v":-0.63546786287376733},{"$f":"10*LOG10(($G$126+$G$127+$G$128)^2 + ( $G$126*$G$128*$T244 - ($G$127*($G$126+$G$128) + 4*$G$126*$G$128) )*$T244 )  - 10*LOG10( (1+$G$129+$G$130)^2 + ( 1*$G$130*$T244 - ($G$129*(1+$G$130) + 4*1*$G$130) )*$T244)","v":-1.0337108364844028E-3},{"$f":"10*LOG10(($G$131+$G$132+$G$133)^2 + ( $G$131*$G$133*$T244 - ($G$132*($G$131+$G$133) + 4*$G$131*$G$133) )*$T244 )  - 10*LOG10( (1+$G$134+$G$135)^2 + ( 1*$G$135*$T244 - ($G$134*(1+$G$135) + 4*1*$G$135) )*$T244)","v":0.10001374780415517},{"$f":"10*LOG10(($G$136+$G$137+$G$138)^2 + ( $G$136*$G$138*$T244 - ($G$137*($G$136+$G$138) + 4*$G$136*$G$138) )*$T244 )  - 10*LOG10( (1+$G$139+$G$140)^2 + ( 1*$G$140*$T244 - ($G$139*(1+$G$140) + 4*1*$G$140) )*$T244)","v":-5.1110021538399053E-2},{"$f":"U244+V244+W244+X244+Y244","v":-0.5791955954347543}]
[null,null,null,null,null,null,null,null,null,null,null,null,null,null,null,null,null,128.65366342182148,{"$f":"2*PI()*R245/B56","v":1.6840725160975345E-2},{"$f":"4*(SIN(S245/2))^2","v":2.8360332112373427E-4},{"$f":"10*LOG10(($G$116+$G$117+$G$118)^2 + ( $G$116*$G$118*T245 - ($G$117*($G$116+$G$118) + 4*$G$116*$G$118) )*T245 )  - 10*LOG10( (1+$G$119+$G$120)^2 + ( 1*$G$120*T245 - ($G$119*(1+$G$120) + 4*1*$G$120) )*T245)","v":8.73923274465227E-3},-0.55647628067576704,-1.0754698525481388E-3,5.6338453637749808E-2,-5.4318032704628649E-2,-0.54679209685054175]
[null,null,null,null,null,null,null,null,null,null,null,null,null,null,null,null,null,131.22673669025792,{"$f":"2*PI()*R246/B56","v":1.7177539664194854E-2},2.9506061356574296E-4,9.0896234062007863E-3,-0.4835387708794201,-1.1189156934330313E-3,1.7074774986539865E-2,-5.7790649951527939E-2,-0.51628393813164042]
[null,null,null,null,null,null,null,null,null,null,null,null,null,null,null,null,null,133.85127142406307,{"$f":"2*PI()*R247/B56","v":1.7521090457478745E-2},3.0698075739891913E-4,9.4539488726042009E-3,-0.4163553976426897,-1.1641164870934695E-3,-1.8089121009495557E-2,-6.1556896497862112E-2,-0.48771158276453663]
[null,null,null,null,null,null,null,null,null,null,null,null,null,null,null,null,null,136.52829685254434,{"$f":"2*PI()*R248/B56","v":1.7871512266628326E-2},3.193824499051342E-4,9.8327538280891247E-3,-0.35462407283195319,-1.2111431122256988E-3,-4.9453089040483178E-2,-6.564988060561916E-2,-0.4611054317621921]
[null,null,null,null,null,null,null,null,null,null,null,null,null,null,null,null,null,139.25886278959524,{"$f":"2*PI()*R249/B56","v":1.8228942511960892E-2},3.3228514357864705E-4,1.0226603446785276E-2,-0.29804312720349913,-1.2600693092514881E-3,-7.7304026300069495E-2,-7.010750420915457E-2,-0.4364881235751894]
[null,null,null,null,null,null,null,null,null,null,null,null,null,null,null,null,null,142.04404004538713,{"$f":"2*PI()*R250/B56","v":1.8593521362200108E-2},3.4570907662367971E-4,1.0636084094549858E-2,-0.24631362327778561,-1.3109717957959788E-3,-0.10191517547016815,-7.4973318721490045E-2,-0.41387700517068993]
[null,null,null,null,null,null,null,null,null,null,null,null,null,null,null,null,null,144.88492084629488,{"$f":"2*PI()*R251/B56","v":1.8965391789444109E-2},3.59675304683019E-4,1.1061804048662083E-2,-0.19914139565679534,-1.3639303868009378E-3,-0.12354567979902242,-8.0297563884251133E-2,-0.39328676567820775]
[null,null,null,null,null,null,null,null,null,null,null,null,null,null,null,null,null,147.78261926322077,{"$f":"2*PI()*R252/B56","v":1.934469962523299E-2},3.7420573384729506E-4,1.1504394235156923E-2,-0.15623881373480231,-1.4190281194861321E-3,-0.14244035926319043,-8.6138435628612342E-2,-0.37473224251093429]
[null,null,null,null,null,null,null,null,null,null,null,null,null,null,null,null,null,150.73827164848518,{"$f":"2*PI()*R253/B56","v":1.9731593617737651E-2},3.8932315499657852E-4,1.1964508983624E-2,-0.11732626965965665,-1.4763513833475628E-3,-0.15882967713092455,-9.2563642265282908E-2,-0.35823143145558767]
[null,null,null,null,null,null,null,null,null,null,null,null,null,null,null,null,null,153.75303708145489,{"$f":"2*PI()*R254/B56","v":2.0126225490092405E-2},4.0505127952801707E-4,1.2442826799077267E-2,-8.2133400903003917E-2,-1.5359900553857386E-3,-0.17292986743278504,-9.9652326103125688E-2,-0.34380875769522312]
[null,null,null,null,null,null,null,null,null,null,null,null,null,null,null,null,null,156.82809782308399,{"$f":"2*PI()*R255/B56","v":2.0528749999894253E-2},4.2141477652539889E-4,1.2940051150536647E-2,-5.0400061885625291E-2,-1.5980376407802588E-3,-0.18494319565805029,-0.10749745147381162,-0.33149869550773081]
[null,null,null,null,null,null,null,null,null,null,null,null,null,null,null,null,null,159.96465977954568,{"$f":"2*PI()*R256/B56","v":2.093932499989214E-2},4.3843931142877193E-4,1.3456911275646632E-2,-2.1877062839394057E-2,-1.6625914192371916E-3,-0.19505832722423122,-0.1162087924830999,-0.32134986269031574]
[null,null,null,null,null,null,null,null,null,null,null,null,null,null,null,null,null,163.1639529751366,{"$f":"2*PI()*R257/B56","v":2.1358111499889983E-2},4.5615158626459104E-4,1.3994163000791815E-2,3.6733034134499576E-3,-1.7297525972210792E-3,-0.20345078073759737,-0.12591669801786054,-0.31342976493843722]
[null,null,null,null,null,null,null,null,null,null,null,null,null,null,null,null,null,166.42723203463933,{"$f":"2*PI()*R258/B56","v":2.1785273729887783E-2},4.7457938149929812E-4,1.4552589575842489E-2,2.6476924666525292E-2,-1.7996264663198147E-3,-0.21028344563578116,-0.13677687255453463,-0.30783043041426783]
[null,null,null,null,null,null,null,null,null,null,null,null,null,null,null,null,null,169.75577667533213,{"$f":"2*PI()*R259/B56","v":2.2220979204485541E-2},4.9375159958176505E-4,1.5133002522468075E-2,4.6747699922875086E-2,-1.8723225679866395E-3,-0.21570714636675348,-0.14897649639473798,-0.30467526288413493]
[null,null,null,null,null,null,null,null,null,null,null,null,null,null,null,null,null,173.15089220883877,{"$f":"2*PI()*R260/B56","v":2.266539878857525E-2},5.136983102426645E-4,1.5736242495023589E-2,6.4687515018704289E-2,-1.9479548649061762E-3,-0.21986123773295674,-0.16274212888458806,-0.30412756396872309]
[null,null,null,null,null,null,null,null,null,null,null,null,null,null,null,null,null,176.61391005301556,{"$f":"2*PI()*R261/B56","v":2.3118706764346759E-2},5.3445079762156949E-4,1.6363180152602297E-2,8.0486341737255884E-2,-2.0266419192611629E-3,-0.22287421835679311,-0.17835000919952648,-0.30640134758572257]
[null,null,null,null,null,null,null,null,null,null,null,null,null,null,null,null,null,180.14618825407587,{"$f":"2*PI()*R262/B56","v":2.3581080899633691E-2},5.5604160929542353E-4,1.7014717040666483E-2,9.4322440113302264E-2,-2.1085070781730053E-3,-0.22486435136698901,-0.19613961618102849,-0.31177531747222176]
[null,null,null,null,null,null,null,null,null,null,null,null,null,null,null,null,null,183.74911201915739,{"$f":"2*PI()*R263/B56","v":2.4052702517626368E-2},5.7850460728498963E-4,1.7691786480515503E-2,0.10636264515981964,-2.1936786666030272E-3,-0.22594028334580685,-0.21653170987310233,-0.32061124024517706]
[null,null,null,null,null,null,null,null,null,null,null,null,null,null,null,null,null,187.42409425954054,{"$f":"2*PI()*R264/B56","v":2.4533756567978893E-2},6.0187502111895531E-4,1.8395354464590952E-2,0.11676272095502327,-2.2822901880052981E-3,-0.22620165430423356,-0.24005261314481174,-0.33337848221743638]
[null,null,null,null,null,null,null,null,null,null,null,null,null,null,null,null,null,191.17257614473135,{"$f":"2*PI()*R265/B56","v":2.5024431699338472E-2},6.261895030385806E-4,1.9126420555210188E-2,0.12566776681589431,-2.3744805330556673E-3,-0.2257396929698956,-0.26736729847497998,-0.35068728460682674]
[null,null,null,null,null,null,null,null,null,null,null,null,null,null,null,null,null,194.99602766762598,{"$f":"2*PI()*R266/B56","v":2.5524920333325242E-2},6.5148618542909445E-4,1.9886018784141868E-2,0.13321266208308202,-2.4703941967714194E-3,-0.22463779298847442,-0.29932507925462204,-0.37333458557264398]
[null,null,null,null,null,null,null,null,null,null,null,null,null,null,null,null,null,198.89594822097851,{"$f":"2*PI()*R267/B56","v":2.603541873999175E-2},6.7780474056751351E-4,2.0675218550024965E-2,0.13952253779038415,-2.5701815043621679E-3,-0.22297206676494596,-0.33702362614412351,-0.40236811807302253]
[null,null,null,null,null,null,null,null,null,null,null,null,null,null,null,null,null,202.8738671853981,{"$f":"2*PI()*R268/B56","v":2.6556127114791585E-2},7.0518644278015153E-4,2.149512551029531E-2,0.1447132651545715,-2.6739988461437214E-3,-0.22081187462465834,-0.38190007483568422,-0.43917755764161948]
[null,null,null,null,null,null,null,null,null,null,null,null,null,null,null,null,null,206.93134452910607,{"$f":"2*PI()*R269/B56","v":2.708724965708742E-2},7.3367423310683117E-4,2.2346882463718742E-2,0.1488919523664336,-2.7820089219190436E-3,-0.21822032777023992,-0.43586291641933883,-0.48562641828134545]
[null,null,null,null,null,null,null,null,null,null,null,null,null,null,null,null,null,211.06997141968819,{"$f":"2*PI()*R270/B56","v":2.7628994650229166E-2},7.6331278657270176E-4,2.3231670219498568E-2,0.15215744257795194,-2.8943809951424981E-3,-0.21525476416716316,-0.50148649456886574,-0.54424652693372089]
[null,null,null,null,null,null,null,null,null,null,null,null,null,null,null,null,null,215.29137084808195,{"$f":"2*PI()*R271/B56","v":2.8181574543233751E-2},7.9414858217261356E-4,2.4150708447940872E-2,0.15460080725340219,-3.01129115731813E-3,-0.21196719702662392,-0.58230367210306611,-0.61853064458566509]
[null,null,null,null,null,null,null,null,null,null,null,null,null,null,null,null,null,219.5971982650436,{"$f":"2*PI()*R272/B56","v":2.8745206034098424E-2},8.262299756772013E-4,2.5105256507593765E-2,0.15630583018394617,-3.1329226030023527E-3,-0.20840473598257603,-0.68325600510614493,-0.71338257700018337]
[null,null,null,null,null,null,null,null,null,null,null,null,null,null,null,null,null,223.98914223034447,{"$f":"2*PI()*R273/B56","v":2.9320110154780393E-2},8.5960727537421353E-4,2.6096614242799632E-2,0.15734947845810154,-3.2594659158515782E-3,-0.20460998139812858,-0.81140298871294192,-0.8358263433260209]
[null,null,null,null,null,null,null,null,null,null,null,null,null,null,null,null,null,228.46892507495136,{"$f":"2*PI()*R274/B56","v":2.9906512357876003E-2},8.9433282086316039E-4,2.7126122745112724E-2,0.15780235754229466,-3.3911193661433359E-3,-0.20062139249723288,-0.97706904291547403,-0.99615307449144286]
[null,null,null,null,null,null,null,null,null,null,null,null,null,null,null,null,null,233.0383035764504,{"$f":"2*PI()*R275/B56","v":3.0504642605033525E-2},9.3046106502609469E-4,2.8195165071259964E-2,0.15772914836440322,-3.5280892202371739E-3,-0.19647363021279318,-1.1957519842307249,-1.2098293902280921]
[null,null,null,null,null,null,null,null,null,null,null,null,null,null,null,null,null,237.69906964797943,{"$f":"2*PI()*R276/B56","v":3.1114735457134196E-2},9.6804865930224377E-4,2.9305166909455949E-2,0.15718902492046993,-3.6705900624509624E-3,-0.19219787578402503,-1.4913989497191693,-1.5007732237357194]
[null,null,null,null,null,null,null,null,null,null,null,null,null,null,null,null,null,242.45305104093902,{"$f":"2*PI()*R277/B56","v":3.1737030166276881E-2},1.0071545423993354E-3,3.0457597185122864E-2,0.15623605145071906,-3.8188451298384329E-3,-0.18782212623206362,-1.902227016502664,-1.9071743392287241]
[null,null,null,null,null,null,null,null,null,null,null,null,null,null,null,null,null,247.30211206175781,{"$f":"2*PI()*R278/B56","v":3.2371770769602418E-2},1.0478400325797581E-3,3.1653968595904303E-2,0.15491955866689011,-3.9730866603853165E-3,-0.18337146790315728,-2.4914872955277616,-2.4922583228285098]
[null,null,null,null,null,null,null,null,null,null,null,null,null,null,null,null,null,252.24815430299296,{"$f":"2*PI()*R279/B56","v":3.3019206184994467E-2},1.0901689236652414E-3,3.2895838065030603E-2,0.15328449886986562,-4.1335562551645388E-3,-0.17886832929890062,-3.36843299302096,-3.3652545416401289]
[null,null,null,null,null,null,null,null,null,null,null,null,null,null,null,null,null,257.29311738905284,{"$f":"2*PI()*R280/B56","v":3.3679590308694357E-2},1.1342075849094587E-3,3.4184807100672288E-2,0.15137178008414764,-4.3005052549860423E-3,-0.17433271442041587,-4.7326998587201956,-4.7257764912107776]
[null,null,null,null,null,null,null,null,null,null,null,null,null,null,null,null,null,262.43897973683391,{"$f":"2*PI()*R281/B56","v":3.435318211486825E-2},1.1800250648939512E-3,3.552252204783457E-2,0.14921857956470319,-4.4741951321389806E-3,-0.16978241784158854,-6.9849512156669107,-6.9744667270281004]
[null,null,null,null,null,null,null,null,null,null,null,null,null,null,null,null,null,267.68775933157059,{"$f":"2*PI()*R282/B56","v":3.504024575716562E-2},1.2276931996089559E-3,3.6910674217871531E-2,0.14685863720823988,-4.6548978978124822E-3,-0.16523322270120389,-11.117195828109828,-11.103314637282732]
[null,null,null,null,null,null,null,null,null,null,null,null,null,null,null,null,null,273.04151451820201,{"$f":"2*PI()*R283/B56","v":3.5741050672308927E-2},1.2772867248871808E-3,3.835099987913182E-2,0.14432252953634617,-4.8428965258047185E-3,-0.16069908276737976,-21.694172837585725,-21.677041287463432]
[null,null,null,null,null,null,null,null,null,null,null,null,null,null,null,null,null,278.50234480856608,{"$f":"2*PI()*R284/B56","v":3.6455871685755106E-2},1.3288833933652799E-3,3.9845280090542445E-2,0.14163792501536676,-5.0384853931944029E-3,-0.1561922896838368,-17.23173488751145,-17.211482457482571]
[null,null,null,null,null,null,null,null,null,null,null,null,null,null,null,null,null,284.07239170473741,{"$f":"2*PI()*R285/B56","v":3.7184989119470213E-2},1.3825640961547226E-3,4.1395340358270971E-2,0.13882982154635926,-5.2419707386186509E-3,-0.15172362645812143,-9.6614064144371383,-9.6381468497292477]
[null,null,null,null,null,null,null,null,null,null,null,null,null,null,null,null,null,289.75383953883215,{"$f":"2*PI()*R286/B56","v":3.7928688901859617E-2},1.4384129894110334E-3,4.3003050093293638E-2,0.13592076700179234,-5.4536711388615267E-3,-0.14730250819912527,-6.2295921721360372,-6.2034245343789376]
[null,null,null,null,null,null,null,null,null,null,null,null,null,null,null,null,null,295.5489163296088,{"$f":"2*PI()*R287/B56","v":3.8687262679896806E-2},1.4965176259978724E-3,4.4670321845803329E-2,0.13293106370831254,-5.673918004477585E-3,-0.14293711105631246,-4.2857864579742824,-4.2567961014809566]
[null,null,null,null,null,null,null,null,null,null,null,null,null,null,null,null,null,301.45989465620096,{"$f":"2*PI()*R288/B56","v":3.9461007933494746E-2},1.556969092450258E-3,4.6399110289652157E-2,0.12987895778258007,-5.9030560952049171E-3,-0.1386344902578287,-3.0857416386299548,-3.0540011169107562]
[null,null,null,null,null,null,null,null,null,null,null,null,null,null,null,null,null,307.48909254932499,{"$f":"2*PI()*R289/B56","v":4.0250228092164643E-2},1.6198621514493645E-3,4.8191410927660883E-2,0.12678081421997689,-6.1414440559297567E-3,-0.13440068808940708,-2.3039813370245525,-2.2695512440222516]
[null,null,null,null,null,null,null,null,null,null,null,null,null,null,null,null,null,313.63887440031152,{"$f":"2*PI()*R290/B56","v":4.1055232654007935E-2},1.6852953900297761E-3,5.0049258485589831E-2,0.12365127862065606,-6.3894549740357576E-3,-0.13024083260145147,-1.7729330747012284,-1.7358628251704697]
[null,null,null,null,null,null,null,null,null,null,null,null,null,null,null,null,null,319.91165188831775,{"$f":"2*PI()*R291/B56","v":4.1876337307088098E-2},1.753371373748843E-3,5.1974724959315211E-2,0.12050342641300205,-6.6474769589484062E-3,-0.12615922777929711,-1.3992338113617677,-1.359562364727696]
[null,null,null,null,null,null,null,null,null,null,null,null,null,null,null,null,null,326.30988492608412,{"$f":"2*PI()*R292/B56","v":4.2713864053229862E-2},1.8241968070569071E-3,5.3969917276496915E-2,0.11734890040491308,-6.9159137447818431E-3,-0.12215943586065947,-1.1281355436019709,-1.0858920755260022]
[null,null,null,null,null,null,null,null,null,null,null,null,null,null,null,null,null,332.83608262460581,{"$f":"2*PI()*R293/B56","v":4.3568141334294458E-2},1.8978827001166515E-3,5.6036974529991568E-2,0.11419803745965851,-7.1951853169425206E-3,-0.11824435243559606,-0.92620515294922257,-0.88140967871211107]
[null,null,null,null,null,null,null,null,null,null,null,null,null,null,null,null,null,339.49280427709795,{"$f":"2*PI()*R294/B56","v":4.4439504160980352E-2},1.974544542329656E-3,5.817806473638143E-2,0.11105998505613712,-7.4857285636893423E-3,-0.11441627491828399,-0.7722961532442838,-0.72496010693373858]
[null,null,null,null,null,null,null,null,null,null,null,null,null,null,null,null,null,346.28266036263989,{"$f":"2*PI()*R295/B56","v":4.532829424419995E-2},2.0543024828384563E-3,6.0395381068101273E-2,0.10794280845553317,-7.7879979535677712E-3,-0.11067696493587675,-0.65260805073652506,-0.60273482410233514]
[null,null,null,null,null,null,null,null,null,null,null,null,null,null,null,null,null,353.20831356989271,{"$f":"2*PI()*R296/B56","v":4.6234860129083954E-2},2.1372815182830627E-3,6.26911375030339E-2,0.10485358915641996,-8.1024662397553016E-3,-0.10702770513858439,-0.55787763627439091,-0.50546308099327675]
[null,null,null,null,null,null,null,null,null,null,null,null,null,null,null,null,null,360.27247984129059,{"$f":"2*PI()*R297/B56","v":4.7159557331665637E-2},2.2236116881018688E-3,6.5067563829785513E-2,0.10179851528218364,-8.4296251923663412E-3,-0.10346935089661713,-0.48172795790706147,-0.42676085488407578]
[null,null,null,null,null,null,null,null,null,null,null,null,null,null,null,null,null,367.4779294381164,{"$f":"2*PI()*R298/B56","v":4.8102748478298957E-2},2.3134282776783991E-3,6.7526899940961727E-2,9.8782964504493975E-2,-8.7699863597934247E-3,-0.10000237731302519,-0.41966790462304715,-0.36213040385041007]
[null,null,null,null,null,null,null,null,null,null,null,null,null,null,null,null,null,374.82748802687871,{"$f":"2*PI()*R299/B56","v":4.906480344786493E-2},2.4068720296471957E-3,7.0071389340384371E-2,9.5811580069721458E-2,-9.12408186021052E-3,-9.6626921947915889E-2,-0.368468932962422,-0.30833696736044258]
[null,null,null,null,null,null,null,null,null,null,null,null,null,null,null,null,null,382.32403778741627,{"$f":"2*PI()*R300/B56","v":5.0046099516822228E-2},2.504089363684531E-3,7.2703271782909695E-2,9.2888340457406571E-2,-9.4924652044170443E-3,-9.3342823618129955E-2,-0.32576672827196518,-0.26301040485419591]
[null,null,null,null,null,null,null,null,null,null,null,null,null,null,null,null,null,389.97051854316459,{"$f":"2*PI()*R301/B56","v":5.1047021507158667E-2},2.6052326051224429E-3,7.5424774957944862E-2,9.0016623164679288E-2,-9.8757121512145218E-3,-9.0149657606886535E-2,-0.28980059666840674,-0.22438456830388365]
[null,null,null,null,null,null,null,null,null,null,null,null,null,null,null,null,null,397.7699289140279,{"$f":"2*PI()*R302/B56","v":5.2067961937301843E-2},2.7104602227379397E-3,7.8238105119233126E-2,8.7199263076719546E-2,-1.0274421596591754E-2,-8.7046767591203889E-2,-0.25923926681828391,-0.19112308781012688]
[null,null,null,null,null,null,null,null,null,null,null,null,null,null,null,null,null,405.72532749230845,{"$f":"2*PI()*R303/B56","v":5.3109321176047879E-2},2.8199370760830216E-3,8.1145436554084682E-2,8.4438605850557735E-2,-1.0689216497989484E-2,-8.4033294569579198E-2,-0.23306213483489557,-0.16220060349782184]
[null,null,null,null,null,null,null,null,null,null,null,null,null,null,null,null,null,413.83983404215462,{"$f":"2*PI()*R304/B56","v":5.4171507599568833E-2},2.9338346727355623E-3,8.4148899775549069E-2,8.1736556709294916E-2,-1.1120744835027008E-2,-8.1108203049183203E-2,-0.21047682848501381,-0.13682031988438004]
[null,null,null,null,null,null,null,null,null,null,null,null,null,null,null,null,null,422.11663072299774,{"$f":"2*PI()*R305/B56","v":5.5254937751560221E-2},3.0523314358659628E-3,8.7250568309471532E-2,7.9094625014420217E-2,-1.1569680608041644E-2,-7.8270304730573059E-2,-0.19086102324770593,-0.11435581526242888]
[null,null,null,null,null,null,null,null,null,null,null,null,null,null,null,null,null,430.55896333745773,{"$f":"2*PI()*R306/B56","v":5.6360036506591431E-2},3.1756129825299823E-3,9.0452443936857918E-2,7.6513964957030112E-2,-1.2036724875921223E-2,-7.5518279908017405E-2,-0.17372074149491823,-9.4309337384968828E-2]
[null,null,null,null,null,null,null,null,null,null,null,null,null,null,null,null,null,439.17014260420689,{"$f":"2*PI()*R307/B56","v":5.7487237236723256E-2},3.3038724131142275E-3,9.3756440238600192E-2,7.3995412683011352E-2,-1.2522606834692862E-2,-7.2850696785451419E-2,-0.15866003964346476,-7.6281490341997493E-2]
[null,null,null,null,null,null,null,null,null,null,null,null,null,null,null,null,null,447.95354545629101,{"$f":"2*PI()*R308/B56","v":5.8636981981457725E-2},3.4373106123773887E-3,9.7164364275403869E-2,{"$f":"10*LOG10(($G$121+$G$122+$G$123)^2 + ( $G$121*$G$123*$T308 - ($G$122*($G$121+$G$123) + 4*$G$121*$G$123) )*$T308 )  - 10*LOG10( (1+$G$124+$G$125)^2 + ( 1*$G$125*$T308 - ($G$124*(1+$G$125) + 4*1*$G$125) )*$T308)","v":7.1539520143360846E-2},{"$f":"10*LOG10(($G$126+$G$127+$G$128)^2 + ( $G$126*$G$128*$T308 - ($G$127*($G$126+$G$128) + 4*$G$126*$G$128) )*$T308 )  - 10*LOG10( (1+$G$129+$G$130)^2 + ( 1*$G$130*$T308 - ($G$129*(1+$G$130) + 4*1*$G$130) )*$T308)","v":-1.302808493844454E-2},{"$f":"10*LOG10(($G$131+$G$132+$G$133)^2 + ( $G$131*$G$133*$T308 - ($G$132*($G$131+$G$133) + 4*$G$131*$G$133) )*$T308 )  - 10*LOG10( (1+$G$134+$G$135)^2 + ( 1*$G$135*$T308 - ($G$134*(1+$G$135) + 4*1*$G$135) )*$T308)","v":-7.0266028891239785E-2},{"$f":"10*LOG10(($G$136+$G$137+$G$138)^2 + ( $G$136*$G$138*$T308 - ($G$137*($G$136+$G$138) + 4*$G$136*$G$138) )*$T308 )  - 10*LOG10( (1+$G$139+$G$140)^2 + ( 1*$G$140*$T308 - ($G$139*(1+$G$140) + 4*1*$G$140) )*$T308)","v":-0.14535868339265079},{"$f":"U308+V308+W308+X308+Y308","v":-5.9948912803570398E-2}]
[null,null,null,null,null,null,null,null,null,null,null,null,null,null,null,null,null,456.91261636541685,{"$f":"2*PI()*R309/B56","v":5.980972162108688E-2},{"$f":"4*(SIN(S309/2))^2","v":3.5761365625476518E-3},{"$f":"10*LOG10(($G$116+$G$117+$G$118)^2 + ( $G$116*$G$118*T309 - ($G$117*($G$116+$G$118) + 4*$G$116*$G$118) )*T309 )  - 10*LOG10( (1+$G$119+$G$120)^2 + ( 1*$G$120*T309 - ($G$119*(1+$G$120) + 4*1*$G$120) )*T309)","v":0.10067789622031498},6.9146585938504757E-2,-1.3553948064136456E-2,-6.7762670759620391E-2,-0.13355550564311613,-4.5047642308053248E-2]
[null,null,null,null,null,null,null,null,null,null,null,null,null,null,null,null,null,466.0508686927252,{"$f":"2*PI()*R310/B56","v":6.1005916053508621E-2},3.7205676689546388E-3,0.10429856674415916,6.6816683404624655E-2,-1.4101016722000814E-2,-6.5338952032284681E-2,-0.12303586029140234,-3.1360578896904023E-2]
[null,null,null,null,null,null,null,null,null,null,null,null,null,null,null,null,null,475.37188606657969,{"$f":"2*PI()*R311/B56","v":6.2226034374578784E-2},3.8708300986928131E-3,0.10802773193595527,6.4549686170707332E-2,-1.467014431320024E-2,-6.2993150120952635E-2,-0.11362206437231492,-1.8707940699805192E-2]
[null,null,null,null,null,null,null,null,null,null,null,null,null,null,null,null,null,484.87932378791129,{"$f":"2*PI()*R312/B56","v":6.3470555062070361E-2},4.0271591328326336E-3,0.11186654552025388,6.2345291396944447E-2,-1.5262218436526087E-2,-6.0723501559593274E-2,-0.10516604541264485,-6.9399284915658832E-3]
[null,null,null,null,null,null,null,null,null,null,null,null,null,null,null,null,null,494.5769102636695,{"$f":"2*PI()*R313/B56","v":6.4739966163311763E-2},4.1897995327156851E-3,0.11581592811176478,6.0203040888666237E-2,-1.5878162245963612E-2,-5.8528212163750482E-2,-9.7543633458961665E-2,4.0689611317552554E-3]
[null,null,null,null,null,null,null,null,null,null,null,null,null,null,null,null,null,504.46844846894288,{"$f":"2*PI()*R314/B56","v":6.6034765486577995E-2},4.3590059208908627E-3,0.11987653322387004,5.8122340264105787E-2,-1.6518935860998063E-2,-5.6405466105040603E-2,-9.0650091971916424E-2,1.4424379550020738E-2]
[null,null,null,null,null,null,null,null,null,null,null,null,null,null,null,null,null,514.55781743832176,{"$f":"2*PI()*R315/B56","v":6.7355460796309566E-2},4.5350431772701195E-3,0.124048709722274,5.6102476340456064E-2,-1.7185537831602815E-2,-5.4353433998997502E-2,-8.4396590641667046E-2,2.4215623590462698E-2]
[null,null,null,null,null,null,null,null,null,null,null,null,null,null,null,null,null,524.8489737870882,{"$f":"2*PI()*R316/B56","v":6.8702570012235759E-2},4.7181868511046218E-3,0.12833246038734814,5.4142632889274012E-2,-1.7879006659919927E-2,-5.2370280096354804E-2,-7.870740064637971E-2,3.3518405873967705E-2]
[null,null,null,null,null,null,null,null,null,null,null,null,null,null,null,null,null,535.34595326282999,{"$f":"2*PI()*R317/B56","v":7.0076621412480472E-2},4.9087235894053382E-3,0.1327273962188471,5.2241904899915426E-2,-1.860042238069104E-2,-5.0454168659960885E-2,-7.3517648593849572E-2,4.2397061484261034E-2]
[null,null,null,null,null,null,null,null,null,null,null,null,null,null,null,null,null,546.05287232808655,{"$f":"2*PI()*R318/B56","v":7.1478153840730085E-2},5.1069515824559309E-3,0.1372326860845412,5.0399311478564357E-2,-1.9350908202565353E-2,-4.8603269602601529E-2,-6.8771505868426175E-2,5.09063138895125E-2]
[null,null,null,null,null,null,null,null,null,null,null,null,null,null,null,null,null,556.97392977464824,{"$f":"2*PI()*R319/B56","v":7.2907716917544677E-2},5.3131810270907387E-3,0.14184700127948702,4.8613807500188955E-2,-2.0131632212481598E-2,-4.6815763454262083E-2,-6.4420719797809056E-2,5.9092693315123235E-2]
[null,null,null,null,null,null,null,null,null,null,null,null,null,null,null,null,null,568.1134083701412,{"$f":"2*PI()*R320/B56","v":7.4365871255895569E-2},5.5277346084363363E-3,0.14656845452572043,4.6884294120722814E-2,-2.0943809145362646E-2,-4.5089845721548727E-2,-6.0423415029561056E-2,6.6995678749970811E-2]
[null,null,null,null,null,null,null,null,null,null,null,null,null,null,null,null,null,579.47567653754402,{"$f":"2*PI()*R321/B56","v":7.5853188681013484E-2},5.7509480008417595E-3,0.15139453290189309,4.5209628248422007E-2,-2.1788702221456013E-2,-4.3423730696666496E-2,-5.6743109910328826E-2,7.4648618321863758E-2]
[null,null,null,null,null,null,null,null,null,null,null,null,null,null,null,null,null,591.0651900682949,{"$f":"2*PI()*R322/B56","v":7.7370252454633748E-2},5.9831703887500984E-3,0.15632202415006446,4.3588631064871208E-2,-2.2667625053684581E-2,-4.1815654767958677E-2,-5.334790500229758E-2,8.2079470390994835E-2]
[null,null,null,null,null,null,null,null,null,null,null,null,null,null,null,null,null,602.88649386966085,{"$f":"2*PI()*R323/B56","v":7.8917657503726438E-2},6.2247650082927113E-3,0.16134693576123382,4.2020095678743985E-2,-2.3581943627442481E-2,-4.0263879279990533E-2,-5.0209810230057883E-2,8.9311398302486911E-2]
[null,null,null,null,null,null,null,null,null,null,null,null,null,null,null,null,null,614.94422374705402,{"$f":"2*PI()*R324/B56","v":8.0496010653800951E-2},6.4761097104168545E-3,0.16646440619331315,4.0502793988594021E-2,-2.4533078355368332E-2,-3.8766692986477835E-2,-4.7304184297139784E-2,9.6363244542921223E-2]
[null,null,null,null,null,null,null,null,null,null,null,null,null,null,null,null,null,627.24310822199516,{"$f":"2*PI()*R325/B56","v":8.2105930866876981E-2},6.737597546388148E-3,0.17166860752415403,3.9035482824530732E-2,-2.552250620960983E-2,-3.7322414135928739E-2,-4.4609265508263718E-2,0.10324990449488247]
[null,null,null,null,null,null,null,null,null,null,null,null,null,null,null,null,null,639.78797038643506,{"$f":"2*PI()*R326/B56","v":8.3748049484214521E-2},7.0096373765408471E-3,0.1769526387891176,3.7616909432792056E-2,-2.6551762934246881E-2,-3.5929392226037749E-2,-4.2105777386723275E-2,0.10998261567490175]
[null,null,null,null,null,null,null,null,null,null,null,null,null,null,null,null,null,652.58372979416379,{"$f":"2*PI()*R327/B56","v":8.5423010473898817E-2},7.2926545031817853E-3,0.18230840919688163,3.6245816362026062E-2,-2.7622445340518276E-2,-3.4586009459943057E-2,-3.9776595790890212E-2,0.11656917496755614]
[null,null,null,null,null,null,null,null,null,null,null,null,null,null,null,null,null,665.63540439004703,{"$f":"2*PI()*R328/B56","v":8.7131470683376788E-2},7.5870913285874982E-3,0.18772651035964572,3.4920945804891801E-2,-2.8736213687587053E-2,-3.329068193440321E-2,-3.7606466829139151E-2,0.1230140937134081]
[null,null,null,null,null,null,null,null,null,null,null,null,null,null,null,null,null,678.94811247784799,{"$f":"2*PI()*R329/B56","v":8.8874100097044315E-2},7.8934080390691795E-3,0.1931960766146581,3.3641043444376351E-2,-2.9894794151631654E-2,-3.204186058733427E-2,-3.5581766919754898E-2,0.12931869840031363]
[null,null,null,null,null,null,null,null,null,null,null,null,null,null,null,null,null,692.52707472740497,{"$f":"2*PI()*R330/B56","v":9.0651582098985217E-2},8.2120833161162046E-3,0.19870463245419856,3.2404861849968825E-2,-3.1099981386084607E-2,-3.0838031929413035E-2,-3.3690297962422733E-2,0.13548118302624701]
[null,null,null,null,null,null,null,null,null,null,null,null,null,null,null,null,null,706.37761622195308,{"$f":"2*PI()*R331/B56","v":9.2464613740964915E-2},8.5436150756662763E-3,0.20423792602124635,3.1211163464746505E-2,-3.2353641175867143E-2,-2.9677718582917123E-2,-3.1921111879924524E-2,0.14149661784728407]
[null,null,null,null,null,null,null,null,null,null,null,null,null,null,null,null,null,720.50516854639216,{"$f":"2*PI()*R332/B56","v":9.4313906015784224E-2},8.8885212365889463E-3,0.20977974756943851,3.0058723221458195E-2,-3.3657713188544491E-2,-2.8559479647860542E-2,-3.0264359821508435E-2,0.14735691813298324]
[null,null,null,null,null,null,null,null,null,null,null,null,null,null,null,null,null,734.91527191731996,{"$f":"2*PI()*R333/B56","v":9.6200184136099889E-2},9.2473405195088957E-3,0.21531173172991913,2.8946330821987942E-2,-3.5014213825307117E-2,-2.7481910914865182E-2,-2.871116215078473E-2,0.15305077566095004]
[null,null,null,null,null,null,null,null,null,null,null,null,null,null,null,null,null,749.61357735566639,{"$f":"2*PI()*R334/B56","v":9.8124187818821901E-2},9.6206332771366521E-3,0.22081314237635041,2.7872792711896466E-2,-3.6425239174730173E-2,-2.644364494130258E-2,-2.7253496012541234E-2,0.15856355495967289]
[null,null,null,null,null,null,null,null,null,null,null,null,null,null,null,null,null,764.60584890277971,{"$f":"2*PI()*R335/B56","v":0.10008667157519834},1.0008982357316648E-2,0.22626063883447856,2.6836933779001981E-2,-3.7892968072261279E-2,-2.5443351006508408E-2,-2.5884097817623797E-2,0.16387715571708705]
[null,null,null,null,null,null,null,null,null,null,null,null,null,null,null,null,null,779.89796588083527,{"$f":"2*PI()*R336/B56","v":0.1020884050067023},1.0412994000046374E-2,0.23162802214782374,2.5837598802326056E-2,-3.9419665268387138E-2,-2.447973496015976E-2,-2.4596378429130539E-2,0.16896984229247236]
[null,null,null,null,null,null,null,null,null,null,null,null,null,null,null,null,null,795.49592519845203,{"$f":"2*PI()*R337/B56","v":0.10413017310683635},1.0833298769765336E-2,0.23688596008893725,2.4873653675726359E-2,-4.1007684708423753E-2,-2.3551538976462894E-2,-2.3384349196589937E-2,0.17381604088318703]
[null,null,null,null,null,null,null,null,null,null,null,null,null,null,null,null,null,811.40584370242107,{"$f":"2*PI()*R338/B56","v":0.10621277656897309},1.1270552524258988E-2,0.24200168960078372,2.3943986428093922E-2,-4.2659472926805275E-2,-2.2657541225861166E-2,-2.2242557282673658E-2,0.17838610459353754]
[null,null,null,null,null,null,null,null,null,null,null,null,null,null,null,null,null,827.63396057646946,{"$f":"2*PI()*R339/B56","v":0.10833703210035253},1.1725437421570645E-2,0.24693869537070512,2.3047508060493271E-2,-4.4377572558771394E-2,-2.1796555474658419E-2,-2.1166028974043627E-2,0.18264604642372495]
[null,null,null,null,null,null,null,null,null,null,null,null,null,null,null,null,null,844.18663978799884,{"$f":"2*PI()*R340/B56","v":0.11050377274235959},1.2198662966363504E-2,0.25165636328454255,2.2183153218485074E-2,-4.6164625972185735E-2,-2.0967430622242489E-2,-2.0150219870387787E-2,0.18655724003821161]
[null,null,null,null,null,null,null,null,null,null,null,null,null,null,null,null,null,861.07037258375885,{"$f":"2*PI()*R341/B56","v":0.11271384819720678},1.2690967097225515E-2,0.25610960758994139,2.1349880716464043E-2,-4.8023379022226642E-2,-2.0169050184279058E-2,-1.9190971015504488E-2,0.19007608808439524]
[null,null,null,null,null,null,null,null,null,null,null,null,null,null,null,null,null,878.29178003543404,{"$f":"2*PI()*R342/B56","v":0.11496812516115093},1.320311731646194E-2,0.26024847072213575,2.0546673929345616E-2,-4.9956684931500295E-2,-1.9400331729826803E-2,-1.8284470174769751E-2,0.19315365781538452]
[null,null,null,null,null,null,null,null,null,null,null,null,null,null,null,null,null,895.85761563614278,{"$f":"2*PI()*R343/B56","v":0.11726748766437393},1.373591186397378E-2,0.26401769492340676,1.9772541065577798E-2,-5.1967508298013332E-2,-1.8660226279337166E-2,-1.7427217581165166E-2,0.1957352838304689]
[null,null,null,null,null,null,null,null,null,null,null,null,null,null,null,null,null,913.7747679488657,{"$f":"2*PI()*R344/B56","v":0.11961283741766143},1.4290180936875167E-2,0.26735626502907905,1.902651533414712E-2,-5.4058929233244513E-2,-1.7947717669862584E-2,-1.6615995570717246E-2,0.19776013788940183]
[null,null,null,null,null,null,null,null,null,null,null,null,null,null,null,null,null,932.05026330784301,{"$f":"2*PI()*R345/B56","v":0.12200509416601465},1.4866787956559041E-2,0.2701969221121665,1.8307655017210323E-2,-5.6234147632367559E-2,-1.7261821893015394E-2,-1.5847841611119406E-2,0.19916076599287447]
[null,null,null,null,null,null,null,null,null,null,null,null,null,null,null,null,null,950.69126857399988,{"$f":"2*PI()*R346/B56","v":0.12444519604933496},1.5466630884978331E-2,0.27246564808795171,1.7615043458874879E-2,-5.8496487578336698E-2,-1.6601586411226776E-2,-1.512002429750936E-2,0.19986259325975375]
[null,null,null,null,null,null,null,null,null,null,null,null,null,null,null,null,null,969.70509394547992,{"$f":"2*PI()*R347/B56","v":0.12693409997032165},1.6090643591968629E-2,0.27408112189648648,1.6947788979742029E-2,-6.0849401881338583E-2,-1.5966089456355803E-2,-1.4430021948136584E-2,0.19978339759039754]
[null,null,null,null,null,null,null,null,null,null,null,null,null,null,null,null,null,989.09919582438954,{"$f":"2*PI()*R348/B56","v":0.12947278196972808},1.6739797275499173E-2,0.27495414852084821,1.6305024725923545E-2,-6.329647675465111E-2,-1.5354439315203194E-2,-1.3775503483643092E-2,0.19883275369327436]
[null,null,null,null,null,null,null,null,null,null,null,null,null,null,null,null,null,1008.8811797408773,{"$f":"2*PI()*R349/B56","v":0.13206223760912264},1.7415101936800619E-2,0.2749870628805553,1.5685908460383757E-2,-6.5841436627540162E-2,-1.4765773605354582E-2,-1.3154311315425105E-2,0.19691144979261921]
[null,null,null,null,null,null,null,null,null,null,null,null,null,null,null,null,null,1029.0588033356948,{"$f":"2*PI()*R350/B56","v":0.13470348236130511},1.8117607912381276E-2,0.27407311158193792,1.5089622303982253E-2,-6.8488149095368378E-2,-1.4199258544870474E-2,-1.2564446005811192E-2,0.19391088023987013]
[null,null,null,null,null,null,null,null,null,null,null,null,null,null,null,null,null,1049.6399794024087,{"$f":"2*PI()*R351/B56","v":0.13739755200853121},1.8848407465007933E-2,0.27209581662852855,1.4515372432498452E-2,-7.1240630006394134E-2,-1.3654088218544302E-2,-1.2004052493374218E-2,0.18971241834271435]
[null,null,null,null,null,null,null,null,null,null,null,null,null,null,null,null,null,1070.6327789904569,{"$f":"2*PI()*R352/B56","v":0.14014550304870182},1.9608636435793199E-2,0.26892832651329712,1.3962388735777154E-2,-7.4103048684165618E-2,-1.3129483843407286E-2,-1.1471407703560033E-2,0.18418677501794134]
[null,null,null,null,null,null,null,null,null,null,null,null,null,null,null,null,null,1092.045434570266,{"$f":"2*PI()*R353/B56","v":0.14294841310967588},2.0399475959597967E-2,0.26443276164501128,1.3429924444125163E-2,-7.7079733283541785E-2,-1.26246930359315E-2,-1.0964909387595867E-2,0.17719335038206729]
[null,null,null,null,null,null,null,null,null,null,null,null,null,null,null,null,null,1113.8863432616713,{"$f":"2*PI()*R354/B56","v":0.14580738137186938},2.1222154246025651E-2,0.25845956281582261,1.2917255726996757E-2,-8.0175176277491822E-2,-1.2138989082757234E-2,-1.048306605260052E-2,0.16857958712996979]
[null,null,null,null,null,null,null,null,null,null,null,null,null,null,null,null,null,1136.1640701269048,{"$f":"2*PI()*R355/B56","v":0.14872352899930677},2.2077948428353839E-2,0.25084685339989221,1.2423681268209918E-2,-8.3394040070782882E-2,-1.1671670216877317E-2,-1.0024487862445142E-2,0.15818033651799679]
[null,null,null,null,null,null,null,null,null,null,null,null,null,null,null,null,null,1158.8873515294429,{"$f":"2*PI()*R356/B56","v":0.15169799957929292},2.2968186482818863E-2,0.24141982818015606,1.1948521821643965E-2,-8.6741162735452626E-2,-1.1222058900791865E-2,-9.5878784037921605E-3,0.14581724996176337]
[null,null,null,null,null,null,null,null,null,null,null,null,null,null,null,null,null,1182.0650985600319,{"$f":"2*PI()*R357/B56","v":0.15473195957087876},2.3894249220739332E-2,0.2299901841149925,1.1491119751099177E-2,-9.0221563861587306E-2,-1.0789501118040334E-2,-9.1720272247144408E-3,0.1312982116617496]
[null,null,null,null,null,null,null,null,null,null,null,null,null,null,null,null,null,1205.7064005312325,{"$f":"2*PI()*R358/B56","v":0.15782659876229638},2.4857572356036303E-2,0.21635561094554134,1.1050838557245868E-2,-9.3840450515362939E-2,-1.0373365674340107E-2,-8.775803063741705E-3,0.11441683024934246]
[null,null,null,null,null,null,null,null,null,null,null,null,null,null,null,null,null,1229.8205285418571,{"$f":"2*PI()*R359/B56","v":0.16098313073754228},2.5859648650779169E-2,0.200299362254313,1.0627062394906517E-2,-9.760322329450144E-2,-9.9730435091842651E-3,-8.3981476973988833E-3,9.4952010148134924E-2]
[null,null,null,null,null,null,null,null,null,null,null,null,null,null,null,null,null,1254.4169391126943,{"$f":"2*PI()*R360/B56","v":0.16420279335229312},2.690203014145915E-2,0.18158993033699389,1.0219195582823914E-2,-0.10151548246925213,-9.5879470190176619E-3,-8.0380703423337252E-3,7.2667626089214288E-2]
[null,null,null,null,null,null,null,null,null,null,null,null,null,null,null,null,null,1279.5052778949482,{"$f":"2*PI()*R361/B56","v":0.16748684921933898},2.7986330448763912E-2,0.1599808509345273,9.8266621086189332E-3,-0.10558303419468285,-9.2175093925384033E-3,-7.6946425554744735E-3,4.7312326900450508E-2]
[null,null,null,null,null,null,null,null,null,null,null,null,null,null,null,null,null,1305.0953834528473,{"$f":"2*PI()*R362/B56","v":0.1708365862037258},2.9114227173699672E-2,0.13521066634870493,9.448905130678753E-3,-0.10981189677737513,-8.8611839588388364E-3,-7.3669935821492061E-3,1.8619497161020515E-2]
[null,null,null,null,null,null,null,null,null,null,null,null,null,null,null,null,null,1331.1972911219043,{"$f":"2*PI()*R363/B56","v":0.17425331792780033},3.0287464382978867E-2,0.10700307755462646,9.0853864789437466E-3,-0.11420830697664774,-8.5184435488585564E-3,-7.0543061076335789E-3,-1.3692592599569675E-2]
[null,null,null,null,null,null,null,null,null,null,null,null,null,null,null,null,null,1357.8212369443424,{"$f":"2*PI()*R364/B56","v":0.17773838428635633},3.1507855186662978E-2,7.5067317412489842E-2,8.7355861563089832E-3,-0.11877872631694064,-8.1887798706112847E-3,-6.755812372500003E-3,-4.9920414991253104E-2]
[null,null,null,null,null,null,null,null,null,null,null,null,null,null,null,null,null,1384.9776616832294,{"$f":"2*PI()*R365/B56","v":0.18129315197208348},3.2777284411120419E-2,3.9098777720621314E-2,8.3990018418269585E-3,-0.12352984738411754,-7.8717028984378601E-3,-6.4707906164720441E-3,-9.0374561336579173E-2]
[null,null,null,null,null,null,null,null,null,null,null,null,null,null,null,null,null,1412.6772149168939,{"$f":"2*PI()*R366/B56","v":0.18491901501152513},3.4097711370428697E-2,-1.2200776344748476E-3,8.0751483972321125E-3,-0.12846860007399608,-7.5667402765375869E-3,-6.1985618192963443E-3,-0.13537883140707274]
[null,null,null,null,null,null,null,null,null,null,null,null,null,null,null,null,null,1440.9307592152318,{"$f":"2*PI()*R367/B56","v":0.18861739531175564},3.5471172739418258E-2,-4.6218483078686035E-2,7.7635573777712352E-3,-0.13360215775634909,-7.2734367370586028E-3,-5.9384867105194417E-3,-0.18526900690484194]
[null,null,null,null,null,null,null,null,null,null,null,null,null,null,null,null,null,1469.7493743995365,{"$f":"2*PI()*R368/B56","v":0.19238974321799074},3.6899785531620009E-2,-9.623579855945863E-2,7.463776548334522E-3,-0.13893794331191156,-6.9913535326833198E-3,-5.6899630229416687E-3,-0.24039128187866066]
[null,null,null,null,null,null,null,null,null,null,null,null,null,null,null,null,null,1499.1443618875271,{"$f":"2*PI()*R369/B56","v":0.19623753808235056},3.8385750185442977E-2,-0.15161957239865131,7.1753694057861139E-3,-0.14448363499340644,-6.7200678839185457E-3,-5.4524229672523461E-3,-0.30110032883744253]
[null,null,null,null,null,null,null,null,null,null,null,null,null,null,null,null,null,1529.1272491252778,{"$f":"2*PI()*R370/B56","v":0.20016228884399759},3.9931353761967638E-2,-0.21272322637343066,6.8979147081300596E-3,-0.1502471720542129,-6.4591724409943652E-3,-5.2253309075567245E-3,-0.36775698706806459]
[null,null,null,null,null,null,null,null,null,null,null,null,null,null,null,null,null,1559.7097941077834,{"$f":"2*PI()*R371/B56","v":0.20416553462087755},4.1538973257797873E-2,-0.27990335963521673,6.6310060112613201E-3,-0.15623676007988108,-6.2082747603433575E-3,-5.0081812196687281E-3,-0.44072556968384857]
[null,null,null,null,null,null,null,null,null,null,null,null,null,null,null,null,null,1590.9039899899392,{"$f":"2*PI()*R372/B56","v":0.20824884531329513},4.3211079036466427E-2,-0.35351668035326256,6.37425121374946E-3,-0.16246087594820047,-5.9669967956743619E-3,-4.8004963157701752E-3,{"$f":"U372+V372+W372+X372+Y372","v":-0.5203707981991581}]
[null,null,null,null,null,null,null,null,null,null,null,null,null,null,null,null,null,1622.722069789738,{"$f":"2*PI()*R373/B56","v":0.21241382221956101},{"$f":"4*(SIN(S373/2))^2","v":4.4950238381937013E-2},{"$f":"10*LOG10(($G$116+$G$117+$G$118)^2 + ( $G$116*$G$118*T373 - ($G$117*($G$116+$G$118) + 4*$G$116*$G$118) )*T373 )  - 10*LOG10( (1+$G$119+$G$120)^2 + ( 1*$G$120*T373 - ($G$119*(1+$G$120) + 4*1*$G$120) )*T373)","v":-0.43391658829430213},{"$f":"10*LOG10(($G$121+$G$122+$G$123)^2 + ( $G$121*$G$123*$T373 - ($G$122*($G$121+$G$123) + 4*$G$121*$G$123) )*$T373 )  - 10*LOG10( (1+$G$124+$G$125)^2 + ( 1*$G$125*$T373 - ($G$124*(1+$G$125) + 4*1*$G$125) )*$T373)","v":6.1272721101346406E-3},{"$f":"10*LOG10(($G$126+$G$127+$G$128)^2 + ( $G$126*$G$128*$T373 - ($G$127*($G$126+$G$128) + 4*$G$126*$G$128) )*$T373 )  - 10*LOG10( (1+$G$129+$G$130)^2 + ( 1*$G$130*$T373 - ($G$129*(1+$G$130) + 4*1*$G$130) )*$T373)","v":-0.16892827233266816},{"$f":"10*LOG10(($G$131+$G$132+$G$133)^2 + ( $G$131*$G$133*$T373 - ($G$132*($G$131+$G$133) + 4*$G$131*$G$133) )*$T373 )  - 10*LOG10( (1+$G$134+$G$135)^2 + ( 1*$G$135*$T373 - ($G$134*(1+$G$135) + 4*1*$G$135) )*$T373)","v":-5.7349744033281524E-3},{"$f":"10*LOG10(($G$136+$G$137+$G$138)^2 + ( $G$136*$G$138*$T373 - ($G$137*($G$136+$G$138) + 4*$G$136*$G$138) )*$T373 )  - 10*LOG10( (1+$G$139+$G$140)^2 + ( 1*$G$140*$T373 - ($G$139*(1+$G$140) + 4*1*$G$140) )*$T373)","v":-4.6018248208135049E-3},-0.60705438774097731]
[null,null,null,null,null,null,null,null,null,null,null,null,null,null,null,null,null,1655.1765111855329,{"$f":"2*PI()*R374/B56","v":0.21666209866395225},4.6759119177787301E-2,-0.52144944751784905,5.889703953133818E-3,-0.17564798165188389,-5.5118568620109443E-3,-4.4117398872280944E-3,-0.70113132196583816]
[null,null,null,null,null,null,null,null,null,null,null,null,null,null,null,null,null,1688.2800414092437,{"$f":"2*PI()*R375/B56","v":0.22099534063723134},4.8640493715693463E-2,-0.61645060534798546,5.6611950250342602E-3,-0.18262931935347204,-5.2973064065255926E-3,-4.2298376361564749E-3,-0.80294587371910531]
[null,null,null,null,null,null,null,null,null,null,null,null,null,null,null,null,null,1722.0456422374286,{"$f":"2*PI()*R376/B56","v":0.22541524744997599},5.0597242636864756E-2,-0.71924023092624267,5.4414062184982015E-3,-0.18988188640517389,-5.0909977754542979E-3,-4.0557357142674277E-3,-0.91282744460264009]
[null,null,null,null,null,null,null,null,null,null,null,null,null,null,null,null,null,1756.4865550821773,{"$f":"2*PI()*R377/B56","v":0.22992355239897547},5.2632359010096622E-2,-0.83011906290943216,5.2300106270308788E-3,-0.19741557084776096,-4.8926177724410991E-3,-3.8890719563582365E-3,-1.0310863128589616]
[null,null,null,null,null,null,null,null,null,null,null,null,null,null,null,null,null,1791.6162861838209,{"$f":"2*PI()*R378/B56","v":0.23452202344695502},5.4748952550121445E-2,-0.94936417006778839,5.0266931452149777E-3,-0.20524054824384619,-4.7018648409782315E-3,-3.7295031449637861E-3,-1.1580093931523616]
[null,null,null,null,null,null,null,null,null,null,null,null,null,null,null,null,null,1827.4486119074973,{"$f":"2*PI()*R379/B56","v":0.2392124639158941},5.6950253979935361E-2,-1.0772248394274584,4.8311500787434625E-3,-0.2133672808333249,-4.5184486524014744E-3,-3.5767038588794264E-3,-1.2938561226933207]
[null,null,null,null,null,null,null,null,null,null,null,null,null,null,null,null,null,1863.9975841456471,{"$f":"2*PI()*R380/B56","v":0.24399671319421198},5.9239619540769083E-2,-1.2139187130148983,4.6430887644532959E-3,-0.22180651517965089,-4.3420897067463216E-3,-3.4303654032719066E-3,-1.4388545945401141]
[null,null,null,null,null,null,null,null,null,null,null,null,null,null,null,null,null,1901.2775358285601,{"$f":"2*PI()*R381/B56","v":0.24887664745809621},6.1620535653343314E-2,-1.3596282952137919,4.4622272001788588E-3,-0.23056927806089744,-4.1725189463406309E-3,-3.2901948148733595E-3,-1.5931980598357245]
[null,null,null,null,null,null,null,null,null,null,null,null,null,null,null,null,null,1939.3030865451312,{"$f":"2*PI()*R382/B56","v":0.2538541804072581},6.409662373401126E-2,-1.5144979475721101,4.2882936846346809E-3,-0.23966687032516099,-4.0094773817820339E-3,-3.1559139360659572E-3,-1.7570419155304844]
[null,null,null,null,null,null,null,null,null,null,null,null,null,null,null,null,null,1978.0891482760339,{"$f":"2*PI()*R383/B56","v":0.25893126401540328},6.6671645169332772E-2,-1.6786314763557542,4.121026467043265E-3,-0.24911085839070779,-3.8527157300265458E-3,-3.0272585525459306E-3,-1.9305012825619912]
[null,null,null,null,null,null,null,null,null,null,null,null,null,null,null,null,null,2017.6509312415546,{"$f":"2*PI()*R384/B56","v":0.26410988929571133},6.9349506452550017E-2,-1.8520904004973637,3.9601734066643246E-3,-0.25891306302664452,-3.7019940642970539E-3,-2.903977589433282E-3,-2.1136492617710743]
[null,null,null,null,null,null,null,null,null,null,null,null,null,null,null,null,null,2058.0039498663859,{"$f":"2*PI()*R385/B56","v":0.2693920870816256},7.2134264485340174E-2,-2.0348929646148726,3.8054916420122709E-3,-0.26908554499903792,-3.5570814755772062E-3,-2.7858323613934033E-3,-2.3065159318088688]
[null,null,null,null,null,null,null,null,null,null,null,null,null,null,null,null,null,2099.1640288637136,{"$f":"2*PI()*R386/B56","v":0.27477992882325813},7.5030132048100939E-2,-2.2270139347409383,3.6567472696269476E-3,-0.27964058710952244,-3.4177557452608198E-3,-2.6725958724682641E-3,-2.5090881261985629]
[null,null,null,null,null,null,null,null,null,null,null,null,null,null,null,null,null,2141.147309440988,{"$f":"2*PI()*R387/B56","v":0.28027552739972333},7.8041483441884316E-2,-2.4283851849597688,3.5137150323905075E-3,-0.29059067208734524,-3.2838030288857567E-3,-2.564052161993402E-3,-2.7213099972056027]
[null,null,null,null,null,null,null,null,null,null,null,null,null,null,null,null,null,2183.970255629808,{"$f":"2*PI()*R388/B56","v":0.2858810379477178},8.117286030492199E-2,-2.6388970531747944,3.3761780171417399E-3,-0.3019484557204799,-3.1550175504548861E-3,-2.4599956929591826E-3,-2.9430843441215466]
[null,null,null,null,null,null,null,null,null,null,null,null,null,null,null,null,null,2227.6496607424042,{"$f":"2*PI()*R389/B56","v":0.29159865870667218},8.442897760648703E-2,-2.8584004156640468,3.2439273615381126E-3,-0.31372673452553634,-3.0312013071416288E-3,-2.3602307797858657E-3,-3.1742746549149725]
[null,null,null,null,null,null,null,null,null,null,null,null,null,null,null,null,null,2272.2026539572521,{"$f":"2*PI()*R390/B56","v":0.2974306318808056},8.7814729820601997E-2,-3.0867094047157941,3.1167619698528881E-3,-0.32593840715813682,-2.9121637841100778E-3,-2.2645710524358265E-3,-3.414707784740624]
[null,null,null,null,null,null,null,null,null,null,null,null,null,null,null,null,null,2317.6467070363974,{"$f":"2*PI()*R391/B56","v":0.30337924451842174},9.1335197281834812E-2,-3.3236046729667059,2.9944882377463955E-3,-0.33859642865355344,-2.7977216791192916E-3,-2.1728389543973492E-3,-3.6641771740160296]
[null,null,null,null,null,null,null,null,null,null,null,null,null,null,null,null,null,2363.9996411771253,{"$f":"2*PI()*R392/B56","v":0.30944682940879015},9.4995652725112775E-2,-3.5688370931398978,2.8769197855922357E-3,-0.35171375645971859,-2.6876986366701772E-3,-2.0848652718790106E-3,-3.9224464937225734]
[null,null,null,null,null,null,null,null,null,null,null,null,null,null,null,null,null,2411.279634000668,{"$f":"2*PI()*R393/B56","v":0.31563576599696597},9.8801568011132948E-2,-3.8221317732473317,2.7638772004259238E-3,-0.3653032870789068,-2.5819249913574538E-3,-2.000488692150526E-3,-4.189253596809321]
[null,null,null,null,null,null,null,null,null,null,null,null,null,null,null,null,null,2459.5052266806815,{"$f":"2*PI()*R394/B56","v":0.32194848131690534},0.10275862103854438,-4.0831922650039978,2.6551877861429318E-3,-0.37937778196804262,-2.4802375202170879E-3,-1.9195553888131656E-3,-4.4643146520949273]
[null,null,null,null,null,null,null,null,null,null,null,null,null,null,null,null,null,2508.695331214295,{"$f":"2*PI()*R395/B56","v":0.3283874509432434},0.10687270284362427,-4.3517048467539254,2.5506853217827086E-3,-0.39394978115758983,-2.3824792037565601E-3,-1.8419186322020664E-3,-4.7473283404256907]
[null,null,null,null,null,null,null,null,null,null,null,null,null,null,null,null,null,2558.8692378385808,{"$f":"2*PI()*R396/B56","v":0.33495519996210826},0.11114992488766035,-4.6273427708030752,2.4502098278134099E-3,-0.40903150283221823,-2.2884989954121693E-3,-1.7674384231405327E-3,-5.0379800012260327]
[null,null,null,null,null,null,null,null,null,null,null,null,null,null,null,null,null,2610.0466225953523,{"$f":"2*PI()*R397/B56","v":0.34165430396135038},0.11559662653167505,-4.9097703776046728,2.3536073400869384E-3,-0.4246347268690398,-2.1981515991562617E-3,-1.6959811483658882E-3,-5.3359456298811478]
[null,null,null,null,null,null,null,null,null,null,null,null,null,null,null,null,null,2662.2475550472595,{"$f":"2*PI()*R398/B56","v":0.34848739004057749},0.12021938269749065,-5.1986469945328295,2.2607296913541575E-3,-0.44077066004706955,-2.1112972550483278E-3,-1.6274192563088263E-3,-5.6408956413999025]
[null,null,null,null,null,null,null,null,null,null,null,null,null,null,null,null,null,2715.4925061482049,{"$f":"2*PI()*R399/B56","v":0.35545713784138905},0.12502501171341324,-5.4936305537856462,2.1714343001235648E-3,-0.45744978031986294,-2.02780153240667E-3,-1.5616309516204296E-3,-5.9524983322894123]
[null,null,null,null,null,null,null,null,null,null,null,null,null,null,null,null,null,2769.8023562711692,{"$f":"2*PI()*R400/B56","v":0.36256628059821683},0.13002058334202329,-5.7943808811500865,2.0855839666040765E-3,-0.47468165717680577,-1.9475351304016897E-3,-1.4984999074130201E-3,-6.2704229893981029]
[null,null,null,null,null,null,null,null,null,null,null,null,null,null,null,null,null,2825.1984033965928,{"$f":"2*PI()*R401/B56","v":0.36981760621018117},0.13521342698667124,-6.1005626239746178,2.0030466756750798E-3,-0.4924747447014548,-1.8703736858434183E-3,-1.4379149938790192E-3,-6.59434261068012]
[null,null,null,null,null,null,null,null,null,null,null,null,null,null,null,null,null,2881.7023714645247,{"$f":"2*PI()*R402/B56","v":0.37721395833438481},0.14061114007230219,-6.4118478019808158,1.923695406510717E-3,-0.5108361434610118,-1.7961975878613146E-3,-1.3797700222966114E-3,-6.9239362176454744]
[null,null,null,null,null,null,null,null,null,null,null,null,null,null,null,null,null,2939.3364188938153,{"$f":"2*PI()*R403/B56","v":0.38475823750107258},0.14622159659514883,-6.7279179779751423,1.8474079488477457E-3,-0.52977132682274952,-1.7248917993271107E-3,-1.323963503377712E-3,-7.2588907521517489]
[null,null,null,null,null,null,null,null,null,null,null,null,null,null,null,null,null,2998.1231472716918,{"$f":"2*PI()*R404/B56","v":0.39245340225109399},0.15205295583463849,-7.0484660567880688,1.7740667255559117E-3,-0.549283826683026,-1.6563456847542568E-3,-1.2703984190487461E-3,-7.5989025608493419]
[null,null,null,null,null,null,null,null,null,null,null,null,null,null,null,null,null,3058.0856102171256,{"$f":"2*PI()*R405/B56","v":0.40030247029611588},0.15811367121954539,-7.3731977297521887,1.7035586214042553E-3,-0.56937487290473543,-1.5904528444501409E-3,-1.2189820067902701E-3,-7.9436784788867598]
[null,null,null,null,null,null,null,null,null,null,null,null,null,null,null,null,null,3119.2473224214682,{"$f":"2*PI()*R406/B56","v":0.40830851970203819},0.16441249933896951,-7.7018325887724224,1.635774817824398E-3,-0.59004297998112154,-1.52711095475766E-3,-1.1696255557911428E-3,-8.2929365304462674]
[null,null,null,null,null,null,null,null,null,null,null,null,null,null,null,null,null,3181.6322688698974,{"$f":"2*PI()*R407/B56","v":0.41647469009607896},0.17095850908713764,-8.0341049386958261,1.5706106334807401E-3,-0.61128347356959889,-1.4662216140806095E-3,-1.1222442140894628E-3,-8.6464062674601134]
[null,null,null,null,null,null,null,null,null,null,null,null,null,null,null,null,null,3245.2649142472956,{"$f":"2*PI()*R408/B56","v":0.42480418389800056},0.17776109092927558,-8.3697643394894179,1.5079653704734852E-3,-0.633087948560624,-1.407690194648481E-3,-1.0767568060909838E-3,-9.0038287696803074]
[null,null,null,null,null,null,null,null,null,null,null,null,null,null,null,null,null,3310.1702125322417,{"$f":"2*PI()*R409/B56","v":0.43330026757596063},0.18482996627389381,-8.7085759109597838,1.447742165971988E-3,-0.65544364925678344,-1.3514256996689511E-3,-1.0330856597935423E-3,-9.3649563294100577]
[null,null,null,null,null,null,null,null,null,null,null,null,null,null,null,null,null,3376.3736167828865,{"$f":"2*PI()*R410/B56","v":0.44196627292747986},0.19217519693473809,-9.0503204326908033,1.3898478491807253E-3,-0.67833276103100637,-1.2973406257721365E-3,-9.9115644313130247E-4,-9.7295518429415324]
[null,null,null,null,null,null,null,null,null,null,null,null,null,null,null,null,null,3443.9010891185444,{"$f":"2*PI()*R411/B56","v":0.4508055983860294},0.1998071946633759,-9.394794270821949,1.3341928033554495E-3,-0.70173160150802838,-1.2453508305405592E-3,-9.5089800887926401E-4,-10.097387928366041]
[null,null,null,null,null,null,null,null,null,null,null,null,null,null,null,null,null,3512.7791109009154,{"$f":"2*PI()*R412/B56","v":0.45982171035375002},0.20773673073089777,-9.741809161504591,1.280690832842879E-3,-0.72560969787255125,-1.1953754049525145E-3,-9.1224224763841733E-4,-10.46824578619689]
[null,null,null,null,null,null,null,null,null,null,null,null,null,null,null,null,null,3583.0346931189338,{"$f":"2*PI()*R413/B56","v":0.46901814456082502},0.21597494553449634,-10.091191878590287,1.229259034825958E-3,-0.74992873536025639,-1.1473365505310085E-3,-8.7512394835265184E-4,-10.841913815414602]
[null,null,null,null,null,null,null,null,null,null,null,null,null,null,null,null,null,3654.6953869813124,{"$f":"2*PI()*R414/B56","v":0.47839850745204154},0.22453335820173187,-10.442783810522483,1.1798176757746859E-3,-0.77464136035334619,-1.1011594610987885E-3,-8.3948066601280402E-4,-11.218185993327166]
[null,null,null,null,null,null,null,null,null,null,null,null,null,null,null,null,null,3727.7892947209389,{"$f":"2*PI()*R415/B56","v":0.48796647760108242},0.23342387616207172,-10.796440468681144,1.1322900723360618E-3,-0.79968981981339526,-1.0567722089191989E-3,-8.0525259602026722E-4,-11.596860023227142]
[null,null,null,null,null,null,null,null,null,null,null,null,null,null,null,null,null,3802.3450806153578,{"$f":"2*PI()*R416/B56","v":0.49772580715310405},0.24265880465179851,-11.152030946695977,1.0866024765707749E-3,-0.82500441709314387,-1.014105635070095E-3,-7.7238245490995894E-4,-11.97773524940253]
[null,null,null,null,null,null,null,null,null,null,null,null,null,null,null,null,null,3878.3919822276648,{"$f":"2*PI()*R417/B56","v":0.50768032329616619},0.2522508561145837,-11.50943734759236,1.0426839653447928E-3,-0.85050176255250731,-9.7309324397620856E-4,-7.4081536704895257E-4,-12.360610334790548]
[null,null,null,null,null,null,null,null,null,null,null,null,null,null,null,null,null,3955.9598218722181,{"$f":"2*PI()*R418/B56","v":0.51783392976208942},0.2622131594559064,-11.868554193131047,1.0004663338119002E-3,-0.87608279597394345,-9.3367110179976009E-4,-7.104987569075405E-4,-12.745280692629885]
[null,null,null,null,null,null,null,null,null,null,null,null,null,null,null,null,null,4035.0790183096624,{"$f":"2*PI()*R419/B56","v":0.52819060835733123},0.27255926910503731,-12.229287827393195,9.5988399275448444E-4,-0.9016305566836591,-8.9577773873728006E-4,-6.813822467233166E-4,-13.131535660069561]
[null,null,null,null,null,null,null,null,null,null,null,null,null,null,null,null,null,4115.7805986758558,{"$f":"2*PI()*R420/B56","v":0.53875442052447786},0.28330317383347381,-12.59155582457039,9.2087386974348817E-4,-0.92700767675033902,-8.5935405491355255E-4,-6.5341755907510901E-4,-13.519155399064974]
[null,null,null,null,null,null,null,null,null,null,null,null,null,null,null,null,null,4198.0962106493726,{"$f":"2*PI()*R421/B56","v":0.54952950893496733},0.29445930527349246,-12.955286409056709,8.8337531388305024E-4,-0.95205357293655668,-8.243432298726816E-4,-6.2655842428327446E-4,-13.907907508333539]
[null,null,null,null,null,null,null,null,null,null,null,null,null,null,null,null,null,4282.05813486236,{"$f":"2*PI()*R422/B56","v":0.56052009911366674},0.30604254607483716,-13.32041789430574,8.4733000412562376E-4,-0.97658131459342723,-7.9069063542291929E-4,-6.0076049224377925E-4,-14.297543330022709]
[null,null,null,null,null,null,null,null,null,null,null,null,null,null,null,null,null,4367.6992975596077,{"$f":"2*PI()*R423/B56","v":0.57173050109594015},0.31806823763146813,-13.686898145502125,8.1268186096039585E-4,-1.0003741478982475,-7.5834375182282088E-4,-5.7598124849178589E-4,-14.687793936539727]
[null,null,null,null,null,null,null,null,null,null,null,null,null,null,null,null,null,4455.0532835107997,{"$f":"2*PI()*R424/B56","v":0.58316511111785896},0.3305521873037241,-14.054684069891579,7.7937696135954582E-4,-1.0231816623466139,-7.2725208709911726E-4,-5.521799342780298E-4,-15.07836578729821]
[null,null,null,null,null,null,null,null,null,null,null,null,null,null,null,null,null,4544.1543491810162,{"$f":"2*PI()*R425/B56","v":0.59482841334021619},0.34351067505416871,-14.423741137598547,7.4736345692016926E-4,-1.0447155939774455,-6.973670994252501E-4,-5.2931747043949429E-4,-15.468936052688937]
[null,null,null,null,null,null,null,null,null,null,null,null,null,null,null,null,null,4635.0374361646363,{"$f":"2*PI()*R426/B56","v":0.60672498160702049},0.35696045940776822,-14.794042934919332,7.1659149502600883E-4,-1.0646452723363804,-6.6864212245576482E-4,-5.073563848476681E-4,-15.859147614267989]
[null,null,null,null,null,null,null,null,null,null,null,null,null,null,null,null,null,4727.7381848879295,{"$f":"2*PI()*R427/B56","v":0.6188594812391609},0.37091878263884859,-15.165570751390986,6.8701314297214822E-4,-1.0825927357245648,-6.4103229346912372E-4,-4.8626074326207913E-4,-16.24860376700931]
[null,null,null,null,null,null,null,null,null,null,null,null,null,null,null,null,null,4822.2929485856885,{"$f":"2*PI()*R428/B56","v":0.63123667086394419},0.38540337507847511,-15.538313201385442,6.5858231490878438E-4,-1.0981275630106802,-6.14494484247885E-4,-4.6599608340258669E-4,-16.636862672648864]
[null,null,null,null,null,null,null,null,null,null,null,null,null,null,null,null,null,4918.7388075574027,{"$f":"2*PI()*R429/B56","v":0.64386140428122307},0.40043245842644204,-15.912265880545904,6.3125470153480023E-4,-1.1107615014349281,-5.8898723458700175E-4,-4.46529352089442E-4,-17.023431643865973]
[null,null,null,null,null,null,null,null,null,null,null,null,null,null,null,null,null,5017.1135837085512,{"$f":"2*PI()*R430/B56","v":0.65673863236684771},0.41602474794193034,-16.287431057052878,6.0498770241945721E-4,-1.1199430095708665,-5.6447068833787029E-4,-4.2782884525216502E-4,-17.407761378454914]
[null,null,null,null,null,null,null,null,null,null,null,null,null,null,null,null,null,5117.4558553827219,{"$f":"2*PI()*R431/B56","v":0.66987340501418458},0.43219945337603416,-16.663817397465813,5.7974036088381808E-4,-1.1250518838397654,-5.4090653188598736E-4,-4.0986415071753157E-4,-17.789240311627299]
[null,null,null,null,null,null,null,null,null,null,null,null,null,null,null,null,null,5219.8049724903767,{"$f":"2*PI()*R432/B56","v":0.68327087311446832},0.44897627849775534,-17.041439726719918,5.5547330131577866E-4,-1.1253941960417884,-5.1825793496096395E-4,-3.9260609359548226E-4,-18.167189313488947]
[null,null,null,null,null,null,null,null,null,null,null,null,null,null,null,null,null,5324.2010719401842,{"$f":"2*PI()*R433/B56","v":0.69693629057675766},0.46637541905265373,-17.420318821755082,5.3214866885387124E-4,-1.1201978376609769,-4.9648949372738116E-4,-3.7602668414837837E-4,-18.540857026925082]
[null,null,null,null,null,null,null,null,null,null,null,null,null,null,null,null,null,5430.6850933789883,{"$f":"2*PI()*R434/B56","v":0.71087501638829298},0.48441755898011357,-17.800481238205421,5.0973007136612125E-4,-1.1086090420988679,-4.7556717604457788E-4,-3.6009906800149594E-4,-18.909416216476973]
[null,null,null,null,null,null,null,null,null,null,null,null,null,null,null,null,null,5539.2987952465683,{"$f":"2*PI()*R435/B56","v":0.72509251671605879},0.50312386470107262,-18.181959169574689,4.8818252359428271E-4,-1.0896903342461877,-4.5545826881276952E-4,-3.4479747861837495E-4,-19.271961577044717]
[null,null,null,null,null,null,null,null,null,null,null,null,null,null,null,null,null,5650.0847711514998,{"$f":"2*PI()*R436/B56","v":0.73959436705037995},0.52251597727305588,-18.564790338358943,4.6747239345101832E-4,-1.0624204308758241,-4.3613132735131899E-4,-3.3009719188559217E-4,{"$f":"U436+V436+W436+X436+Y436","v":-19.627509525360555}]
[null,null,null,null,null,null,null,null,null,null,null,null,null,null,null,null,null,5763.0864665745303,{"$f":"2*PI()*R437/B56","v":0.75438625439138751},{"$f":"4*(SIN(S437/2))^2","v":0.54261600219338513},{"$f":"10*LOG10(($G$116+$G$117+$G$118)^2 + ( $G$116*$G$118*T437 - ($G$117*($G$116+$G$118) + 4*$G$116*$G$118) )*T437 )  - 10*LOG10( (1+$G$119+$G$120)^2 + ( 1*$G$120*T437 - ($G$119*(1+$G$120) + 4*1*$G$120) )*T437)","v":-18.949017918645929},{"$f":"10*LOG10(($G$121+$G$122+$G$123)^2 + ( $G$121*$G$123*$T437 - ($G$122*($G$121+$G$123) + 4*$G$121*$G$123) )*$T437 )  - 10*LOG10( (1+$G$124+$G$125)^2 + ( 1*$G$125*$T437 - ($G$124*(1+$G$125) + 4*1*$G$125) )*$T437)","v":4.4756735032169814E-4},{"$f":"10*LOG10(($G$126+$G$127+$G$128)^2 + ( $G$126*$G$128*$T437 - ($G$127*($G$126+$G$128) + 4*$G$126*$G$128) )*$T437 )  - 10*LOG10( (1+$G$129+$G$130)^2 + ( 1*$G$130*$T437 - ($G$129*(1+$G$130) + 4*1*$G$130) )*$T437)","v":-1.0256966748587708},{"$f":"10*LOG10(($G$131+$G$132+$G$133)^2 + ( $G$131*$G$133*$T437 - ($G$132*($G$131+$G$133) + 4*$G$131*$G$133) )*$T437 )  - 10*LOG10( (1+$G$134+$G$135)^2 + ( 1*$G$135*$T437 - ($G$134*(1+$G$135) + 4*1*$G$135) )*$T437)","v":-4.1755612670169029E-4},{"$f":"10*LOG10(($G$136+$G$137+$G$138)^2 + ( $G$136*$G$138*$T437 - ($G$137*($G$136+$G$138) + 4*$G$136*$G$138) )*$T437 )  - 10*LOG10( (1+$G$139+$G$140)^2 + ( 1*$G$140*$T437 - ($G$139*(1+$G$140) + 4*1*$G$140) )*$T437)","v":-3.1597448272080442E-4},-19.975000556763803]
[null,null,null,null,null,null,null,null,null,null,null,null,null,null,null,null,null,5878.3481959060209,{"$f":"2*PI()*R438/B56","v":0.76947397947921536},0.56344649661451474,-19.334690489818147,4.2843631535482984E-4,-0.97834061724643084,-3.9970361481955763E-4,-3.0240658362590267E-4,-20.313304780947664]
[null,null,null,null,null,null,null,null,null,null,null,null,null,null,null,null,null,5995.9151598241415,{"$f":"2*PI()*R439/B56","v":0.78486345906879973},0.58503045371749318,-19.721862021108315,4.1004941363453895E-4,-0.91910734679861017,-3.8254586754771225E-4,-2.8937164505471458E-4,-20.641231236005893]
[null,null,null,null,null,null,null,null,null,null,null,null,null,null,null,null,null,6115.8334630206245,{"$f":"2*PI()*R440/B56","v":0.80056072825017566},0.60739128397056774,-20.110591886900156,3.9237792818536121E-4,-0.84669908788380188,-3.6605604533868075E-4,-2.7684869754818209E-4,-20.957541501598659]
[null,null,null,null,null,null,null,null,null,null,null,null,null,null,null,null,null,6238.1501322810373,{"$f":"2*PI()*R441/B56","v":0.8165719428151792},0.63055279297991873,-20.500944912832352,3.7539425572941099E-4,-0.75978342728838499,-3.5020835163379616E-4,-2.6481761550289917E-4,-21.260967971832144]
[null,null,null,null,null,null,null,null,null,null,null,null,null,null,null,null,null,6362.9131349266581,{"$f":"2*PI()*R442/B56","v":0.83290338167148292},0.65453915561837772,-20.892991452948074,3.5907186413419723E-4,-0.65701627617215452,-3.3497799285564511E-4,-2.5325908255480201E-4,-21.550236894331505]
[null,null,null,null,null,null,null,null,null,null,null,null,null,null,null,null,null,6490.1713976251913,{"$f":"2*PI()*R443/B56","v":0.84956144930491262},0.67937488609578478,-21.286807498336596,3.4338525149912869E-4,-0.53706932379026462,-3.203411399494982E-4,-2.4215455846610112E-4,-21.824095932573776]
[null,null,null,null,null,null,null,null,null,null,null,null,null,null,null,null,null,6619.9748255776949,{"$f":"2*PI()*R444/B56","v":0.86655267829101068},0.70508480361133641,-21.682474817937877,3.2830990681498307E-4,-0.39866130962795476,-3.0627489139911646E-4,-2.3148624744129265E-4,-22.081345578797855]
[null,null,null,null,null,null,null,null,null,null,null,null,null,null,null,null,null,6752.3743220892493,{"$f":"2*PI()*R445/B56","v":0.88388373185683111},0.73169399320387563,-22.080081132426351,3.1382227212306546E-4,-0.24059196578674236,-2.9275723769384143E-4,-2.2123706782828378E-4,-22.320873270246494]
[null,null,null,null,null,null,null,null,null,null,null,null,null,null,null,null,null,6887.421808531034,{"$f":"2*PI()*R446/B56","v":0.90156140649396765},0.75922776139062065,-22.479720322359128,2.99899706158957E-4,-6.1777018566111952E-2,-2.7976702716925317E-4,-2.1139062313713097E-4,-22.541688598869385]
[null,null,null,null,null,null,null,null,null,null,null,null,null,null,null,null,null,7025.1702447016551,{"$f":"2*PI()*R447/B56","v":0.9195926346238471},0.78771158615833758,-22.881492672068937,2.8652044937249599E-4,0.13871773967914591,-2.6728393317299037E-4,-2.0193117429245788E-4,-22.742957627047886]
[null,null,null,null,null,null,null,null,null,null,null,null,null,null,null,null,null,7165.6736495956884,{"$f":"2*PI()*R448/B56","v":0.937984487316324},0.81717106084344482,-23.285505151105593,2.7366359032643395E-4,0.36164551195792805,-2.55288422516875E-4,-1.9284361310689668E-4,-22.924034107592959]
[null,null,null,null,null,null,null,null,null,null,null,null,null,null,null,null,null,7308.9871225876022,{"$f":"2*PI()*R449/B56","v":0.95674417706265047},0.84763183140915066,-23.691871735388315,2.6130903339094402E-4,0.60755287959928905,-2.4376172516205052E-4,-1.8411343687008142E-4,-23.084485421917666]
[null,null,null,null,null,null,null,null,null,null,null,null,null,null,null,null,null,7455.166865039354,{"$f":"2*PI()*R450/B56","v":0.9758790606039035},0.87911952659843684,-24.100713770626989,2.4943746769445774E-4,0.87676141288875553,-2.3268580508251091E-4,-1.7572672405452572E-4,-23.224111332799676]
[null,null,null,null,null,null,null,null,null,null,null,null,null,null,null,null,null,7604.2702023401416,{"$f":"2*PI()*R451/B56","v":0.99539664181598164},0.91165968041174184,-24.512160381012254,2.3803033729230538E-4,1.1693578739209087,-2.220433322899229E-4,-1.6767011104501517E-4,-23.342954190197386]
[null,null,null,null,null,null,null,null,null,null,null,null,null,null,null,null,null,7756.3556063869446,{"$f":"2*PI()*R452/B56","v":1.0153045746523013},0.94527764632761102,-24.926348926667654,2.2706981249998037E-4,1.4851936317221428,-2.1181765594269208E-4,-1.5993076988318755E-4,-23.441299973558834]
[null,null,null,null,null,null,null,null,null,null,null,null,null,null,null,null,null,7911.4827185146833,{"$f":"2*PI()*R453/B56","v":1.0356106661453472},0.97999850265360522,-25.343425513911868,2.1653876235430691E-4,1.823893060506808,-2.0199277853114039E-4,-1.5249638695111201E-4,-23.519670403808188]
[null,null,null,null,null,null,null,null,null,null,null,null,null,null,null,null,null,8069.7123728849774,{"$f":"2*PI()*R454/B56","v":1.0563228794682542},1.0158469483635755,-25.763545563004975,2.0642072816591528E-4,2.1848698581791441,-1.9255333107741357E-4,-1.4535514258637305E-4,-23.578807192571329]
[null,null,null,null,null,null,null,null,null,null,null,null,null,null,null,null,null,8231.1066203426763,{"$f":"2*PI()*R455/B56","v":1.0774493370576192},1.0528471887462794,-26.186874438762757,1.9669989811632593E-4,2.5673495198530496,-1.8348454933264646E-4,-1.3849569156304531E-4,-23.619650199252487]
[null,null,null,null,null,null,null,null,null,null,null,null,null,null,null,null,null,8395.72875274953,{"$f":"2*PI()*R456/B56","v":1.0989983237987717},1.0910228101595392,-26.613588150231234,1.8736108286521169E-4,2.9703957171605344,-1.7477225091666604E-4,-1.3190714440702855E-4,-23.643311751383155]
[null,null,null,null,null,null,null,null,null,null,null,null,null,null,null,null,null,8563.6433278045206,{"$f":"2*PI()*R457/B56","v":1.1209782902747472},1.1303966431540791,-27.043874126538043,1.7838969213901379E-4,3.3929381101518103,-1.6640281338453633E-4,-1.2557904953447441E-4,-23.651049608557013]
[null,null,null,null,null,null,null,null,null,null,null,null,null,null,null,null,null,8734.9161943606105,{"$f":"2*PI()*R458/B56","v":1.143397856080242},1.1709906132022438,-27.477932077098551,1.6977171226173482E-4,3.8337991476387723,-1.583631531754115E-4,-1.1950137614014089E-4,-23.644241022276834]
[null,null,null,null,null,null,null,null,null,null,null,null,null,null,null,null,null,8909.6145182478231,{"$f":"2*PI()*R459/B56","v":1.1662658132018469},1.2128255782394879,-27.915974945577769,1.6149368459350555E-4,4.2917176469096283,-1.5064070542125663E-4,-1.1366449784810939E-4,-23.624360110186817]
[null,null,null,null,null,null,null,null,null,null,null,null,null,null,null,null,null,9087.8068086127805,{"$f":"2*PI()*R460/B56","v":1.1895911294658839},1.2559211522013749,-28.358229968424183,1.5354268485001654E-4,4.7653673146149176,-1.4322340458239324E-4,-1.0805917705591916E-4,-23.592960393706054]
[null,null,null,null,null,null,null,null,null,null,null,null,null,null,null,null,null,9269.562944785037,{"$f":"2*PI()*R461/B56","v":1.2133829520552017},1.3002955137165493,-28.804939850435449,1.4590630328692455E-4,5.2533688027911261,-1.3609966588346012E-4,-1.0267654997697662E-4,-23.551663917556894]
[null,null,null,null,null,null,null,null,null,null,null,null,null,null,null,null,null,9454.9542036807379,{"$f":"2*PI()*R462/B56","v":1.2376506110963059},1.3459651990973944,-29.2563640717315,1.3857262568217621E-4,5.7542943248960006,-1.2925836752630815E-4,-9.7508112335553676E-5,-23.502157940689678]
[null,null,null,null,null,null,null,null,null,null,null,null,null,null,null,null,null,9644.0532877543537,{"$f":"2*PI()*R463/B56","v":1.2624036233182321},1.392944878755813,-29.712780342751778,1.3153021514611396E-4,6.2666642465004179,-1.2268883364585648E-4,-9.2545705697499869E-5,-23.446199800575556]
[null,null,null,null,null,null,null,null,null,null,null,null,null,null,null,null,null,9836.9343535094413,{"$f":"2*PI()*R464/B56","v":1.2876516957845967},1.441247116162681,-30.17448622652573,1.2476809468875416E-4,6.7889354015807317,-1.1638081800580125E-4,-8.778150441735022E-5,-23.385630219172732]
[null,null,null,null,null,null,null,null,null,null,null,null,null,null,null,null,null,10033.67304057963,{"$f":"2*PI()*R465/B56","v":1.3134047297002887},1.490882108467132,-30.641800950567507,1.1827573054734586E-4,7.3194811837770946,-1.103244883875476E-4,-8.3208003164969568E-5,-23.322395023551419]
[null,null,null,null,null,null,null,null,null,null,null,null,null,null,null,null,null,10234.346501391223,{"$f":"2*PI()*R466/B56","v":1.3396728242942946},1.5418574078972029,-31.115067434416403,1.1204301623468638E-4,7.8565637638608194,-1.045104116790263E-4,-7.8818005039948957E-5,-23.258574955956067]
[null,null,null,null,null,null,null,null,null,null,null,null,null,null,null,null,null,10439.033431419048,{"$f":"2*PI()*R467/B56","v":1.3664662807801802},1.5941776230778815,-31.594654563204692,1.0606025731974E-4,8.3982991536959037,-9.8929539610992379E-5,-7.4604610224682233E-5,-23.196422883401304]
[null,null,null,null,null,null,null,null,null,null,null,null,null,null,null,null,null,10647.81410004743,{"$f":"2*PI()*R468/B56","v":1.3937956063957841},1.6478440994278321,-32.080959742833237,1.0031815687927548E-4,8.9426163548003696,-9.3573195170115753E-5,-7.0561205187225085E-5,-23.138407204276341]
[null,null,null,null,null,null,null,null,null,null,null,null,null,null,null,null,null,10860.770382048378,{"$f":"2*PI()*R469/B56","v":1.4216715185236999},1.7028545778337443,-32.574411778561355,9.4807801640506284E-5,9.4872125883174618,-8.8433059621806365E-5,-6.668145239352441E-5,-23.087259496954275]
[null,null,null,null,null,null,null,null,null,null,null,null,null,null,null,null,null,11077.985789689346,{"$f":"2*PI()*R470/B56","v":1.4501049488941737},1.7592028308534169,-33.075474126304826,8.95206487925293E-5,10.029507690975199,-8.350116018007725E-5,-6.2959280538343876E-5,-23.04602337512155]
[null,null,null,null,null,null,null,null,null,null,null,null,null,null,null,null,null,11299.545505483133,{"$f":"2*PI()*R471/B56","v":1.4791070478720574},1.8168782757673636,-33.584648574979951,8.4448513436363726E-5,10.566602235124831,-7.8769858270710813E-5,-5.9388875269128505E-5,-23.018100050075223]
[null,null,null,null,null,null,null,null,null,null,null,null,null,null,null,null,null,11525.536415592796,{"$f":"2*PI()*R472/B56","v":1.5086891888294987},1.875865563886441,-34.102479429207442,7.9583556688689328E-5,11.095245767814216,-7.4231838399718697E-5,-5.5964670398367389E-5,-23.007284274345334]
[null,null,null,null,null,null,null,null,null,null,null,null,null,null,null,null,null,11756.047143904652,{"$f":"2*PI()*R473/B56","v":1.5388629726060887},1.9361441456323467,-34.629558275074437,7.4918274415303188E-5,11.611823591462747,-6.9880097623986615E-5,-5.2681339588467324E-5,-23.017782326774491]
[null,null,null,null,null,null,null,null,null,null,null,null,null,null,null,null,null,11991.168086782745,{"$f":"2*PI()*R474/B56","v":1.5696402320582103},1.9976878110416887,-35.16652942805738,7.0445486590742235E-5,12.112372317528148,-6.5707935600123335E-5,-4.9533788523348221E-5,-23.054201906766764]
[null,null,null,null,null,null,null,null,null,null,null,null,null,null,null,null,null,12230.9914485184,{"$f":"2*PI()*R475/B56","v":1.6010330366993746},2.0604642055058968,-35.714096182422495,6.6158327291176988E-5,12.592635298040111,-6.1708945224836498E-5,-4.6517147524127722E-5,-23.121502952147839]
[null,null,null,null,null,null,null,null,null,null,null,null,null,null,null,null,null,12475.611277488768,{"$f":"2*PI()*R476/B56","v":1.633053697433362},2.1244343207519893,-36.273028006467527,6.2050235302812951E-5,13.04816796896165,-5.787700385173622E-5,-4.3626764656856665E-5,-23.224899491039086]
[null,null,null,null,null,null,null,null,null,null,null,null,null,null,null,null,null,12725.123503038543,{"$f":"2*PI()*R477/B56","v":1.6657147713820293},2.1895519612968437,-36.844168859189388,5.8114945365339565E-5,13.474499020280234,-5.4206265116540919E-5,-4.0858199282567398E-5,-23.369706788428182]
[null,null,null,null,null,null,null,null,null,null,null,null,null,null,null,null,null,12979.625973099315,{"$f":"2*PI()*R478/B56","v":1.6990290668096699},2.2557631868741623,-37.428446843120355,5.4346480045097678E-5,13.867345405651044,-5.069115132094737E-5,-3.8207216091379337E-5,-23.561135989356686]
[null,null,null,null,null,null,null,null,null,null,null,null,null,null,null,null,null,13239.218492561302,{"$f":"2*PI()*R479/B56","v":1.7330096481458634},2.3230057316432182,-38.026885457516762,5.0739142256617242E-5,14.222867844472599,-4.7326346453324675E-5,-3.5669779595792761E-5,-23.804049870027953]
[null,null,null,null,null,null,null,null,null,null,null,null,null,null,null,null,null,13504.002862412528,{"$f":"2*PI()*R480/B56","v":1.7676698411087806},2.3912084013461818,-38.640616778944306,4.7287508437854342E-5,14.537940675324602,-4.4106789804487789E-5,-3.3242049121362527E-5,-24.102706164950192]
[null,null,null,null,null,null,null,null,null,null,null,null,null,null,null,null,null,13774.082919660779,{"$f":"2*PI()*R481/B56","v":1.8030232379309563},2.460290449991382,-39.270896976824652,4.3986422403108349E-5,14.810399472423331,-4.1027670214077716E-5,-3.0920374268994522E-5,-24.460525466023398]
[null,null,null,null,null,null,null,null,null,null,null,null,null,null,null,null,null,14049.564578053994,{"$f":"2*PI()*R482/B56","v":1.8390837026895754},2.5301609381083701,-39.919124675468325,4.0830989899376391E-5,15.039226249596794,-3.8084420991069123E-5,-2.8701290904820098E-5,-24.879924380593526]
[null,null,null,null,null,null,null,null,null,null,null,null,null,null,null,null,null,14330.555869615075,{"$f":"2*PI()*R483/B56","v":1.8758653767433671},2.600718075152499,-40.586862809481872,3.7816573895455008E-5,15.22463854258849,-3.527271549330635E-5,-2.65815176732076E-5,-25.362248304552654]
[null,null,null,null,null,null,null,null,null,null,null,null,null,null,null,null,null,14617.166987007377,{"$f":"2*PI()*R484/B56","v":1.9133826842782342},2.6718485492374846,-41.275864797286289,3.4938790626881655E-5,15.368064941926519,-3.2588463442451143E-5,-2.4557953056003612E-5,-25.907822062985638]
[null,null,null,null,null,null,null,null,null,null,null,null,null,null,null,null,null,14909.510326747524,{"$f":"2*PI()*R485/B56","v":1.9516503379637991},2.7434268480497579,-41.988106093427419,3.2193506477540268E-5,15.472011397033747,-3.0027807996546585E-5,-2.2627673031294648E-5,-26.516115158368223]
[null,null,null,null,null,null,null,null,null,null,null,null,null,null,null,null,null,15207.700533282476,{"$f":"2*PI()*R486/B56","v":1.9906833447230754},2.8153145755540709,-42.725822496644312,2.9576835714806293E-5,15.539842976211277,-2.7587123620165244E-5,-2.0787929333465627E-5,-27.185998318650274]
[null,null,null,null,null,null,null,null,null,null,null,null,null,null,null,null,null,15511.854543948126,{"$f":"2*PI()*R487/B56","v":2.0304970116175367},2.8873597699414852,-43.491557019426089,2.7085139166160843E-5,15.575518542209618,-2.526301485517024E-5,-1.9036148410478404E-5,-27.916055691240572]
[null,null,null,null,null,null,null,null,null,null,null,null,null,null,null,null,null,15822.091634827089,{"$f":"2*PI()*R488/B56","v":2.0711069518498877},2.9593962292039566,-44.288217713110264,2.4715023895893751E-5,15.583318174899304,-2.3052316018734587E-5,-1.7369931077482192E-5,-28.704915245434158]
[null,null,null,null,null,null,null,null,null,null,null,null,null,null,null,null,null,16138.533467523632,{"$f":"2*PI()*R489/B56","v":2.1125290908868855},3.03124285174948,-45.119149660502657,2.2463344039991284E-5,15.567596427359979,-2.0952091936976558E-5,-1.5787052976889981E-5,-29.551567508943553]
[null,null,null,null,null,null,null,null,null,null,null,null,null,null,null,null,null,16461.304136874103,{"$f":"2*PI()*R490/B56","v":2.1547796727046231},3.1027030006027743,-45.988225501497865,2.0327202786774023E-5,15.532582625624881,-1.8959639826121588E-5,-1.4285465892882598E-5,-30.455655793775911]
[null,null,null,null,null,null,null,null,null,null,null,null,null,null,null,null,null,16790.530219611584,{"$f":"2*PI()*R491/B56","v":2.1978752661587153},3.173563900972542,-46.899960509494498,1.830395577684385E-5,15.48223684386601,-1.7072492441982945E-5,-1.2863300032250891E-5,-31.417735297465182]
[null,null,null,null,null,null,null,null,null,null,null,null,null,null,null,null,null,17126.340824003815,{"$f":"2*PI()*R492/B56","v":2.2418327714818895},3.2435960823105194,-47.85966064408148,1.6391215982736185E-5,15.420160060233556,-1.5288422606118957E-5,-1.1518867378157438E-5,-32.439510999921922]
[null,null,null,null,null,null,null,null,null,null,null,null,null,null,null,null,null,17468.867640483892,{"$f":"2*PI()*R493/B56","v":2.2866694269115273},3.3125528774410706,-48.873615580580818,1.4586860284993008E-5,15.349550636882356,-1.3605449378673029E-5,-1.0250666228728278E-5,-33.524074212953785]
[null,null,null,null,null,null,null,null,null,null,null,null,null,null,null,null,null,17818.244993293571,{"$f":"2*PI()*R494/B56","v":2.332402815449758},3.380169992903074,-49.949354137595293,1.2889038000452047E-5,15.273196497187641,-1.2021845961385225E-5,-9.0573871194266076E-6,-34.676165830602727]
[null,null,null,null,null,null,null,null,null,null,null,null,null,null,null,null,null,18174.609893159442,{"$f":"2*PI()*R495/B56","v":2.3790508717587535},3.4461651663156898,-51.095987935611987,1.1296181561704088E-5,15.193492243718829,-1.0536149678941342E-5,-7.9379202571061569E-6,-35.902502869781536]
[null,null,null,null,null,null,null,null,null,null,null,null,null,null,null,null,null,18538.102091022633,{"$f":"2*PI()*R496/B56","v":2.4266318891939282},3.5102379283515286,-52.324682518352816,9.8070197154243033E-6,15.112471866063897,-9.1471742873494577E-6,-6.8913647446322557E-6,-37.212216883808239]
[null,null,null,null,null,null,null,null,null,null,null,null,null,null,null,null,null,18908.864132843086,{"$f":"2*PI()*R497/B56","v":2.4751645269778075},3.5720694887663211,-53.649317147425933,8.4205936285997041E-6,15.031849720763651,-7.8540249734970757E-6,-5.9170398341024111E-6,-38.617472777133457]
[null,null,null,null,null,null,null,null,null,null,null,null,null,null,null,null,null,19287.041415499949,{"$f":"2*PI()*R498/B56","v":2.5246678175173636},3.6313227678814828,-55.087431762919145,7.1362763023330444E-6,14.95306453160104,-6.656116472214535E-6,-5.0144985177524859E-6,-40.134371765656788]
[null,null,null,null,null,null,null,null,null,null,null,null,null,null,null,null,null,19672.782243809947,{"$f":"2*PI()*R499/B56","v":2.5751611738677105},3.6876425969281259,-56.661625326733088,5.9537958740918384E-6,14.877322945435299,-5.5531948159881495E-6,-4.1835438846504758E-6,-41.784306164240618]

{"sheet":"Equalizer 96 kHz","index":2,"n_rows":499,"n_cols":38,"rows_kept":499,"cut":false,"hidden":false,"merged":[]}
[]
[]
[]
[]
[]
[]
[]
[]
[]
[]
[]
[]
[]
[]
[]
[null,"LPF","HPF","Hi Shelf","Lo Shelf","PeakingEQ"]
[null,null,null,null,null,null,null,"Select Slider, then"]
[null,null,null,null,null,null,null,"Page up/Down : Big Jump"]
[null,null,null,null,null,null,null,"Up/Down arrows : Fine tune"]
[]
[]
[null,null,null,null,null,null,null,"References : "]
[null,null,null,null,null,null,null,"Cookbook",null,"http://www.musicdsp.org/files/Audio-EQ-Cookbook.txt"]
[null,null,null,null,null,null,null,"Freq Response",null,"http://groups.google.com/group/comp.dsp/browse_frm/thread/8c0fa8d396aeb444/a1bc5b63ac56b686"]
[]
[null,null,null,null,null,null,null,"Usenet thread",null,"http://www.dsprelated.com/showmessage/50960/1.php"]
[]
[]
[]
[]
[]
[]
[]
["F0",{"$f":"10^(B48/333333)*20","v":2000},{"$f":"10^(C48/333333)*20","v":99.997396874553189},{"$f":"10^(D48/333333)*20","v":10000.015994567402},{"$f":"10^(E48/333333)*20","v":49.997742279755144},{"$f":"10^(F48/333333)*20","v":274.99837906963131}]
["Q",{"$f":"B49/1000000*10+0.002","v":0.81526999999999994},{"$f":"C49/1000000*10+0.002","v":0.78515000000000001},{"$f":"D49/1000000*10+0.002","v":1.05623},{"$f":"E49/1000000*10+0.002","v":0.81526999999999994},{"$f":"F49/1000000*30+0.002","v":30.001999999999999}]
["dBgain",{"$f":"(B50-500000)/500000*30","v":-29.999940000000002},{"$f":"(C50-500000)/500000*30","v":-29.999940000000002},{"$f":"(D50-500000)/500000*30","v":14.4579},{"$f":"(E50-500000)/500000*30","v":19.9956},{"$f":"(F50-500000)/500000*30","v":-29.999940000000002}]
["IdBoffset",{"$f":"((B51-500000)/500000*20)","v":0},{"$f":"((C51-500000)/500000*20)","v":0},{"$f":"((D51-500000)/500000*20)","v":0},{"$f":"((E51-500000)/500000*20)","v":0},{"$f":"((F51-500000)/500000*20)","v":0}]
[]
[]
[]
[]
[]
[]
[]
[]
[]
[]
["S1",666666,232986,899656,132640,379433,null,null,"Master dB",500000]
["S2",81327,78315,105423,81327,1000000,null,null,"Normal dB",{"$f":"(J48-500000)/500000*20","v":0}]
["S3",1,1,740965,833260,1,null,null,null,{"$f":"10^(J49/20)","v":1}]
["S4",500000,500000,500000,500000,500000,null,null,null,{"$f":"J50","v":1}]
[]
[]
[]
[]
[null,96000,"Hz"]
[]
[]
[null,"LPF","HPF","Hi Shelf","Lo Shelf","Peaking EQ"]
["A",{"$f":"SQRT( 10^((B36)/20) )","v":0.17782855520090204},{"$f":"SQRT( 10^((C36)/20) )","v":0.17782855520090204},{"$f":"10^((D36)/40)","v":2.2985158347332257},{"$f":"10^((E36)/40)","v":3.1614768061205401},{"$f":"10^((F36)/40)","v":0.17782855520090204}]
["wo",{"$f":"2*PI()*B34/B56","v":0.1308996938995747},{"$f":"2*PI()*C34/B56","v":6.5448143208166505E-3},{"$f":"2*PI()*D34/B56","v":0.65449951633986203},{"$f":"2*PI()*E34/B56","v":3.2723445800448866E-3},{"$f":"2*PI()*F34/B56","v":1.7998601821546976E-2}]
["cos(wo)",{"$f":"COS(B61)","v":0.99144486137381038},{"$f":"COS(C61)","v":0.99997858277920304},{"$f":"COS(D61)","v":0.79335270301377558},{"$f":"COS(E61)","v":0.99999464588525244},{"$f":"COS(F61)","v":0.99983802953882861}]
["sin(wo)",{"$f":"SIN(B61)","v":0.13052619222005157},{"$f":"SIN(C61)","v":6.5447675968388092E-3},{"$f":"SIN(D61)","v":0.60876225952397534},{"$f":"SIN(E61)","v":3.2723387398733437E-3},{"$f":"SIN(F61)","v":1.7997630063774455E-2}]
["Alpha",{"$f":" B63/(2*B35)","v":8.005089861030798E-2},{"$f":" C63/(2*C35)","v":4.1678453778506075E-3},{"$f":" D63/(2*D35)","v":0.2881769404031202},{"$f":" E63/(2*E35)","v":2.0069049148584788E-3},{"$f":" F63/(2*F35)","v":2.9994050502923897E-4}]
["Lingain",{"$f":"10^(B37/20)","v":1},{"$f":"10^(C37/20)","v":1},{"$f":"10^(D37/20)","v":1},{"$f":"10^(E37/20)","v":1},{"$f":"10^(F37/20)","v":1}]
[null,null,null,null,null,null,null,null,null,null,"Coefficients"]
[null,null,null,null,null,null,null,null,null,null,"B0","B1","B2","-A1","-A2"]
["B0",{"$f":"B65*J51*(1 - B62)/2","v":4.2775693130948089E-3},{"$f":"C65*J51*(1 + C62)/2","v":0.99998929138960158},{"$f":"D65*J51*(D60*( (D60+1) + (D60-1)*D62 + 2*SQRT(D60)*D64 ))","v":11.958025771079278},{"$f":"E65*J51*(E60*( (E60+1) - (E60-1)*E62 + 2*SQRT(E60)*E64 ))","v":6.3455529369391774},{"$f":"F65*$J$51*(1+(F64*F60))","v":1.0000533379866556},null,null,null,"BQ0",{"$f":"(B68/B71)","v":3.9605256739277013E-3},{"$f":"(B69/B71)","v":7.9210513478554026E-3},{"$f":"(B70/B71)","v":3.9605256739277013E-3},{"$f":"(-B72/B71)","v":1.8359224785600268},{"$f":"(-B73/B71)","v":-0.85176458125573762}]
["B1",{"$f":"B65*J51*(1 - B62)","v":8.5551386261896178E-3},{"$f":"C65*J51*-(1 + C62)","v":-1.9999785827792032},{"$f":"D65*J51*(-2*D60*( (D60-1) + (D60+1)*D62 ))","v":-17.999228317338776},{"$f":"E65*J51*(2*E60*( (E60-1) - (E60+1)*E62 ))","v":-12.645766342598826},{"$f":"F65*$J$51*(-2*F62)","v":-1.9996760590776572},null,null,null,"BQ1",{"$f":"(C68/C71)","v":0.99583878929455583},{"$f":"(C69/C71)","v":-1.9916775785891117},{"$f":"(C70/C71)","v":0.99583878929455583},{"$f":"(-C72/C71)","v":1.9916562502614863},{"$f":"(-C73/C71)","v":-0.9916989069167369}]
["B2",{"$f":"B65*J51*((1 - B62)/2)","v":4.2775693130948089E-3},{"$f":"C65*J51*(1 +C62)/2","v":0.99998929138960158},{"$f":"D65*J51*(D60*( (D60+1) + (D60-1)*D62 - 2*SQRT(D60)*D64 ))","v":7.941130883570124},{"$f":"E65*J51*(E60*( (E60+1) - (E60-1)*E62 - 2*SQRT(E60)*E64 ))","v":6.3004274617879439},{"$f":"F65*$J$51*(1-(F60*F64))","v":0.99994666201334437},null,null,null,"BQ2",{"$f":"(D68/D71)","v":3.8056988158063074},{"$f":"(D69/D71)","v":-5.7283403802650499},{"$f":"(D70/D71)","v":2.5273028322833304},{"$f":"(-D72/D71)","v":0.83915549244961207},{"$f":"(-D73/D71)","v":-0.44381676027420031}]
["A0",{"$f":"1+B64","v":1.0800508986103079},{"$f":"1+C64","v":1.0041678453778506},{"$f":"(D60+1) - (D60-1)*D62 + 2*SQRT(D60)*D64","v":3.1421366613179424},{"$f":"(E60+1) + (E60-1)*E62 + 2*SQRT(E60)*E64","v":6.3300788109486987},{"$f":"1 + (F64/F60)","v":1.0016866835851552},null,null,null,"BQ3",{"$f":"(E68/E71)","v":1.0024445392312833},{"$f":"(E69/E71)","v":-1.997726524467013},{"$f":"(E70/E71)","v":0.99531580094872296},{"$f":"(-E72/E71)","v":1.997741740681144},{"$f":"(-E73/E71)","v":-0.99774512396587578}]
["A1",{"$f":"-2*B62","v":-1.9828897227476208},{"$f":"-2*C62","v":-1.9999571655584061},{"$f":"2*((D60-1)-(D60+1)*D62)","v":-2.6367412373722381},{"$f":"-2*((E60-1)+(E60+1)*E62)","v":-12.64586266243348},{"$f":"-2*F62","v":-1.9996760590776572},null,null,null,"BQ4",{"$f":"(F68/F71)","v":0.99836940469982727},{"$f":"(F69/F71)","v":-1.99630891759545},{"$f":"(F70/F71)","v":0.99826290835215747},{"$f":"(-F72/F71)","v":1.99630891759545},{"$f":"(-F73/F71)","v":-0.99663231305198474}]
["A2",{"$f":"1-B64","v":0.91994910138969199},{"$f":"1-C64","v":0.99583215462214936},{"$f":"(D60+1) - (D60-1)*D62 - 2*SQRT(D60)*D64","v":1.3945329133649214},{"$f":"(E60+1) +(E60-1)*E62 - 2*SQRT(E60)*E64","v":6.3158052679437731},{"$f":"1-(F64/F60)","v":0.99831331641484478}]
[]
[]
[]
[]
[]
[]
[]
[]
[]
[]
[]
[]
[]
[]
[]
[]
[]
[]
[]
[]
[]
[]
[]
[]
[]
[]
[]
[]
[]
[]
[]
[]
[]
[]
[]
[null,"Fo",563154,{"$f":"10^(C109/333333)*20","v":978.34872897125581},{"$f":"LOG(C109)","v":5.7506271731900638}]
[null,"Q",912551,{"$f":"C110/1000000*7","v":6.3878570000000003}]
[null,"dBgain",361479,{"$f":"(C111-500000)/500000*20","v":-5.5408400000000002}]
[null,"Master dbgain",554218,{"$f":"(C112-500000)/500000*20","v":2.16872}]
[null,null,538360,null,null,null,null,null,null,null,null,null,null,null,null,null,null,null,null,null,"PRE-EQ",null,null,null,null,null,null,null,null,null,"POST-EQ"]
[null,null,null,null,null,null,null,null,null,null,null,null,null,null,null,null,null,null,null,null,"LPF","HPF","Hi Shelf","Low Shelf","Peak EQ","Total"]
[null,null,null,null,null,null,null,null,null,null,null,null,null,null,null,null,null,"FREQ","w","Phi","CH1 Pre-EQ1","CH1 Pre-EQ2","CH1 Pre-EQ3","CH1 Pre-EQ4","CH1 Pre-EQ5","CH1 Pre-EQ",null,null,null,null,"CH1 Post-EQ1","CH1 Post-EQ2","CH1 Post-EQ3","CH1 Post-EQ4","CH1 Post-EQ5","CH1 Post-EQ",null,"CH1 Pre + Post"]
[null,null,"pre1","B0",1,null,{"$f":"B68/B71","v":3.9605256739277013E-3},null,null,null,null,null,null,null,null,null,null,10,{"$f":"2*PI()*R116/B56","v":6.5449846949787352E-4},{"$f":"4*(SIN(S116/2))^2","v":4.2836823128344619E-7},{"$f":"10*LOG10(($G$116+$G$117+$G$118)^2 + ( $G$116*$G$118*T116 - ($G$117*($G$116+$G$118) + 4*$G$116*$G$118) )*T116 )  - 10*LOG10( (1+$G$119+$G$120)^2 + ( 1*$G$120*T116 - ($G$119*(1+$G$120) + 4*1*$G$120) )*T116)","v":5.3640462624571228E-5},{"$f":"10*LOG10(($G$121+$G$122+$G$123)^2 + ( $G$121*$G$123*$T116 - ($G$122*($G$121+$G$123) + 4*$G$121*$G$123) )*$T116 )  - 10*LOG10( (1+$G$124+$G$125)^2 + ( 1*$G$125*$T116 - ($G$124*(1+$G$125) + 4*1*$G$125) )*$T116)","v":-39.983604100283046},{"$f":"10*LOG10(($G$126+$G$127+$G$128)^2 + ( $G$126*$G$128*$T116 - ($G$127*($G$126+$G$128) + 4*$G$126*$G$128) )*$T116 )  - 10*LOG10( (1+$G$129+$G$130)^2 + ( 1*$G$130*$T116 - ($G$129*(1+$G$130) + 4*1*$G$130) )*$T116)","v":-8.3008494060621274E-6},{"$f":"10*LOG10(($G$131+$G$132+$G$133)^2 + ( $G$131*$G$133*$T116 - ($G$132*($G$131+$G$133) + 4*$G$131*$G$133) )*$T116 )  - 10*LOG10( (1+$G$134+$G$135)^2 + ( 1*$G$135*$T116 - ($G$134*(1+$G$135) + 4*1*$G$135) )*$T116)","v":20.176549129111521},{"$f":"10*LOG10(($G$136+$G$137+$G$138)^2 + ( $G$136*$G$138*$T116 - ($G$137*($G$136+$G$138) + 4*$G$136*$G$138) )*$T116 )  - 10*LOG10( (1+$G$139+$G$140)^2 + ( 1*$G$140*$T116 - ($G$139*(1+$G$140) + 4*1*$G$140) )*$T116)","v":-2.0206999451488628E-4},{"$f":"U116+V116+W116+X116+Y116","v":-19.807211701552824},null,null,null,null,{"$f":"10*LOG10(($G$141+$G$142+$G$143)^2 + ( $G$141*$G$143*$T116 - ($G$142*($G$141+$G$143) + 4*$G$141*$G$143) )*$T116 )  - 10*LOG10( (1+$G$144+$G$145)^2 + ( 1*$G$145*$T116 - ($G$144*(1+$G$145) + 4*1*$G$145) )*$T116)","v":-1.5161271868180393E-5},{"$f":"10*LOG10(($G$146+$G$147+$G$148)^2 + ( $G$146*$G$148*$T116 - ($G$147*($G$146+$G$148) + 4*$G$146*$G$148) )*$T116 )  - 10*LOG10( (1+$G$149+$G$150)^2 + ( 1*$G$150*$T116 - ($G$149*(1+$G$150) + 4*1*$G$150) )*$T116)","v":2.3150924078834123E-3},{"$f":"10*LOG10(($G$151+$G$152+$G$153)^2 + ( $G$151*$G$153*$T116 - ($G$152*($G$151+$G$153) + 4*$G$151*$G$153) )*$T116 )  - 10*LOG10( (1+$G$154+$G$155)^2 + ( 1*$G$155*$T116 - ($G$154*(1+$G$155) + 4*1*$G$155) )*$T116)","v":-4.1246040700745823},{"$f":"10*LOG10(($G$156+$G$157+$G$158)^2 + ( $G$156*$G$158*$T116 - ($G$157*($G$156+$G$158) + 4*$G$156*$G$158) )*$T116 )  - 10*LOG10( (1+$G$159+$G$160)^2 + ( 1*$G$160*$T116 - ($G$159*(1+$G$160) + 4*1*$G$160) )*$T116)","v":5.1198575577213745E-2},{"$f":"10*LOG10(($G$161+$G$162+$G$163)^2 + ( $G$161*$G$163*$T116 - ($G$162*($G$161+$G$163) + 4*$G$161*$G$163) )*$T116 )  - 10*LOG10( (1+$G$164+$G$165)^2 + ( 1*$G$165*$T116 - ($G$164*(1+$G$165) + 4*1*$G$165) )*$T116)","v":5.2138567816939485E-5},{"$f":"AE116+AF116+AG116+AH116+AI116","v":-4.0710534247935364},null,{"$f":"AJ116+Z116","v":-23.87826512634636}]
[null,null,"LPF","B1",2,null,{"$f":"B69/B71","v":7.9210513478554026E-3},null,null,null,null,null,null,null,null,null,null,10.199999999999999,{"$f":"2*PI()*R117/B56","v":6.6758843888783091E-4},{"$f":"4*(SIN(S117/2))^2","v":4.4567430718455784E-7},{"$f":"10*LOG10(($G$116+$G$117+$G$118)^2 + ( $G$116*$G$118*T117 - ($G$117*($G$116+$G$118) + 4*$G$116*$G$118) )*T117 )  - 10*LOG10( (1+$G$119+$G$120)^2 + ( 1*$G$120*T117 - ($G$119*(1+$G$120) + 4*1*$G$120) )*T117)","v":5.5807437959742856E-5},-39.638967684538088,-8.6362034323883563E-6,20.181029926129781,-2.1025591694012746E-4,-19.458100843090719,null,null,null,null,-1.5773918420336486E-5,2.4086162827714475E-3,-4.1223839131775151,5.1199111040684642E-2,5.4245484193415905E-5,-4.0687377142882859,null,-23.526838557379005]
[null,null,null,"B2",3,null,{"$f":"B70/B71","v":3.9605256739277013E-3},null,null,null,null,null,null,null,null,null,null,10.404,{"$f":"2*PI()*R118/B56","v":6.8094020766558763E-4},4.6367954849909223E-7,5.8061950909404914E-5,-39.294307249173954,-8.9851057385459399E-6,20.185448275495446,-2.1877439229456286E-4,-19.10902867122563,null,null,null,null,-1.6411326697607365E-5,2.5059180394251257E-3,-4.1200758000327227,5.1199668137059007E-2,5.6437562733435698E-5,-4.0663301876202027,null,-23.175358858845833]
[null,null,null,"-A1",4,null,{"$f":"B72/B71","v":-1.8359224785600268},null,null,null,null,null,null,null,null,null,null,10.612080000000001,{"$f":"2*PI()*R119/B56","v":6.9455901181889946E-4},4.8241220150538394E-7,6.0407537318951654E-5,-38.949621941065146,-9.3481036715914456E-6,20.189780563732484,-2.2763900807376558E-4,-18.760017956907092,null,null,null,null,-1.7074497968394553E-5,2.6071502645024225E-3,-4.1176763179708331,5.1200247740318616E-2,5.8718247515798794E-5,-4.0638272762164647,null,-22.823845233123556]
[null,null,null,"-A2",5,null,{"$f":"B73/B71","v":0.85176458125573762},null,null,null,null,null,null,null,null,null,null,10.824321600000001,{"$f":"2*PI()*R120/B56","v":7.0845019205527751E-4},5.0190165363105244E-7,6.2847875817340082E-5,-38.60491088237417,-9.7257666924477348E-6,20.194000406547346,-2.3686391324417855E-4,-18.411094217630946,null,null,null,null,-1.7764474044668077E-5,2.7124717058484293E-3,-4.1151819277428459,5.1200850759769878E-2,6.1091122049106161E-5,-4.0612252786292231,null,-22.47231949626017]
[null,null,"pre2","B0",6,null,{"$f":"C68/C71","v":0.99583878929455583},null,null,null,null,null,null,null,null,null,null,11.040808032000001,{"$f":"2*PI()*R121/B56","v":7.2261919589638297E-4},5.2217847955540313E-7,6.5386793608013249E-5,-38.260173170368034,-1.0118687270299631E-5,20.198078386698995,-2.4646384208892869E-4,-18.062285979404791,null,null,null,null,-1.8482338845160484E-5,2.8220475212208385E-3,-4.1125889592987974,5.1201478141429391E-2,6.3559914927679984E-5,-4.0585203560600647,null,-22.120806335464856]
[null,null,"HPF","B1",7,null,{"$f":"C69/C71","v":-1.9916775785891117},null,null,null,null,null,null,null,null,null,null,11.261624192640001,{"$f":"2*PI()*R122/B56","v":7.3707157981431077E-4},5.4327448917436464E-7,6.8028272430353809E-5,-37.915407877295877,-1.0527481805411298E-5,20.201981770598294,-2.5645413894892499E-4,-17.713625060045906,null,null,null,null,-1.9229220242777956E-5,2.9360495368706552E-3,-4.1098936074648549,5.120213086955161E-2,6.6128505693541229E-5,-4.0557085277729819,null,-21.769333587818888]
[null,null,null,"B2",8,null,{"$f":"C70/C71","v":0.99583878929455583},null,null,null,null,null,null,null,null,null,null,11.486856676492801,{"$f":"2*PI()*R123/B56","v":7.5181301141059691E-4},5.6522277750320262E-7,7.077645483377637E-5,-37.570614050335863,-1.0952791606122503E-5,20.205674202427645,-2.6685078412924668E-4,-17.365146875029119,null,null,null,null,-2.0006291720164882E-5,3.054656516709997E-3,-4.107091927519761,5.1202809968167173E-2,6.8800931060764015E-5,-4.0527856663955433,null,-21.417932541424662]
[null,null,null,"-A1",9,null,{"$f":"C72/C71","v":-1.9916562502614863},null,null,null,null,null,null,null,null,null,null,11.716593810022657,{"$f":"2*PI()*R124/B56","v":7.6684927163880878E-4},5.88057776595307E-7,7.3635650622350113E-5,-37.225790711620604,-1.1395283882720264E-5,20.209115374615521,-2.7767042087134541E-4,-17.016890767059216,null,null,null,null,-2.0814774266852965E-5,3.1780544421948775E-3,-4.1041798306719528,5.1203516502656754E-2,7.1581391161146257E-5,-4.0497474931102069,null,-21.066638260169423]
[null,null,null,"-A2",10,null,{"$f":"C73/C71","v":0.9916989069167369},null,null,null,null,null,null,null,null,null,null,11.95092568622311,{"$f":"2*PI()*R125/B56","v":7.8218625707158508E-4},6.118153095584888E-7,7.6610343668903624E-5,-36.880936858350964,-1.185565280703571E-5,20.212260673575798,-2.8893038363264623E-4,-16.668900360467937,null,null,null,null,-2.1655938347464598E-5,3.3064368035624625E-3,-4.1011530794395696,5.1204251581452809E-2,7.4474256280154805E-5,-4.0465895727366217,null,-20.715489933204559]
[null,null,"pre3","B0",11,null,{"$f":"D68/D71","v":3.8056988158063074},null,null,null,null,null,null,null,null,null,null,12.189944199947572,{"$f":"2*PI()*R126/B56","v":7.9782998221301666E-4},6.3653264675353545E-7,7.9705198871238281E-5,-36.536051463009414,-1.233462059069268E-5,20.215060799737998,-3.0064872754564931E-4,-16.321223941420683,null,null,null,null,-2.2531105834389109E-5,3.4400049028207036E-3,-4.0980072829350007,5.1205016357773303E-2,7.748407370655741E-5,-4.0433073087065345,null,-20.364531250127218]
[null,null,"Hi Shelf","B1",12,null,{"$f":"D69/D71","v":-5.7283403802650499},null,null,null,null,null,null,null,null,null,null,12.433743083946524,{"$f":"2*PI()*R127/B56","v":8.1378658185727703E-4},6.6224856426318401E-7,8.2925069520456418E-5,-36.191133473684772,-1.2832938623752455E-5,20.217461361059236,-3.1284425922706305E-4,-15.973914864753866,null,null,null,null,-2.3441652153621817E-5,3.5789681688100927E-3,-4.0947378920575659,5.120581203142649E-2,8.061557497285321E-5,-4.0398959379345101,null,-20.013810802688376]
[null,null,null,"B2",13,null,{"$f":"D70/D71","v":2.5273028322833304},null,null,null,null,null,null,null,null,null,null,12.682417945625454,{"$f":"2*PI()*R128/B56","v":8.300623134944226E-4},6.8900340472323511E-7,8.6275004868241467E-5,-35.846181814521998,-1.3351388654214702E-5,20.219402439432301,-3.2553656902223338E-4,-15.627031988042503,null,null,null,null,-2.4389008416392244E-5,3.7235444852186106E-3,-4.0913401945970236,5.1206639850686742E-2,8.3873683280444311E-5,-4.0363505255862542,null,-19.663382513628758]
[null,null,null,"-A1",14,null,{"$f":"D72/D71","v":-0.83915549244961207},null,null,null,null,null,null,null,null,null,null,12.936066304537963,{"$f":"2*PI()*R129/B56","v":8.4666355976431096E-4},7.1683914061124138E-7,8.9760258020987749E-5,-35.501195386311124,-1.3890784006598267E-5,20.220818129699495,-3.3874606455697176E-4,-15.280640133202169,null,null,null,null,-2.5374663721322577E-5,3.8739605314503933E-3,-4.0878093102525099,5.1207501114291176E-2,8.7263521351133022E-5,-4.0326659597491386,null,-19.313306092951308]
[null,null,null,"-A2",15,null,{"$f":"D73/D71","v":0.44381676027420031},null,null,null,null,null,null,null,null,null,null,13.194787630628722,{"$f":"2*PI()*R130/B56","v":8.6359683095959725E-4},7.4579944009205406E-7,9.338629420341249E-5,-35.156173067231578,-1.4451970870688058E-5,20.221636051358402,-3.5249400603731829E-4,-14.934810575555879,null,null,null,null,-2.6400167485007842E-5,4.0304521376413049E-3,-4.0841401855710018,5.1208397173404308E-2,9.0790419484676477E-5,-4.0288369460079565,null,-18.963647521563836]
[null,null,"pre4","B0",16,null,{"$f":"E68/E71","v":1.0024445392312833},null,null,null,null,null,null,null,null,null,null,13.458683383241297,{"$f":"2*PI()*R131/B56","v":8.808687675787893E-4},7.7592973552352378E-7,9.7158799327701217E-5,-34.811113713769487,-1.5035829617815466E-5,20.221776833522227,-3.6680254297039028E-4,-14.589621559820522,null,null,null,null,-2.7467131907599196E-5,4.193264653558515E-3,-4.0803275888111941,5.1209329433810069E-2,9.4459924035561471E-5,-4.0248580019316975,null,-18.614479561752219]
[null,null,"Lo Shelf","B1",17,null,{"$f":"E69/E71","v":-1.997726524467013},null,null,null,null,null,null,null,null,null,null,13.727857050906124,{"$f":"2*PI()*R132/B56","v":8.9848614293036502E-4},8.0727729472982592E-7,1.0108368882555396E-4,-34.466016161826786,-1.5643276185528521E-5,20.221153574285438,-3.8169475259053343E-4,-14.245158841881299,null,null,null,null,-2.8577234452598077E-5,4.362653332648847E-3,-4.0763661047385469,5.1210299358089628E-2,9.8277806181101823E-5,-4.0207234514760799,null,-18.265882293357379]
[null,null,null,"B2",18,null,{"$f":"E70/E71","v":0.99531580094872296},null,null,null,null,null,null,null,null,null,null,14.002414191924247,{"$f":"2*PI()*R133/B56","v":9.1645586578897236E-4},8.3989129515422604E-7,1.0516711697761139E-4,-34.12087922804325,-1.627526351644093E-5,20.21967127636475,-3.9719468017551662E-4,-13.901516254505218,null,null,null,null,-2.9732220639289153E-5,4.5388837314703778E-3,-4.0722501293586788,5.1211308467898675E-2,1.0225007105191253E-4,-4.0164274193088971,null,-17.917943673814115]
[null,null,null,"-A1",19,null,{"$f":"E72/E71","v":-1.997741740681144},null,null,null,null,null,null,null,null,null,null,14.282462475762733,{"$f":"2*PI()*R134/B56","v":9.3478498310475193E-4},8.7382290100760536E-7,1.0941548654841426E-4,-33.775701711354856,-1.6932783052148181E-5,20.217226261749914,-4.1332738102539679E-4,-13.558796294282473,null,null,null,null,-3.0933906693064728E-5,4.7222321250970367E-3,-4.0679738645968513,5.1212358346383269E-2,1.0638296728870955E-4,-4.0119638250647753,null,-17.570760119347248]
[null,null,null,"-A2",20,null,{"$f":"E73/E71","v":0.99774512396587578},null,null,null,null,null,null,null,null,null,null,14.568111725277987,{"$f":"2*PI()*R135/B56","v":9.534806827668469E-4},9.0912534353378336E-7,1.1383545876242351E-4,-33.430482394812884,-1.7616866283987065E-5,20.213705569130127,-4.3011896462985533E-4,-13.217110726054912,null,null,null,null,-3.2184182444439102E-5,4.9129859394341224E-3,-4.0635313129324686,5.121345064065963E-2,1.1068299693306471E-4,-4.0073263775378862,null,-17.224437103592798]
[null,null,"pre5","B0",21,null,{"$f":"F68/F71","v":0.99836940469982727},null,null,null,null,null,null,null,null,null,null,14.859473959783546,{"$f":"2*PI()*R136/B56","v":9.7255029642218387E-4},9.4585400451755188E-7,1.1843396376320925E-4,-33.085220047692019,-1.8328586379290357E-5,20.208986339071743,-4.4759664059768056E-4,-12.876581199883489,null,null,null,null,-3.3485014355960629E-5,5.1114442007360594E-3,-4.0589162719983491,5.1214587064372097E-2,1.1515692573027536E-4,-4.0025085688218667,null,-16.879089768705356]
[null,null,"PeakEQ","B1",22,null,{"$f":"F69/F71","v":-1.99630891759545},null,null,null,null,null,null,null,null,null,null,15.156663438979217,{"$f":"2*PI()*R137/B56","v":9.9200130235062756E-4},9.8406650316642352E-7,1.2321821147764922E-4,-32.739913427916875,-1.9069059858267678E-5,20.202935193330035,-4.6578876703051719E-4,-12.537339874202253,null,null,null,null,-3.483844859886176E-5,5.3179180033637863E-3,-4.0541223291556108,5.1215769400421607E-2,1.1981179386566509E-4,-3.9975036684065586,null,-16.534843542608812]
["Master A",{"$f":"SQRT( 10^((D112)/20) )","v":1.1329689296300816},null,"B2",23,null,{"$f":"F70/F71","v":0.99826290835215747},null,null,null,null,null,null,null,null,null,null,15.459796707758802,{"$f":"2*PI()*R138/B56","v":1.0118413283976401E-3},1.0238227865023976E-6,1.2819570287092574E-4,-32.394561284840634,-1.9839448350822408E-5,20.195407616290041,-4.8472490097140053E-4,-12.199530037197043,null,null,null,null,-3.6246614342871908E-5,5.532730996279156E-3,-4.0491428560565552,5.1216999503722604E-2,1.2465492720536986E-4,-3.992304717243691,null,-16.191834754440734]
["A",{"$f":"SQRT( 10^((D111)/20) )","v":0.72690724928258155},null,"-A1",24,null,{"$f":"F72/F71","v":-1.99630891759545},null,null,null,null,null,null,null,null,null,null,15.768992641913979,{"$f":"2*PI()*R139/B56","v":1.032078154965593E-3},1.0651852234055391E-6,1.3337424169179712E-4,-32.049162362411082,-2.0640960411988374E-5,20.186247348355991,-5.0443585134019031E-4,-11.863306716625154,null,null,null,null,-3.7711727074452028E-5,5.7562198891503158E-3,-4.0439710032085259,5.121827930414824E-2,1.2969394883555196E-4,-3.9869045217934662,null,-15.85021123841862]
["wo",{"$f":"2*PI()*D109/B56","v":6.4032774574687687E-2},null,"-A2",25,null,{"$f":"F73/F71","v":0.99663231305198474},null,null,null,null,null,null,null,null,null,null,16.084372494752259,{"$f":"2*PI()*R140/B56","v":1.0527197180649048E-3},1.1082187024569132E-6,1.3876194668682729E-4,-31.703715402763706,-2.1474853426184382E-5,20.175285803144391,-5.2495373428484982E-4,-11.528837266260339,null,null,null,null,-3.9236092170824577E-5,5.9887349787430821E-3,-4.0385996945536036,5.1219610809550176E-2,1.3493679127662972E-4,-3.9812956480662045,null,-15.510132914326544]
["cos(wo)",{"$f":"COS(B140)","v":0.99795060227811327},"post1","B0",26,null,{"$f":"B186/B189","v":0.99677270754687997},null,null,null,null,null,null,null,null,null,null,16.406059944647303,{"$f":"2*PI()*R141/B56","v":1.0737741124262029E-3},1.1529907337343602E-6,1.443672643333116E-4,-31.35821915028481,-2.2342435568312169E-5,20.162341522565029,-5.4631203127541994E-4,-11.196301914922291,null,null,null,null,-4.0822108523741463E-5,6.2306406966001759E-3,-4.0330216220801205,5.1220996108884975E-2,1.40391709045673E-4,-3.9754704156741134,null,-15.171772330596404]
["sin(wo)",{"$f":"SIN(B140)","v":6.3989025721220047E-2},null,"B1",27,null,{"$f":"B187/B189","v":-1.9822428564212471},null,null,null,null,null,null,null,null,null,null,16.734181143540251,{"$f":"2*PI()*R142/B56","v":1.095249594674727E-3},1.1995715547208082E-6,1.5019898197721204E-4,-31.012672356191601,-2.3245067871435765E-5,20.147219686275264,-5.6854564996910995E-4,-10.865894261652201,null,null,null,null,-4.2472272355098539E-5,6.482316178619385E-3,-4.0272292404835852,5.1222437375525232E-2,1.4606729178012756E-4,-3.9694208919100156,null,-14.835315153562217]
["Alpha",{"$f":" B142/(2*D110)","v":5.0086457571936914E-3},null,"B2",28,null,{"$f":"B188/B189","v":0.98954089544729618},null,null,null,null,null,null,null,null,null,null,17.068864766411057,{"$f":"2*PI()*R143/B56","v":1.1171545865682217E-3},1.2480342404912705E-6,1.5626624167452974E-4,-30.667073783680138,-2.4184166345087021E-5,20.129711694515876,-5.9169098800282427E-4,-10.537821698076936,null,null,null,null,-4.4189181203080352E-5,6.7441558575964677E-3,-4.021214761895834,5.1223936870641751E-2,1.5197247800813329E-4,-3.9631388858707908,null,-14.500960583947727]
[null,null,null,"-A1",29,null,{"$f":"B190/B189","v":-1.9822428564212471},null,null,null,null,null,null,null,null,null,null,17.410242061739279,{"$f":"2*PI()*R144/B56","v":1.1394976782995862E-3},1.2984548183513799E-6,1.6257855443768676E-4,-30.321422213697829,-2.5161204211698873E-5,20.109594845915368,-6.157859998126014E-4,-10.21230573643205,null,null,null,null,-4.5975538036202579E-5,7.0165700795357111E-3,-4.0149701507036113,5.1225496946777582E-2,1.5811656924569206E-4,-3.9566159426460885,null,-14.168921679078139]
[null,null,null,"-A2",30,null,{"$f":"B191/B189","v":0.98631360299417603},null,null,null,null,null,null,null,null,null,null,17.758446902974065,{"$f":"2*PI()*R145/B56","v":1.1622876318655778E-3},1.3509123871073087E-6,1.6914581511429105E-4,-29.975716451400515,-2.6177714204322911E-5,20.086632134392033,-6.4087026684944703E-4,-9.8895822191744216,null,null,null,null,-4.7834155552095581E-5,7.299985744751325E-3,-4.0084871184784134,5.1227120051525077E-2,1.6450924493938146E-4,-3.9498433375927497,null,-13.839425556767171]
["LPF B0",{"$f":"B138^2*(1 - B141)/2","v":1.3153225127018778E-3},"post2","B0",31,null,{"$f":"B196","v":1.067122393772159},null,null,null,null,null,null,null,null,null,null,18.113615841033546,{"$f":"2*PI()*R146/B56","v":1.1855333845028893E-3},1.4054892411541775E-6,1.7597831785565177E-4,-29.629955333361693,-2.7235290983362859E-5,20.06057219166118,-6.6698507119156147E-4,-9.5699013837448312,null,null,null,null,-4.9767960653923637E-5,7.5948469747544323E-3,-4.0017571190424732,5.1228808731366371E-2,1.7116057786381589E-4,-3.9428120707191425,null,-13.512713454463974]
["LPF B1",{"$f":"B138^2*(1 - B141)","v":2.6306450254037555E-3},"PA EQ","B1",32,null,{"$f":"B197","v":-1.9859474134888382},null,null,null,null,null,null,null,null,null,null,18.475888157854218,{"$f":"2*PI()*R147/B56","v":1.2092440521929474E-3},1.4622709995776118E-6,1.8308677224609937E-4,-29.284137735605825,-2.8335593627026867E-5,20.031149403917979,-6.9417347276612418E-4,-9.2535277539819916,null,null,null,null,-5.1779999139967003E-5,7.9016158058351493E-3,-3.9947713436964776,5.1230565635666636E-2,1.7808105020833409E-4,-3.9355128612039074,null,-13.189040615185899]
["LPF B2",{"$f":"B138^2*((1 - B141)/2)","v":1.3153225127018778E-3},null,"B2",33,null,{"$f":"B198","v":0.92290337399163014},null,null,null,null,null,null,null,null,null,null,18.845405921011302,{"$f":"2*PI()*R148/B56","v":1.2334289332368061E-3},1.5213467404709877E-6,1.9048232002205623E-4,-28.938262582545576,-2.9480348240795706E-5,19.998084232820418,-7.2248039045064161E-4,-8.9407398281438262,null,null,null,null,-5.3873440506890802E-5,8.220772910611629E-3,-3.9875207166375048,5.1232393520852071E-2,1.8528157031738601E-4,-3.9279361420762307,null,-12.868675970220057]
["LPF A0",{"$f":"1+B143","v":1.0050086457571936},null,"-A1",34,null,{"$f":"B199","v":-1.9859474134888382},null,null,null,null,null,null,null,null,null,null,19.222314039431527,{"$f":"2*PI()*R149/B56","v":1.2580975119015423E-3},1.5828091406790759E-6,1.9817655248033361E-4,-28.59232885690875,-3.0671350662814234E-5,19.961083771722926,-7.5195268722438868E-4,-8.6318295326712331,null,null,null,null,-5.6051583044336439E-5,8.5528183483560838E-3,-3.9799958905971096,5.1234295254708684E-2,1.9277349012725153E-4,-3.9200720550869619,null,-12.551901587758195]
["LPF A1",{"$f":"-2*B141","v":-1.9959012045562265},null,"-A2",35,null,{"$f":"B200","v":0.99002576776378926},null,null,null,null,null,null,null,null,null,null,19.606760320220157,{"$f":"2*PI()*R150/B56","v":1.2832594621395731E-3},1.6467546211872979E-6,2.0618152861828776E-4,-28.246335610749526,-3.1910469281193343E-5,19.919842567960444,-7.8263925971100434E-4,-8.3271014109894566,null,null,null,null,-5.8317859085832424E-5,8.8982723456538793E-3,-3.9721872427319909,5.1236273820880029E-2,2.0056862334172365E-4,-3.9119104458012011,null,-12.239011856790658]
["LPF A2",{"$f":"1-B143","v":0.99499135424280627},"post3","B0",36,null,1.029078483581543,null,null,null,null,null,null,null,null,null,null,19.998895526624562,{"$f":"2*PI()*R151/B56","v":1.3089246513823644E-3},1.7132834983846928E-6,2.145097939489915E-4,-27.900281977646571,-3.3199647967663282E-5,19.874043740587936,-8.1459113204118694E-4,-8.0268715180446932,null,null,null,null,-6.0675840501289713E-5,9.2576761082554526E-3,-3.9640848708016065,5.1238332323592317E-2,2.0867926433254524E-4,-3.9034408589459275,null,-11.930312376990621]
[null,null,null,"B1",37,null,-1.0814294815063477,null,null,null,null,null,null,null,null,null,null,20.398873437157054,{"$f":"2*PI()*R152/B56","v":1.3351031444100118E-3},1.7825001414378748E-6,2.2317440015484635E-4,-27.554167186199464,-3.4540909120472918E-5,19.823360420076384,-8.4786155485971904E-4,-7.7314659941869053,null,null,null,null,-6.3129244374238169E-5,9.6315926654853001E-3,-3.955678589669489,5.1240473992489655E-2,2.1711820782144287E-4,-3.8946525340480669,null,-11.626118528234972]
[null,null,null,"B2",38,null,5.7410240173339844E-2,null,null,null,null,null,null,null,null,null,null,20.806850905900195,{"$f":"2*PI()*R153/B56","v":1.3618052072982122E-3},1.854513136022875E-6,2.321889254233156E-4,-27.207990574945384,-3.5936356842292128E-5,19.767457531800048,-8.8250610907891769E-4,-7.4412192966858335,null,null,null,null,-6.56819389845964E-5,1.0020607748586485E-2,-3.9469579281672864,5.1242702187700218E-2,2.258987694432335E-4,-3.8855344014005411,null,-11.326753698086375]
["HPF B0",{"$f":"B138^2*(1 + B141)/2","v":1.2823032729944308},null,"-A1",39,null,-1.3199930191040039,null,null,null,null,null,null,null,null,null,null,21.222987924018199,{"$f":"2*PI()*R154/B56","v":1.3890413114441764E-3},1.9294354546717134E-6,2.4156749567794122E-4,-26.861751608828783,-3.7388180238906443E-5,19.705993938519782,-9.1858281528800489E-4,-7.1564720738088496,null,null,null,null,-6.8337949969077272E-5,1.0425330704158853E-2,-3.9379121263629528,5.124502040512624E-2,2.3503480709052837E-4,-3.8760750783965463,null,-11.032547152205396]
["HPF B1",{"$f":"B138^2*-(1 + B141)","v":-2.5646065459888616},null,"-A2",40,null,0.32817935943603516,null,null,null,null,null,null,null,null,null,null,21.647447682498562,{"$f":"2*PI()*R155/B56","v":1.4168221376730601E-3},2.0073846340009474E-6,2.513248066406959E-4,-26.515449897367631,-3.8898656854691183E-5,19.638624948343931,-9.5615224874734395E-4,-6.8775686751226601,null,null,null,null,-7.1101466744494246E-5,1.0846395444296775E-2,-3.928530133276773,5.1247432281915195E-2,2.4454074317503682E-4,-3.8662628662741305,null,-10.743831541396791]
["HPF B2",{"$f":"B138^2*(1 + B141)/2","v":1.2823032729944308},"post4","B0",41,null,0.84765434265136719,null,null,null,null,null,null,null,null,null,null,22.080396636148535,{"$f":"2*PI()*R156/B56","v":1.4451585804265213E-3},2.0884829591002075E-6,2.614761467825133E-4,-26.169085214673501,-4.0470156243976874E-5,19.565005183819707,-9.9527766055018674E-4,-6.6048543025238047,null,null,null,null,-7.3976849371604203E-5,1.1284461434804882E-2,-3.9188006050915547,5.1249941602208082E-2,2.5443158783389208E-4,-3.8560857473160794,null,-10.460940049839884]
["HPF A0",{"$f":"1+B143","v":1.0050086457571936},null,"B1",42,null,-1.3982982635498047,null,null,null,null,null,null,null,null,null,null,22.522004568871505,{"$f":"2*PI()*R157/B56","v":1.4740617520350515E-3},2.172857655369999E-6,2.720374211833132E-4,-25.82265752149614,-4.2105143683635049E-5,19.484791795004853,-1.0360251050229863E-3,-6.3386718193188116,null,null,null,null,-7.6968635298158006E-5,1.1740214722848918E-2,-3.9087119039054912,5.1252552302997856E-2,2.64722963066788E-4,-3.8455313825518758,null,-10.184203201870687]
["HPF A1",{"$f":"-2*B141","v":-1.9959012045562265},null,"B2",43,null,0.64283657073974609,null,null,null,null,null,null,null,null,null,null,22.972444660248936,{"$f":"2*PI()*R158/B56","v":1.5035429870757528E-3},2.2606410881097047E-6,2.8302517636547009E-4,-25.47616698947725,-4.3806184048200691E-5,19.397647984906186,-1.0784635742027149E-3,-6.0793582491529499]
["HPF A2",{"$f":"1-B143","v":0.99499135424280627},null,"-A1",44,null,-1.7774972915649414,null,null,null,null,null,null,null,null,null,null,23.431893553453914,{"$f":"2*PI()*R159/B56","v":1.5336138468172679E-3},2.3519709701688933E-6,2.9445662608651446E-4,-25.129614027815649,-4.557594583065594E-5,19.303246800059142,-1.1226651395190856E-3,-5.8272410122157687]
[null,null,null,"-A2",45,null,0.86914825439453125,null,null,null,null,null,null,null,null,null,null,23.900531424522992,{"$f":"2*PI()*R160/B56","v":1.5642861237536131E-3},2.4469905779877002E-6,3.0634967823317538E-4,-24.782999312561657,-4.7417205326638623E-5,19.201275122979652,-1.1687051008806293E-3,-5.5826339622099788]
[null,null,"post 5","B0",46,null,1.0084399188751516,null,null,null,null,null,null,null,null,null,null,24.378542053013451,{"$f":"2*PI()*R161/B56","v":1.5955718462286853E-3},2.5458489763651809E-6,3.1872296273860456E-4,-24.436323818778362,-4.9332850987404697E-5,19.091437787650662,-1.2166621444720249E-3,-5.3458333031604219]
["HShelf B0",{"$f":"B138^2*(B139*( (B139+1) + (B139-1)*B141 + 2*SQRT(B139)*B143 ))","v":1.3650043465645085},null,"B1",47,null,-1.994599000969469,null,null,null,null,null,null,null,null,null,null,24.866112894073719,{"$f":"2*PI()*R162/B56","v":1.6274832831532588E-3},2.6487012523082434E-6,3.3159586064357427E-4,-24.089588855826776,-5.1325887954867255E-5,18.97346172516545,-1.2666185087795157E-3,-5.1171134791974175]
["HShelf B1",{"$f":"B138^2*(-2*B139*( (B139-1) + (B139+1)*B141 ))","v":-2.7064217172022604},null,"B2",48,null,0.98968454359703684,null,null,null,null,null,null,null,null,null,null,25.363435151955194,{"$f":"2*PI()*R163/B56","v":1.660032948816324E-3},2.755708758328024E-6,3.4498853426612186E-4,-23.742796106053476,-5.3399442772494865E-5,18.847100035266067,-1.3186601603507597E-3,-4.8967231418562669]
["HShelf B2",{"$f":"B138^2*(B139*( (B139+1) + (B139-1)*B141 - 2*SQRT(B139)*B143 ))","v":1.3490663103947718},null,"-A1",49,null,-1.9945990009694701,null,null,null,null,null,null,null,null,null,null,25.8707038549943,{"$f":"2*PI()*R164/B56","v":1.6932336077926508E-3},2.8670393655653608E-6,3.5892195870701471E-4,-23.395947667182597,-5.5556768296050052E-5,18.712135871899306,-1.3728769789764783E-3,-4.6848813070718549]
["HShelf A0",{"$f":"(B139+1) - (B139-1)*B141 + 2*SQRT(B139)*B143","v":2.0079809524664274},null,"-A2",50,null,0.998124462472188,null,null,null,null,null,null,null,null,null,null,26.388117932094186,{"$f":"2*PI()*R165/B56","v":1.7270982799485037E-3},2.9828677271424618E-6,3.7341795447787263E-4,-23.049046098738501,-5.7801248782851644E-5,18.568386028050071,-1.4293629538286723E-3,-4.4817738169365633]
["HShelf A1",{"$f":"2*((B139-1)-(B139+1)*B141)","v":-3.9929217604348208},null,null,null,null,null,null,null,null,null,null,null,null,null,null,null,26.915880290736069,{"$f":"2*PI()*R166/B56","v":1.7616402455474737E-3},3.1033755521539131E-6,3.8849922150774319E-4,-22.702094472851371,-6.0136405213739863E-5,18.415704107735195,-1.488216390555408E-3,-4.2875502186904377]
["HShelf A2",{"$f":"(B139+1) - (B139-1)*B141 - 2*SQRT(B139)*B143","v":1.9908996962112047},null,null,null,null,null,null,null,null,null,null,null,null,null,null,null,27.454197896550792,{"$f":"2*PI()*R167/B56","v":1.7968730504584233E-3},3.2287518907268213E-6,4.0418937449260284E-4,-22.355096429827256,-6.2565900809552488E-5,18.253983181536213,-1.5495401305827272E-3,-4.1023211649479414]
[null,null,null,null,null,null,null,null,null,null,null,null,null,null,null,null,null,28.003281854481809,{"$f":"2*PI()*R168/B56","v":1.8328105114675918E-3},3.3591934305972993E-6,4.2051297969436519E-4,-22.008056238892081,-6.5093546774974698E-5,18.083157836361579,-1.6134417830215853E-3,-3.9261564248806025]
[null,null,null,null,null,null,null,null,null,null,null,null,null,null,null,null,null,28.563347491571445,{"$f":"2*PI()*R169/B56","v":1.8694667216969437E-3},3.4949048056685438E-6,4.3749559311123676E-4,-21.660978864551709,-6.7723308285749795E-5,17.903205549731751,-1.6800339704161615E-3,-3.7590835765055459]
["LShelf B0",{"$f":"B138^2*(B139*( (B139+1) - (B139-1)*B141 + 2*SQRT(B139)*B143 ))","v":1.8735901253614105},null,null,null,null,null,null,null,null,null,null,null,null,null,null,null,29.134614441402874,{"$f":"2*PI()*R170/B56","v":1.9068560561308825E-3},3.6360989170345445E-6,4.5516380032495363E-4,-21.313870039043422,-7.0459310693493649E-5,17.714147342786148,-1.7494345891009289E-3,-3.6010874263567416]
["LShelf B1",{"$f":"B138^2*(2*B139*( (B139-1) - (B139+1)*B141 ))","v":-3.7256821447943791},null,null,null,null,null,null,null,null,null,null,null,null,null,null,null,29.717306730230931,{"$f":"2*PI()*R171/B56","v":1.9449931772535E-3},3.7829972669730359E-6,4.7354525777620893E-4,-20.96673634138773,-7.3305846012949871E-5,17.516047693032988,-1.8217670851043977E-3,-3.4521101760280821]
["LShelf B2",{"$f":"B138^2*(B139*( (B139+1) - (B139-1)*B141 - 2*SQRT(B139)*B143 ))","v":1.8576520891916735},null,null,null,null,null,null,null,null,null,null,null,null,null,null,null,30.311652864835551,{"$f":"2*PI()*R172/B56","v":1.9838930407985703E-3},3.9358303064316371E-6,4.9266873581643722E-4,-20.619585283586844,-7.6267379641059563E-5,17.309013715946051,-1.8971607469495666E-3,-3.3120523270315658]
["LShelf A0",{"$f":"(B139+1) + (B139-1)*B141 + 2*SQRT(B139)*B143","v":1.4629148023539582},null,null,null,null,null,null,null,null,null,null,null,null,null,null,null,30.917885922132264,{"$f":"2*PI()*R173/B56","v":2.0235709016145418E-3},4.0948377965522778E-6,5.1256416341516342E-4,-20.272425404552905,-7.9348557370018113E-5,17.093193652074916,-1.9757510164311043E-3,-3.1807742878883758]
["LShelf A1",{"$f":"-2*((B139-1)+(B139+1)*B141)","v":-2.9005507575651475},null,null,null,null,null,null,null,null,null,null,null,null,null,null,null,31.536243640574909,{"$f":"2*PI()*R174/B56","v":2.0640423196468327E-3},4.2602691848010913E-6,5.3326267463660315E-4,-19.925266372387455,-8.2554212665897353E-5,16.868774721646432,-2.0576798184492873E-3,-3.0580986220975035]
["LShelf A2",{"$f":"(B139+1) +(B139-1)*B141 - 2*SQRT(B139)*B143","v":1.4458335460987357},null,null,null,null,null,null,null,null,null,null,null,null,null,null,null,32.166968513386408,{"$f":"2*PI()*R175/B56","v":2.1053231660397693E-3},4.4323839962937596E-6,5.5479665705604475E-4,-19.578119095673301,-8.5889374259018325E-5,16.635980430181462,-2.1430959117196835E-3,-2.9438128541207611]
[null,null,null,null,null,null,null,null,null,null,null,null,null,null,null,null,null,32.81030788365414,{"$f":"2*PI()*R176/B56","v":2.1474296293605651E-3},4.6114522409302499E-6,5.7719980197390441E-4,-19.23099584447867,-8.9359274022093871E-5,16.395067425262809,-2.2321552615380824E-3,-2.8376727339494465]
[null,null,null,null,null,null,null,null,null,null,null,null,null,null,null,null,null,33.466514041327223,{"$f":"2*PI()*R177/B56","v":2.1903782219477763E-3},4.7977548369775854E-6,6.005071567258824E-4,-18.883910381812655,-9.2969355184102653E-5,16.146322015544499,-2.3250214364338717E-3,-2.7394058499030471]
["Notch B0",1,null,null,null,null,null,null,null,null,null,null,null,null,null,null,null,34.135844322153766,{"$f":"2*PI()*R178/B56","v":2.2341857863867319E-3},4.9915840517651719E-6,6.2475517907500944E-4,-18.536878106308805,-9.6725280862131058E-5,15.890056468133437,-2.4218660304740069E-3,-2.6487154743076289]
["Notch B1",{"$f":"-2*B141","v":-1.9959012045562265},null,null,null,null,null,null,null,null,null,null,null,null,null,null,null,34.81856120859684,{"$f":"2*PI()*R179/B56","v":2.2788695021144665E-3},5.1932439601839771E-6,6.4998179370689968E-4,-18.189916206948368,-1.0063294294759828E-4,15.626605199812616,-2.5228691129512981E-3,-2.5652845273979423]
["Notch B2",{"$f":"1","v":1},null,null,null,null,null,null,null,null,null,null,null,null,null,null,null,35.514932432768781,{"$f":"2*PI()*R180/B56","v":2.324446892156756E-3},5.4030509217088439E-6,6.7622645099874035E-4,{"$f":"10*LOG10(($G$121+$G$122+$G$123)^2 + ( $G$121*$G$123*$T180 - ($G$122*($G$121+$G$123) + 4*$G$121*$G$123) )*$T180 )  - 10*LOG10( (1+$G$124+$G$125)^2 + ( 1*$G$125*$T180 - ($G$124*(1+$G$125) + 4*1*$G$125) )*$T180)","v":-17.843043830668705},{"$f":"10*LOG10(($G$126+$G$127+$G$128)^2 + ( $G$126*$G$128*$T180 - ($G$127*($G$126+$G$128) + 4*$G$126*$G$128) )*$T180 )  - 10*LOG10( (1+$G$129+$G$130)^2 + ( 1*$G$130*$T180 - ($G$129*(1+$G$130) + 4*1*$G$130) )*$T180)","v":-1.0469847134597643E-4},{"$f":"10*LOG10(($G$131+$G$132+$G$133)^2 + ( $G$131*$G$133*$T180 - ($G$132*($G$131+$G$133) + 4*$G$131*$G$133) )*$T180 )  - 10*LOG10( (1+$G$134+$G$135)^2 + ( 1*$G$135*$T180 - ($G$134*(1+$G$135) + 4*1*$G$135) )*$T180)","v":15.35632097180283},{"$f":"10*LOG10(($G$136+$G$137+$G$138)^2 + ( $G$136*$G$138*$T180 - ($G$137*($G$136+$G$138) + 4*$G$136*$G$138) )*$T180 )  - 10*LOG10( (1+$G$139+$G$140)^2 + ( 1*$G$140*$T180 - ($G$139*(1+$G$140) + 4*1*$G$140) )*$T180)","v":-2.6282197080007563E-3},{"$f":"U180+V180+W180+X180+Y180","v":-2.4887795505942236}]
["Notch A0",{"$f":"1+B143","v":1.0050086457571936},null,null,null,null,null,null,null,null,null,null,null,null,null,null,null,36.225231081424155,{"$f":"2*PI()*R181/B56","v":2.3709358299998911E-3},{"$f":"4*(SIN(S181/2))^2","v":5.6213340766922311E-6},{"$f":"10*LOG10(($G$116+$G$117+$G$118)^2 + ( $G$116*$G$118*T181 - ($G$117*($G$116+$G$118) + 4*$G$116*$G$118) )*T181 )  - 10*LOG10( (1+$G$119+$G$120)^2 + ( 1*$G$120*T181 - ($G$119*(1+$G$120) + 4*1*$G$120) )*T181)","v":7.0353018813307244E-4},-17.496282263727124,-1.0892824358688102E-4,15.079571187768749,-2.7381163060340441E-3,-2.4188545903198637]
["Notch A1",{"$f":"-2*B141","v":-1.9959012045562265},null,null,null,null,null,null,null,null,null,null,null,null,null,null,null,36.949735703052639,{"$f":"2*PI()*R182/B56","v":2.4183545465998888E-3},5.8484358627079616E-6,7.3193569264162761E-4,-17.149655127713714,-1.1332889483472997E-4,14.796734381632533,-2.8527674097631461E-3,-2.3551549066931372]
["Notch A2",{"$f":"1-B143","v":0.99499135424280627},null,null,null,null,null,null,null,null,null,null,null,null,null,null,null,37.688730417113689,{"$f":"2*PI()*R183/B56","v":2.4667216375318861E-3},6.0847125517549171E-6,7.6148736843606457E-4,-16.803188591116808,-1.1790732828842465E-4,14.508196966590319,-2.9723921174280576E-3,-2.2973204366037692]
[null,null,null,null,null,null,null,null,null,null,null,null,null,null,null,null,null,38.442505025455965,{"$f":"2*PI()*R184/B56","v":2.5160560702825242E-3},6.3305348091634716E-6,7.9223140448192453E-4,-16.456911597346647,-1.2267072600913309E-4,14.214350300621874,-3.097220746198559E-3,-2.244988956792497]
[null,null,null,null,null,null,null,null,null,null,null,null,null,null,null,null,null,39.211355125965085,{"$f":"2*PI()*R185/B56","v":2.5663771916881748E-3},6.5862882750813371E-6,8.2421584618685984E-4,-16.110856110108315,-1.276265601894977E-4,13.915588107708373,-3.227495499146471E-3,-2.1977989086130911]
["Peaking B0",{"$f":"1+(B143*B139)","v":1.0036408209099925},null,null,null,null,null,null,null,null,null,null,null,null,null,null,null,39.995582228484388,{"$f":"2*PI()*R186/B56","v":2.6177047355219383E-3},6.8523741694510938E-6,8.5749066959550646E-4,-15.765057376984217,-1.3278260486515592E-4,13.612304278713978,-3.3634711791847849E-3,-2.1553918613846932]
["Peaking B1",{"$f":"-2*B141","v":-1.9959012045562265},null,null,null,null,null,null,null,null,null,null,null,null,null,null,null,40.795493873054077,{"$f":"2*PI()*R187/B56","v":2.6700588302323775E-3},7.1292099214283583E-6,8.9210785856863595E-4,-15.419554212031258,-1.3814694811031814E-4,13.30489106203396,-3.5054159539669172E-3,-2.1174146050408069]
["Peaking B2",{"$f":"1-(B143*B139)","v":0.99635917909000749},null,null,null,null,null,null,null,null,null,null,null,null,null,null,null,41.611403750515159,{"$f":"2*PI()*R188/B56","v":2.7234600068370245E-3},7.4172298242280031E-6,9.2812148491816515E-4,-15.074389298118689,-1.4372800472184366E-4,12.993737642045971,-3.6536121759809248E-3,-2.083520874768503]
["Peaking A0",{"$f":"1 + (B143/B139)","v":1.0068903505394078},null,null,null,null,null,null,null,null,null,null,null,null,null,null,null,42.443631825525465,{"$f":"2*PI()*R189/B56","v":2.7779292069737651E-3},7.7168857164256891E-6,9.6558779178224086E-4,-14.729609509617291,-1.4953452941757206E-4,12.679229093309573,-3.8083572625566831E-3,-2.0533727203079088]
["Peaking A1",{"$f":"-2*B141","v":-1.9959012045562265},null,null,null,null,null,null,null,null,null,null,null,null,null,null,null,43.292504462035971,{"$f":"2*PI()*R190/B56","v":2.8334877911132404E-3},8.0286476907833967E-6,1.004565280268821E-3,-14.385266255898941,-1.5557563056578516E-4,12.36174569037577,-3.9699646408735134E-3,-2.0266415405143405]
["Peaking A2",{"$f":"1-(B143/B139)","v":0.99310964946059221},null,null,null,null,null,null,null,null,null,null,null,null,null,null,null,44.158354551276695,{"$f":"2*PI()*R191/B56","v":2.890157546935506E-3},8.3530048317109772E-6,1.04511479949565E-3,-14.04141584590586,-1.6186078446356333E-4,12.041662546885334,-4.138764763510494E-3,-2.0030088097690033]
[null,null,null,null,null,null,null,null,null,null,null,null,null,null,null,null,null,45.041521642302229,{"$f":"2*PI()*R192/B56","v":2.9479606978742154E-3},8.6904659825204887E-6,1.0872996401616319E-3,-13.698119873794468,-1.6839985020400405E-4,11.719349553163426,-4.3151062009627594E-3,-1.9821665270420468]
[null,null,null,null,null,null,null,null,null,null,null,null,null,null,null,null,null,45.942352075148271,{"$f":"2*PI()*R193/B56","v":3.0069199118316998E-3},9.0415605436769899E-6,1.1311856318130253E-3,-13.355445625342497,-1.7520308513763183E-4,11.395171578505142,-4.4993568177176257E-3,-1.9638174211083985]
["Planet Analog 2nd order EQ filter",null,null,"Fc",{"$f":"D109","v":978.34872897125581},null,null,null,null,null,null,null,null,null,null,null,null,46.861199116651235,{"$f":"2*PI()*R194/B56","v":3.0670583100683335E-3},9.406839303297834E-6,1.1768412439536746E-3,-13.013466504415462,-1.8228116094931579E-4,11.069488902511296,-4.6919050393796624E-3,-1.9476749468605412]
[null,null,null,"g",{"$f":"D111+20","v":14.459160000000001},null,"d",{"$f":"-COS(2*PI()*E194/B56)","v":-0.99795060227811327},null,null,null,null,null,null,null,null,null,47.798423098984259,{"$f":"2*PI()*R195/B56","v":3.1283994762697004E-3},9.7868753012034416E-6,1.2243376910348047E-3,-12.672262478314479,-1.8964518040398559E-4,10.74265783889291,-4.893161219428066E-3,-1.9334631081303666]
["PA EQ B0",{"$f":" 1 + (1+E202)*E197/2","v":1.067122393772159},null,"b",{"$f":"E194/D110","v":153.15758148174822},null,null,null,null,null,null,null,null,null,null,null,null,48.754391560963946,{"$f":"2*PI()*R196/B56","v":3.1909674657950942E-3},1.0182264727874786E-5,1.2737490416085961E-3,-12.331920540257784,-1.9730669474959939E-4,10.415031514849275,-5.1035591141186387E-3,-1.9209161421757681]
["PA EQ B1",{"$f":" H195*(1-E202)","v":-1.9859474134888382},null,"H",{"$f":"E195-1","v":13.459160000000001},null,null,null,null,null,null,null,null,null,null,null,null,49.729479392183222,{"$f":"2*PI()*R197/B56","v":3.254786815110996E-3},1.0593627859727901E-5,1.3251523317805436E-3,-11.992535186571175,-2.0527772182976634E-4,10.086960769194235,-5.323557476273777E-3,-1.9097781002432619]
["PA EQ B2",{"$f":"-E202-(1+E202)*E197/2","v":0.92290337399163014},null,null,null,null,null,null,null,null,null,null,null,null,null,null,null,50.724068980026885,{"$f":"2*PI()*R198/B56","v":3.319882551413216E-3},1.1021610032172407E-5,1.378627683024547E-3,-11.654208905371618,-2.1357076493444538E-4,9.7587951326615467,-5.5536417786044012E-3,-1.8998023575705858]
["PA EQ A1",{"$f":"B197","v":-1.9859474134888382},null,null,null,null,null,null,null,null,null,null,null,null,null,null,null,51.738550359627425,{"$f":"2*PI()*R199/B56","v":3.3862802024414804E-3},1.1466882651980549E-5,1.4342584245810031E-3,-11.317052672606934,-2.2219883240026661E-4,9.4308838540989086,-5.7943260791546436E-3,-1.8907510849949993]
["PA EQ A2",{"$f":"-E202","v":0.99002576776378926},null,"a1 g<1",{"$f":" (TAN(PI()*E196/B56)-E195)/(TAN(PI()*E196/B56)+E195)","v":-0.99930696177225831},null,null,null,null,null,null,null,null,null,null,null,null,52.773321366819971,{"$f":"2*PI()*R200/B56","v":3.4540058064903103E-3},1.1930144250554758E-5,1.4921312206936932E-3,-10.981186450261845,-2.3117545800932504E-4,9.1035769364557666,-6.0461550423553945E-3,-1.8823947130857484]
[null,null,null,"a2 g>=1",{"$f":" (TAN(PI()*E196/B56)-1)/(TAN(PI()*E196/B56)+1)","v":-0.99002576776378926},null,null,null,null,null,null,null,null,null,null,null,null,53.828787794156369,{"$f":"2*PI()*R201/B56","v":3.5230859226201162E-3},1.2412121579745944E-5,1.5523362027280996E-3,-10.646739680344169,-2.405147222095394E-4,8.777226146513101,-6.3097061310202207E-3,-1.8745114184815694]
[null,null,null,"a",{"$f":"IF(E195<1, E200,E201)","v":-0.99002576776378926},null,null,null,null,null,null,null,null,null,null,null,null,54.905363550039496,{"$f":"2*PI()*R202/B56","v":3.5935476410725187E-3},1.2913570751941472E-5,1.6149671064269455E-3,-10.313851766930114,-2.5023127419032676E-4,8.4521859621873432,-6.5855919859529877E-3,-1.8668866608964869]
[null,null,null,null,null,null,null,null,null,null,null,null,null,null,null,null,null,56.003470821040288,{"$f":"2*PI()*R203/B56","v":3.6654185938939689E-3},1.3435278426211161E-5,1.6801214144734899E-3,-9.9826725370714655,-2.6034035485533735E-4,8.1288144209952407,-6.8744630120960437E-3,-1.8593127980287036]
[null,null,null,null,null,null,null,null,null,null,null,null,null,null,null,null,null,57.123540237461093,{"$f":"2*PI()*R204/B56","v":3.7387269657718479E-3},1.397806304237202E-5,1.7479005045686336E-3,-9.653362669769237,-2.7085782071178954E-4,7.8074738329814863,-7.1770101919099716E-3,-1.8515888042958046]
[null,null,null,null,null,null,null,null,null,null,null,null,null,null,null,null,null,58.266011042210316,{"$f":"2*PI()*R205/B56","v":3.8135015050872849E-3},1.4542776104907411E-5,1.8184098032207885E-3,-9.326094080511524,-2.8180016873502467E-4,7.4885313212174935,-7.4939681491770216E-3,-1.8435201178087226]
[null,null,null,null,null,null,null,null,null,null,null,null,null,null,null,null,null,59.431331263054524,{"$f":"2*PI()*R206/B56","v":3.8897715351890313E-3},1.5130303518754634E-5,1.8917589454474637E-3,-9.0010502470981351,-2.9318456223048628E-4,7.1723591530569593,-7.8261184896604163E-3,-1.8349186381476201]
[null,null,null,null,null,null,null,null,null,null,null,null,null,null,null,null,null,60.619957888315618,{"$f":"2*PI()*R207/B56","v":3.9675669658928115E-3},1.5741566979056306E-5,1.9680619406159394E-3,-8.6784264606718864,-3.0502885774463806E-4,6.8593348259025788,-8.1742934469986039E-3,-1.8256028951334358]
[null,null,null,null,null,null,null,null,null,null,null,null,null,null,null,null,null,61.832357046081931,{"$f":"2*PI()*R208/B56","v":4.0469183052106684E-3},1.6377525417055481E-5,2.0474373446504046E-3,-8.3584299841157446,-3.1735163305057768E-4,6.5498408725518118,-8.5393798668746967E-3,-1.8153984057192076]
[null,null,null,null,null,null,null,null,null,null,null,null,null,null,null,null,null,63.069004187003571,{"$f":"2*PI()*R209/B56","v":4.1278566713148813E-3},1.7039176504402474E-5,2.1300084387405605E-3,-8.0412800983337434,-3.3017221627851256E-4,6.2442643535282087,-8.9223235657556188E-3,-1.8041382321488282]
[null,null,null,null,null,null,null,null,null,null,null,null,null,null,null,null,null,64.33038427074365,{"$f":"2*PI()*R210/B56","v":4.2104138047411796E-3},1.7727558218233161E-5,2.2159034150277535E-3,-7.7272080155186984,-3.4351071621596674E-4,5.9429960074489543,-9.3241341049292714E-3,-1.7916637494758616]
[null,null,null,null,null,null,null,null,null,null,null,null,null,null,null,null,null,65.616991956158529,{"$f":"2*PI()*R211/B56","v":4.2946220808360034E-3},1.8443750469473508E-5,2.3052555691407406E-3,-7.4164566374410583,-3.5738805382212746E-4,5.6464290357039459,-9.7458900262807902E-3,-1.7778256242480746]
[null,null,null,null,null,null,null,null,null,null,null,null,null,null,null,null,null,66.929331795281698,{"$f":"2*PI()*R212/B56","v":4.3805145224527237E-3},1.9188876796924646E-5,2.3982035002774182E-3,-7.109280136214764,-3.7182599503005065E-4,5.3549575047533153,-1.0188744601322242E-2,-1.7624849985575235]
[null,null,null,null,null,null,null,null,null,null,null,null,null,null,null,null,null,68.26791843118734,{"$f":"2*PI()*R213/B56","v":4.4681248129017784E-3},1.9964106129785675E-5,2.4948913185838251E-3,-6.8059433350675107,-3.8684718485715308E-4,5.0689743583450024,-1.0653932151996059E-2,-1.7455148647407777]
[null,null,null,null,null,null,null,null,null,null,null,null,null,null,null,null,null,69.633276799811085,{"$f":"2*PI()*R214/B56","v":4.5574873091598139E-3},2.0770654621378747E-5,2.5954688606262266E-3,-6.5067208675324224,-4.0247518290126294E-4,4.7888690429593339,-1.1142775009503225E-2,-1.7268016059048668]
[null,null,null,null,null,null,null,null,null,null,null,null,null,null,null,null,null,71.025942335807315,{"$f":"2*PI()*R215/B56","v":4.6486370553430112E-3},2.1609787556952822E-5,2.7000919127644352E-3,-6.2118960953604443,-4.1873450027019032E-4,4.5150247627051243,-1.1656691185720547E-2,-1.7062466664285463]
[null,null,null,null,null,null,null,null,null,null,null,null,null,null,null,null,null,72.446461182523464,{"$f":"2*PI()*R216/B56","v":4.7416097964498713E-3},2.2482821338558502E-5,2.8089224429521664E-3,-5.9217597684888261,-4.3565063799277937E-4,4.2478153944462207,-1.2197202842145316E-2,-1.6837683050797914]
[null,null,null,null,null,null,null,null,null,null,null,null,null,null,null,null,null,73.895390406173931,{"$f":"2*PI()*R217/B56","v":4.8364419923788687E-3},2.3391125550107271E-5,2.9221288412770718E-3,-5.63660841473137,-4.5325012698960165E-4,3.9876021096553416,-1.2765945652319033E-2,-1.65930337201406]
[null,null,null,null,null,null,null,null,null,null,null,null,null,null,null,null,null,75.373298214297407,{"$f":"2*PI()*R218/B56","v":4.9331708322264455E-3},2.4336125105854186E-5,3.0398861692972901E-3,-5.3567424525729592,-4.7156056964503534E-4,3.7347297656906449,-1.3364679167722215E-2,-1.6328090404503843]
[null,null,null,null,null,null,null,null,null,null,null,null,null,null,null,null,null,76.880764178583362,{"$f":"2*PI()*R219/B56","v":5.0318342488709757E-3},2.5319302485674054E-5,3.1623764187855841E-3,-5.082464027590035,-4.906106830695478E-4,3.489523144997392,-1.3995298311371585E-2,-1.6042644151682985]
[null,null,null,null,null,null,null,null,null,null,null,null,null,null,null,null,null,78.418379462155031,{"$f":"2*PI()*R220/B56","v":5.1324709338483954E-3},2.6342200060636852E-5,3.2897887798881698E-3,-4.8140745815221919,-5.1043034410014343E-4,3.2522831351190149,-1.4659846142123456E-2,-1.5736719341095124]
[null,null,null,null,null,null,null,null,null,null,null,null,null,null,null,null,null,79.986747051398126,{"$f":"2*PI()*R221/B56","v":5.2351203525253624E-3},2.7406422512530301E-5,3.4223199192666698E-3,-4.5518721727381006,-5.3105063611180725E-4,3.0232829542465396,-1.5360528052426048E-2,-1.5410584772608322]
[null,null,null,null,null,null,null,null,null,null,null,null,null,null,null,null,null,81.586481992426087,{"$f":"2*PI()*R222/B56","v":5.3398227595758694E-3},2.8513639351124448E-5,3.5601742682658255E-3,-4.2961485774898023,-5.5250389772254493E-4,2.8027645352234458,-1.6099727586635026E-2,-1.5064760994824482]
[null,null,null,null,null,null,null,null,null,null,null,null,null,null,null,null,null,83.218211632274617,{"$f":"2*PI()*R223/B56","v":5.4466192147673877E-3},2.9665587533126258E-5,3.7035643218032988E-3,-4.0471862125360047,-5.7482377346840252E-4,2.5909351844580328,-1.688002409467515E-2,-1.4700023116243122]
[null,null,null,null,null,null,null,null,null,null,null,null,null,null,null,null,null,84.882575864920113,{"$f":"2*PI()*R224/B56","v":5.5555515990627358E-3},3.0864074186932227E-5,3.852710947889193E-3,-3.805254930911957,-5.9804526650708567E-4,2.3879646303066409,-1.7704212468245828E-2,-1.4317398473921799]
[null,null,null,null,null,null,null,null,null,null,null,null,null,null,null,null,null,86.580227382218524,{"$f":"2*PI()*R225/B56","v":5.6666626310439908E-3},3.2110979447452419E-5,4.0078437083721496E-3,-3.570608753200645,-6.2220479346297708E-4,2.193982567747355,-1.8575325244952978E-2,-1.3918158717833338]
[null,null,null,null,null,null,null,null,null,null,null,null,null,null,null,null,null,88.31183192986289,{"$f":"2*PI()*R226/B56","v":5.7799958836648709E-3},3.3408259405452172E-5,4.1692011913312399E-3,-3.3434826059161367,-6.473402414695073E-4,2.0090767925678676,-1.9496657410726925E-2,-1.3503806098091342]
[null,null,null,null,null,null,null,null,null,null,null,null,null,null,null,null,null,90.078068568460154,{"$f":"2*PI()*R227/B56","v":5.8955958013381686E-3},3.4757949176037091E-5,4.337031355099441E-3,-3.1240891458153328,-6.7349102752345402E-4,1.833291999306752,-2.0471794282556743E-2,-1.3076054004635616]
[null,null,null,null,null,null,null,null,null,null,null,null,null,null,null,null,null,91.879629939829357,{"$f":"2*PI()*R228/B56","v":6.0135077173649317E-3},3.6162166091094122E-5,4.5115918846363456E-3,-2.9126157534151389,-7.0069816022844122E-4,1.6666292937530329,-2.1504642916809757E-2,-1.2636802088545078]
[null,null,null,null,null,null,null,null,null,null,null,null,null,null,null,null,null,93.717222538625947,{"$f":"2*PI()*R229/B56","v":6.1337778717122302E-3},3.7623113020695432E-5,4.6931505604419499E-3,-2.7092217801145182,-7.2900430402000893E-4,1.5090464442647686,-2.2599467560937114E-2,-1.2188106571542647]
[null,null,null,null,null,null,null,null,null,null,null,null,null,null,null,null,null,95.591566989398473,{"$f":"2*PI()*R230/B56","v":6.2564534291464757E-3},3.9143081828674385E-5,4.8819856403525819E-3,-2.5140361306837633,-7.5845384599038113E-4,1.3604588681444056,-2.3760929753649407E-2,-1.1732146604986449]
[null,null,null,null,null,null,null,null,null,null,null,null,null,null,null,null,null,97.503398329186439,{"$f":"2*PI()*R231/B56","v":6.3815824977294039E-3},4.0724456967792855E-5,5.07838625456003E-3,-2.3271552562937359,-7.8909296540263796E-4,1.2207413215836738,-2.4994133782669792E-2,-1.1271187752035745]
[null,null,null,null,null,null,null,null,null,null,null,null,null,null,null,null,null,99.45346629577017,{"$f":"2*PI()*R232/B56","v":6.5092141476839928E-3},4.2369719220138741E-5,5.282652814337041E-3,-2.1486416227941163,-8.2096970600353814E-4,1.08973023600646,-2.6304678332593312E-2,-1.0807543820119161]
[null,null,null,null,null,null,null,null,null,null,null,null,null,null,null,null,null,101.44253562168558,{"$f":"2*PI()*R233/B56","v":6.6393984306376726E-3},4.4081449588619074E-5,5.4950974347107717E-3,-1.9785227049939351,-8.5413405125667197E-4,0.96722662154706995,-2.7698715303500876E-2,-1.0343538353669119]
[null,null,null,null,null,null,null,null,null,null,null,null,null,null,null,null,null,103.47138633411929,{"$f":"2*PI()*R234/B56","v":6.7721863992504265E-3},4.5862333345652285E-5,5.7160443714110443E-3,-1.8167905408958802,-8.8863800259897374E-4,0.85299944111778814,-2.918301695929415E-2,-0.98814671036857415]
[null,null,null,null,null,null,null,null,null,null,null,null,null,null,null,null,null,105.54081406080168,{"$f":"2*PI()*R235/B56","v":6.9076301272354354E-3},4.7715164245408662E-5,5.9458304725694688E-3,-1.6634018610904207,-9.2453566086003747E-4,0.74678934682596321,-3.0765052779045732E-2,-0.94235627223179375]
[null,null,null,null,null,null,null,null,null,null,null,null,null,null,null,null,null,107.65163034201771,{"$f":"2*PI()*R236/B56","v":7.0457827297801439E-3},4.9642848906204822E-5,6.1848056454039124E-3,-1.5182787888860076,-9.6188331095081736E-4,0.64831266470923765,-3.2453077644660766E-2,-0.89719627948697767]
[null,null,null,null,null,null,null,null,null,null,null,null,null,null,null,null,null,109.80466294885807,{"$f":"2*PI()*R237/B56","v":7.1866983843757466E-3},5.164841136992504E-5,6.4333333383146396E-3,-1.3813100873797737,-1.000739509975368E-3,0.55726551370814548,-3.4256233312859763E-2,-0.85286821315614869]
[null,null,null,null,null,null,null,null,null,null,null,null,null,null,null,null,null,112.00075620783522,{"$f":"2*PI()*R238/B56","v":7.3304323520632609E-3},5.3734997845618942E-5,6.6917910385768664E-3,-1.2523529116767804,-1.0411651788819754E-3,0.47332794993999983,-3.6184665503952829E-2,-0.80955900138103853]
[null,null,null,null,null,null,null,null,null,null,null,null,null,null,null,null,null,114.24077133199194,{"$f":"2*PI()*R239/B56","v":7.4770409991045273E-3},5.5905881644715005E-5,6.9605707861768451E-3,-1.1312350088440866,-1.0832236978091103E-3,0.39616803680434032,-3.8249659410197978E-2,-0.76743928436157649]
[null,null,null,null,null,null,null,null,null,null,null,null,null,null,null,null,null,116.52558675863177,{"$f":"2*PI()*R240/B56","v":7.6265818190866183E-3},5.8164468315588255E-5,7.2400797038412179E-3,-1.0177572957322241,-1.1269810052665363E-3,0.32544575419115063,-4.046379700345426E-2,-0.72666223984595302]
[null,null,null,null,null,null,null,null,null,null,null,null,null,null,null,null,null,118.85609849380441,{"$f":"2*PI()*R241/B56","v":7.7791134554683504E-3},6.0514300985534494E-5,7.530740543813863E-3,-0.91169673604275658,-1.1725057013221019E-3,0.26081667493765792,-4.2841140234870068E-2,-0.68736296649747697]
[null,null,null,null,null,null,null,null,null,null,null,null,null,null,null,null,null,121.2332204636805,{"$f":"2*PI()*R242/B56","v":7.9346957245777176E-3},6.2959065918527233E-5,7.8329922513233896E-3,-0.81280943321358734,-1.2198691549265561E-3,0.20193535258931661,-4.5397445102096867E-2,-0.64965840262997077]
[null,null,null,null,null,null,null,null,null,null,null,null,null,null,null,null,null,123.65788487295411,{"$f":"2*PI()*R243/B56","v":8.0933896390692726E-3},6.5502598297472462E-5,8.1472905453807698E-3,-0.72083385478089212,-1.2691456155637937E-3,0.14845838046861104,-4.8150412659282438E-2,-0.61364774204174655]
[null,null,null,null,null,null,null,null,null,null,null,null,null,null,null,null,null,126.1310425704132,{"$f":"2*PI()*R244/B56","v":8.2552574318506579E-3},6.8148888240028091E-5,8.4741085167649999E-3,{"$f":"10*LOG10(($G$121+$G$122+$G$123)^2 + ( $G$121*$G$123*$T244 - ($G$122*($G$121+$G$123) + 4*$G$121*$G$123) )*$T244 )  - 10*LOG10( (1+$G$124+$G$125)^2 + ( 1*$G$125*$T244 - ($G$124*(1+$G$125) + 4*1*$G$125) )*$T244)","v":-0.63549410656234784},{"$f":"10*LOG10(($G$126+$G$127+$G$128)^2 + ( $G$126*$G$128*$T244 - ($G$127*($G$126+$G$128) + 4*$G$126*$G$128) )*$T244 )  - 10*LOG10( (1+$G$129+$G$130)^2 + ( 1*$G$130*$T244 - ($G$129*(1+$G$130) + 4*1*$G$130) )*$T244)","v":-1.3204123294050518E-3},{"$f":"10*LOG10(($G$131+$G$132+$G$133)^2 + ( $G$131*$G$133*$T244 - ($G$132*($G$131+$G$133) + 4*$G$131*$G$133) )*$T244 )  - 10*LOG10( (1+$G$134+$G$135)^2 + ( 1*$G$135*$T244 - ($G$134*(1+$G$135) + 4*1*$G$135) )*$T244)","v":0.10004709722008442},{"$f":"10*LOG10(($G$136+$G$137+$G$138)^2 + ( $G$136*$G$138*$T244 - ($G$137*($G$136+$G$138) + 4*$G$136*$G$138) )*$T244 )  - 10*LOG10( (1+$G$139+$G$140)^2 + ( 1*$G$140*$T244 - ($G$139*(1+$G$140) + 4*1*$G$140) )*$T244)","v":-5.1119984420026299E-2},{"$f":"U244+V244+W244+X244+Y244","v":-0.57941329757492976}]
[null,null,null,null,null,null,null,null,null,null,null,null,null,null,null,null,null,128.65366342182148,{"$f":"2*PI()*R245/B56","v":8.4203625804876725E-3},{"$f":"4*(SIN(S245/2))^2","v":7.0902087057420849E-5},{"$f":"10*LOG10(($G$116+$G$117+$G$118)^2 + ( $G$116*$G$118*T245 - ($G$117*($G$116+$G$118) + 4*$G$116*$G$118) )*T245 )  - 10*LOG10( (1+$G$119+$G$120)^2 + ( 1*$G$120*T245 - ($G$119*(1+$G$120) + 4*1*$G$120) )*T245)","v":8.8139372436017993E-3},-0.55650318078035355,-1.3737496601171628E-3,5.6369927757458527E-2,-5.4328691333452639E-2,-0.54702175677286302]
[null,null,null,null,null,null,null,null,null,null,null,null,null,null,null,null,null,131.22673669025792,{"$f":"2*PI()*R246/B56","v":8.588769832097427E-3},7.3766513766074021E-5,9.1672864246703512E-3,-0.48356611045822717,-1.4292412145433531E-3,1.7104360467016022E-2,-5.7802067699270765E-2,-0.51652577248035492]
[null,null,null,null,null,null,null,null,null,null,null,null,null,null,null,null,null,133.85127142406307,{"$f":"2*PI()*R247/B56","v":8.7605452287393727E-3},7.6746661862256543E-5,9.5346850304167674E-3,-0.41638297236225696,-1.4869739734431064E-3,-1.8061428603985519E-2,-6.1569144165943612E-2,-0.48796583407521243]
[null,null,null,null,null,null,null,null,null,null,null,null,null,null,null,null,null,136.52829685254434,{"$f":"2*PI()*R248/B56","v":8.9357561333141631E-3},7.9847206370374819E-5,9.9166819719229693E-3,-0.35465169170043964,-1.5470384274784976E-3,-4.9427286086654476E-2,-6.5663037508031152E-2,-0.4613723717506808]
[null,null,null,null,null,null,null,null,null,null,null,null,null,null,null,null,null,139.25886278959524,{"$f":"2*PI()*R249/B56","v":9.1144712559804459E-3},8.3073011175958212E-5,1.0313846787738612E-2,-0.29807061305415061,-1.609528718674369E-3,-7.7280101958393743E-2,-7.0121659445604223E-2,-0.43676805638908434]
[null,null,null,null,null,null,null,null,null,null,null,null,null,null,null,null,null,142.04404004538713,{"$f":"2*PI()*R250/B56","v":9.2967606811000542E-3},8.6429136654835663E-5,1.0726770348483683E-2,-0.24634081302129118,-1.6745427875664021E-3,-0.10189311250739763,-7.4988572680680932E-2,-0.41417027064845247]
[null,null,null,null,null,null,null,null,null,null,null,null,null,null,null,null,null,144.88492084629488,{"$f":"2*PI()*R251/B56","v":9.4826958947220544E-3},8.9920847610463499E-5,1.115606557932125E-2,-0.19916814032603725,-1.7421825262626811E-3,-0.12352545537980575,-8.0314030025931515E-2,-0.39359374267871594]
[null,null,null,null,null,null,null,null,null,null,null,null,null,null,null,null,null,147.78261926322077,{"$f":"2*PI()*R252/B56","v":9.6723498126164952E-3},9.3553621531849212E-5,1.1602368199817192E-2,-0.15626497834689701,-1.812553937651451E-3,-0.14242194570171307,-8.6156242605980538E-2,-0.37505335239242488]
[null,null,null,null,null,null,null,null,null,null,null,null,null,null,null,null,null,150.73827164848518,{"$f":"2*PI()*R253/B56","v":9.8657968088688257E-3},9.733315718501652E-5,1.2066337481222433E-2,-0.11735173292154855,-1.8857673010135301E-3,-0.15881304259636408,-9.2582936464310706E-2,-0.35856714180201443]
[null,null,null,null,null,null,null,null,null,null,null,null,null,null,null,null,null,153.75303708145489,{"$f":"2*PI()*R254/B56","v":1.0063112745046203E-2},1.0126538355148071E-4,1.2548657020538201E-2,-8.2158054786603429E-2,-1.9619373442765209E-3,-0.17291497660499999,-9.9673274695717851E-2,-0.34415958641105959]
[null,null,null,null,null,null,null,null,null,null,null,null,null,null,null,null,null,156.82809782308399,{"$f":"2*PI()*R255/B56","v":1.0264374999947127E-2},1.0535646912774647E-4,1.3050035531158244E-2,-5.0423811097871862E-2,-2.0411834231977011E-3,-0.18493001033094458,-0.1075202461080238,-0.3318652154288797]
[null,null,null,null,null,null,null,null,null,null,null,null,null,null,null,null,null,159.96465977954568,{"$f":"2*PI()*R256/B56","v":1.046966249994607E-2},1.0961283160040584E-4,1.3571207649221151E-2,-2.1899824210734664E-2,-2.1236297077305011E-3,-0.19504680685612641,-0.11623365376782147,-0.32173270689319189]
[null,null,null,null,null,null,null,null,null,null,null,null,null,null,null,null,null,163.1639529751366,{"$f":"2*PI()*R257/B56","v":1.0679055749944991E-2},1.1404114791200202E-4,1.4112934755303286E-2,3.6516016003673712E-3,-2.2094053758765497E-3,-0.20344088294932305,-0.12594388100444576,-0.3138296329739747]
[null,null,null,null,null,null,null,null,null,null,null,null,null,null,null,null,null,166.42723203463933,{"$f":"2*PI()*R258/B56","v":1.0892636864943891E-2},1.18648364733438E-4,1.4676005810201787E-2,2.6456343388460368E-2,-2.2986448153075045E-3,-0.2102751266577485,-0.1368066734781479,-0.30824809575254175]
[null,null,null,null,null,null,null,null,null,null,null,null,null,null,null,null,null,169.75577667533213,{"$f":"2*PI()*R259/B56","v":1.1110489602242771E-2},1.2344170935934366E-4,1.5261238204139715E-2,4.6728290150994667E-2,-2.3914878330950629E-3,-0.21570036143732807,-0.14900926101847745,-0.3051115819337662]
[null,null,null,null,null,null,null,null,null,null,null,null,null,null,null,null,null,173.15089220883877,{"$f":"2*PI()*R260/B56","v":1.1332699394287625E-2},1.2842870104347903E-4,1.5869478617993593E-2,6.4669318462165393E-2,-2.4880798738253773E-3,-0.21985594145070309,-0.16277826289832831,-0.30458348714269778]
[null,null,null,null,null,null,null,null,null,null,null,null,null,null,null,null,null,176.61391005301556,{"$f":"2*PI()*R261/B56","v":1.1559353382173379E-2},1.3361716279194054E-4,1.6501603895228811E-2,8.0469391583193328E-2,-2.5885722464780159E-3,-0.2228703649895607,-0.17838999127276622,-0.3068779330303828]
[null,null,null,null,null,null,null,null,null,null,null,null,null,null,null,null,null,180.14618825407587,{"$f":"2*PI()*R262/B56","v":1.1790540449816846E-2},1.3901523363265135E-4,1.7158521922880254E-2,9.430676175311703E-2,-2.6931223603829935E-3,-0.22486189512119381,-0.1961840144727347,-0.31227374827831422]
[null,null,null,null,null,null,null,null,null,null,null,null,null,null,null,null,null,183.74911201915739,{"$f":"2*PI()*R263/B56","v":1.2026351258813184E-2},1.4463138138036741E-4,1.7841172519844406E-2,0.10634825689390937,-2.8018939706448975E-3,-0.2259391785990772,-0.21658120308218543,-0.32113284623815375]
[null,null,null,null,null,null,null,null,null,null,null,null,null,null,null,null,null,187.42409425954054,{"$f":"2*PI()*R264/B56","v":1.2266878283989447E-2},1.5047441591720023E-4,1.855052833015236E-2,0.11674963466934685,-2.9150574333804968E-3,-0.22620185580460372,-0.24010801757873423,-0.33392476781721925]
[null,null,null,null,null,null,null,null,null,null,null,null,null,null,null,null,null,191.17257614473135,{"$f":"2*PI()*R265/B56","v":1.2512215849669236E-2},1.5655350300947124E-4,1.9287595719191586E-2,0.12565598862634886,-3.0327899711926065E-3,-0.22574115600487232,-0.26742960316745723,-0.35125996479798172]
[null,null,null,null,null,null,null,null,null,null,null,null,null,null,null,null,null,194.99602766762598,{"$f":"2*PI()*R266/B56","v":1.2762460166662621E-2},1.6287817868254633E-4,2.0053415669714525E-2,0.13320219294409696,-3.1552759492470273E-3,-0.22464047352694649,-0.29939549195184156,-0.3739356328142236]
[null,null,null,null,null,null,null,null,null,null,null,null,null,null,null,null,null,198.89594822097851,{"$f":"2*PI()*R267/B56","v":1.3017709369995875E-2},1.6945836417617572E-4,2.08490646748416E-2,0.1395133740659702,-3.2827071624161874E-3,-0.22297592157488566,-0.3371036341067537,-0.40299982410324375]
[null,null,null,null,null,null,null,null,null,null,null,null,null,null,null,null,null,202.8738671853981,{"$f":"2*PI()*R268/B56","v":1.3278063557395792E-2},1.7630438150377224E-4,2.1675655624591172E-2,0.14470539915073743,-3.4152831338847278E-3,-0.22081686136927203,-0.38199152602958009,-0.43984261575740824]
[null,null,null,null,null,null,null,null,null,null,null,null,null,null,null,null,null,206.93134452910607,{"$f":"2*PI()*R269/B56","v":1.354362482854371E-2},1.8342696964000565E-4,2.2534338681843735E-2,0.14888537282492109,-3.5532114257019742E-3,-0.21822640508500513,-0.43596812901508031,-0.48632803401902258]
[null,null,null,null,null,null,null,null,null,null,null,null,null,null,null,null,null,211.06997141968819,{"$f":"2*PI()*R270/B56","v":1.3814497325114583E-2},1.9083730136207322E-4,2.3426302143583655E-2,0.15215213513150161,-3.6967079617458154E-3,-0.21526189172021759,-0.50160840605697388,-0.54498856846385202]
[null,null,null,null,null,null,null,null,null,null,null,null,null,null,null,null,null,215.29137084808195,{"$f":"2*PI()*R271/B56","v":1.4090787271616875E-2},1.985470007710322E-4,2.4352773282458884E-2,0.15459675484389379,-3.845997363560727E-3,-0.21197533556453152,-0.58244604415931178,-0.61931784896105135]
[null,null,null,null,null,null,null,null,null,null,null,null,null,null,null,null,null,219.5971982650436,{"$f":"2*PI()*R272/B56","v":1.4372603017049212E-2},2.0656816152063887E-4,2.5315019163087982E-2,0.15630301344435793,-4.0013132996294942E-3,-0.20841384736327484,-0.68342370703841482,-0.71422083509387324]
[null,null,null,null,null,null,null,null,null,null,null,null,null,null,null,null,null,223.98914223034447,{"$f":"2*PI()*R273/B56","v":1.4660055077390197E-2},2.1491336578225136E-4,2.6314347427266682E-2,0.15734787606041323,-4.1628988485582497E-3,-0.20462002861299311,-0.8116023910110215,-0.83672309498489295]
[null,null,null,null,null,null,null,null,null,null,null,null,null,null,null,null,null,228.46892507495136,{"$f":"2*PI()*R274/B56","v":1.4953256178938001E-2},2.2359570397549919E-4,2.7352107041153317E-2,0.15780194651266299,-4.3310068767521415E-3,-0.20063233968356542,-0.97730856194583282,-0.99711785495233407]
[null,null,null,null,null,null,null,null,null,null,null,null,null,null,null,null,null,233.0383035764504,{"$f":"2*PI()*R275/B56","v":1.5252321302516763E-2},2.3262879529562381E-4,2.8429688996936875E-2,0.15772990436789769,-4.5059004311367445E-3,-0.19648544265827184,-1.1960428240934675,-1.2108745738180415]
[null,null,null,null,null,null,null,null,null,null,null,null,null,null,null,null,null,237.69906964797943,{"$f":"2*PI()*R276/B56","v":1.5557367728567098E-2},2.4202680906963803E-4,2.9548526960624599E-2,0.15719092251725897,-4.6878531475167406E-3,-0.19221051992431626,-1.4917560703161712,-1.5019149939101206]
[null,null,null,null,null,null,null,null,null,null,null,null,null,null,null,null,null,242.45305104093902,{"$f":"2*PI()*R277/B56","v":1.586851508313844E-2},2.5180448697474899E-4,3.0710097856911034E-2,0.15623906432578849,-4.8771496751989218E-3,-0.18783556964251602,-1.9026702689281336,-1.908433826063149]
[null,null,null,null,null,null,null,null,null,null,null,null,null,null,null,null,null,247.30211206175781,{"$f":"2*PI()*R278/B56","v":1.6185885384801209E-2},2.6197716615383607E-4,3.1915922380463257E-2,0.15492365983517686,-5.074086118495913E-3,-0.18338567928581995,-2.4920423836201167,-2.4936625668087924]
[null,null,null,null,null,null,null,null,null,null,null,null,null,null,null,null,null,252.24815430299296,{"$f":"2*PI()*R279/B56","v":1.6509603092497233E-2},2.7256080326417943E-4,3.3167565422871803E-2,0.15328966085881746,-5.2789704957802996E-3,-0.17888327846540619,-3.3691311813617659,-3.3668362040412632]
[null,null,null,null,null,null,null,null,null,null,null,null,null,null,null,null,null,257.29311738905284,{"$f":"2*PI()*R280/B56","v":1.6839795154347179E-2},2.8357199949708941E-4,3.4466636402207484E-2,0.15137797509568429,-5.492123216781053E-3,-0.17434837227163769,-4.7335737887167397,-4.7275696727072667]
[null,null,null,null,null,null,null,null,null,null,null,null,null,null,null,null,null,262.43897973683391,{"$f":"2*PI()*R281/B56","v":1.7176591057434125E-2},2.9502802660760888E-4,3.5814789481733555E-2,0.14922577961812067,-5.7138775788132534E-3,-0.16979875634467589,-6.986021998479913,-6.9764940633035479]
[null,null,null,null,null,null,null,null,null,null,null,null,null,null,null,null,null,267.68775933157059,{"$f":"2*PI()*R282/B56","v":1.752012287858281E-2},3.0694685399503322E-4,3.7213723662375742E-2,0.1468668142659908,-5.9445802827049476E-3,-0.16525021486448566,-11.118444874369587,-11.105559131588411]
[null,null,null,null,null,null,null,null,null,null,null,null,null,null,null,null,null,273.04151451820201,{"$f":"2*PI()*R283/B56","v":1.7870525336154464E-2},3.1934717687663995E-4,3.8665182732138703E-2,0.14433165561412409,-6.1845919691547735E-3,-0.16071670261368354,-21.695356590595111,-21.679261046831687]
[null,null,null,null,null,null,null,null,null,null,null,null,null,null,null,null,null,278.50234480856608,{"$f":"2*PI()*R284/B56","v":1.8227935842877553E-2},3.3224844559872068E-4,4.0170955054030344E-2,0.14164797227807924,-6.4342877763428064E-3,-0.15621051222261428,-17.233060360405275,-17.213886233072124]
[null,null,null,null,null,null,null,null,null,null,null,null,null,null,null,null,null,284.07239170473741,{"$f":"2*PI()*R285/B56","v":1.8592494559735107E-2},3.4567089613078862E-4,4.1732873172001916E-2,0.1388407623912542,-6.694057919601093E-3,-0.15174242765669987,-9.6626926840864229,-9.6405555340994677]
[null,null,null,null,null,null,null,null,null,null,null,null,null,null,null,null,null,289.75383953883215,{"$f":"2*PI()*R286/B56","v":1.8964344450929808E-2},3.5963558179068087E-4,4.3352813212500507E-2,0.13593257413002391,-6.9643082939814249E-3,-0.14732186495344024,-6.2307194062549911,-6.2057201921598883]
[null,null,null,null,null,null,null,null,null,null,null,null,null,null,null,null,null,295.5489163296088,{"$f":"2*PI()*R287/B56","v":1.9343631339948403E-2},3.7416440625019431E-4,4.5032694056942546E-2,0.13294371018632489,-7.2454611006431691E-3,-0.14295700116133503,-4.2867358553613713,-4.258961913380082]
[null,null,null,null,null,null,null,null,null,null,null,null,null,null,null,null,null,301.45989465620096,{"$f":"2*PI()*R288/B56","v":1.9730503966747373E-2},3.8928015787289291E-4,4.677447625792297E-2,0.12989241709402677,-7.5379554979377872E-3,-0.13865489237795714,-3.0865286681191435,-3.0560546226430887]
[null,null,null,null,null,null,null,null,null,null,null,null,null,null,null,null,null,307.48909254932499,{"$f":"2*PI()*R289/B56","v":2.0125114046082321E-2},4.0500654543780296E-4,4.8580160669359884E-2,0.12679506030940502,-7.8422482781563829E-3,-0.13442158172885854,-2.3046326801676571,-2.2715212891959071]
[null,null,null,null,null,null,null,null,null,null,null,null,null,null,null,null,null,313.63887440031152,{"$f":"2*PI()*R290/B56","v":2.0527616327003968E-2},4.2136823530487501E-4,5.0451786757761852E-2,0.1236662859298292,-8.1588145709208248E-3,-0.13026219807505868,-1.773475375284562,-1.7377783152429505]
[null,null,null,null,null,null,null,null,null,null,null,null,null,null,null,null,null,319.91165188831775,{"$f":"2*PI()*R291/B56","v":2.0938168653544049E-2},4.3839089008033711E-4,5.239143055860751E-2,0.12051916991059386,-8.4881485742318574E-3,-0.12618104618356085,-1.3996896984933613,-1.3614482927819527]
[null,null,null,null,null,null,null,null,null,null,null,null,null,null,null,null,null,326.30988492608412,{"$f":"2*PI()*R292/B56","v":2.1356932026614931E-2},4.5610120884240354E-4,5.4401202238345547E-2,0.11736535561036021,-8.8307643142284675E-3,-0.12218168904534821,-1.12852301891526,-1.0877689144261309]
[null,null,null,null,null,null,null,null,null,null,null,null,null,null,null,null,null,332.83608262460581,{"$f":"2*PI()*R293/B56","v":2.1784070667147229E-2},4.7452696899023767E-4,5.6483243218721668E-2,0.11421518046179813,-9.1871964347500779E-3,-0.11826702297588554,-0.92653816522472709,-0.88329396095484292]
[null,null,null,null,null,null,null,null,null,null,null,null,null,null,null,null,null,339.49280427709795,{"$f":"2*PI()*R294/B56","v":2.2219752080490176E-2},4.9369706978159172E-4,5.8639722815570394E-2,0.1110777925273112,-9.5580010178331065E-3,-0.11443934608759321,-0.77258542773131467,-0.72686525949385938]
[null,null,null,null,null,null,null,null,null,null,null,null,null,null,null,null,null,346.28266036263989,{"$f":"2*PI()*R295/B56","v":2.2664147122099975E-2},5.1364157762718091E-4,6.0872834340379711E-2,0.10796125766158582,-9.9437564362947484E-3,-0.11070042067922259,-0.6528618474894472,-0.60467193260299901]
[null,null,null,null,null,null,null,null,null,null,null,null,null,null,null,null,null,353.20831356989271,{"$f":"2*PI()*R296/B56","v":2.3117430064541977E-2},5.3439177321258494E-4,6.31847906069396E-2,0.10487265796328415,-1.0345064239633217E-2,-0.10705153004691681,-0.55810235738165659,-0.50744150309798286]
[null,null,null,null,null,null,null,null,null,null,null,null,null,null,null,null,null,360.27247984129059,{"$f":"2*PI()*R297/B56","v":2.3579778665832819E-2},5.5598020052131003E-4,6.557781878075275E-2,0.10181818215920657,-1.0762550074473687E-2,-0.10349353018156648,-0.48192860864463682,-0.42878868796071767]
[null,null,null,null,null,null,null,null,null,null,null,null,null,null,null,null,null,367.4779294381164,{"$f":"2*PI()*R298/B56","v":2.4051374239149478E-2},5.784407178356124E-4,6.8054154502299014E-2,9.8803208525154673E-2,-1.1196864640851345E-2,-0.1000268967827509,-0.41984843621989398,-0.36421483461604254]
[null,null,null,null,null,null,null,null,null,null,null,null,null,null,null,null,null,374.82748802687871,{"$f":"2*PI()*R299/B56","v":2.4532401723932465E-2},6.0180855079475151E-4,7.0616035209027928E-2,9.5832380909982362E-2,-1.1648684685692245E-2,-9.6651767983502168E-2,-0.368632495687919,-0.31048453223810313]
[null,null,null,null,null,null,null,null,null,null,null,null,null,null,null,null,null,382.32403778741627,{"$f":"2*PI()*R300/B56","v":2.5023049758411114E-2},6.2612034759355049E-4,7.3265692573613705E-2,9.2909678391976058E-2,-1.21187140348189E-2,-9.3367983150841383E-2,-0.32591585850428828,-0.2652271847243588]
[null,null,null,null,null,null,null,null,null,null,null,null,null,null,null,null,null,389.97051854316459,{"$f":"2*PI()*R301/B56","v":2.5523510753579334E-2},6.5141423640745937E-4,7.6005343968269301E-2,9.0038479061604448E-2,-1.2607684664946106E-2,-9.0175118096205154E-2,-0.28993735588059621,-0.22667633561187372]
[null,null,null,null,null,null,null,null,null,null,null,null,null,null,null,null,null,397.7699289140279,{"$f":"2*PI()*R302/B56","v":2.6033980968650922E-2},6.7772988513378578E-4,7.8837182856311472E-2,8.7221618390380229E-2,-1.3116357817128055E-2,-8.7072517003605299E-2,-0.25936534560239011,-0.19349541917643176]
[null,null,null,null,null,null,null,null,null,null,null,null,null,null,null,null,null,405.72532749230845,{"$f":"2*PI()*R303/B56","v":2.6554660588023939E-2},7.0510856354235067E-4,8.1763368003109349E-2,8.4461442613488202E-2,-1.3645525153129334E-2,-8.4059321358154193E-2,-0.23317893142012736,-0.16465896731481333]
[null,null,null,null,null,null,null,null,null,null,null,null,null,null,null,null,null,413.83983404215462,{"$f":"2*PI()*R304/B56","v":2.7085753799784416E-2},7.3359320793257182E-4,8.4786011387805615E-2,8.1759857522847312E-2,-1.4196009956353173E-2,-8.1134496133905998E-2,-0.21058550853534541,-0.13937014571495165]
[null,null,null,null,null,null,null,null,null,null,null,null,null,null,null,null,null,422.11663072299774,{"$f":"2*PI()*R305/B56","v":2.762746887578011E-2},7.6322848839786611E-4,8.7907164686882311E-2,7.9118373038561174E-2,-1.4768668378854599E-2,-7.8296853479379536E-2,-0.1909625658158518,-0.11700254994864245]
[null,null,null,null,null,null,null,null,null,null,null,null,null,null,null,null,null,430.55896333745773,{"$f":"2*PI()*R306/B56","v":2.8180018253295715E-2},7.9406087880230661E-4,9.1128804187924572E-2,7.6538143899426814E-2,-1.5364390736166911E-2,-7.554507411855127E-2,-0.1738159746534933,-9.7058491420860094E-2]
[null,null,null,null,null,null,null,null,null,null,null,null,null,null,null,null,null,439.17014260420689,{"$f":"2*PI()*R307/B56","v":2.8743618618361628E-2},8.2613872957868427E-4,9.445281397915295E-2,7.4020006787463899E-2,-1.5984102851586357E-2,-7.2877726667577747E-2,-0.15874966835274051,-7.9138677105287769E-2]
[null,null,null,null,null,null,null,null,null,null,null,null,null,null,null,null,null,447.95354545629101,{"$f":"2*PI()*R308/B56","v":2.9318490990728863E-2},8.5951234346148787E-4,9.7880967245750128E-2,{"$f":"10*LOG10(($G$121+$G$122+$G$123)^2 + ( $G$121*$G$123*$T308 - ($G$122*($G$121+$G$123) + 4*$G$121*$G$123) )*$T308 )  - 10*LOG10( (1+$G$124+$G$125)^2 + ( 1*$G$125*$T308 - ($G$124*(1+$G$125) + 4*1*$G$125) )*$T308)","v":7.156451417777987E-2},{"$f":"10*LOG10(($G$126+$G$127+$G$128)^2 + ( $G$126*$G$128*$T308 - ($G$127*($G$126+$G$128) + 4*$G$126*$G$128) )*$T308 )  - 10*LOG10( (1+$G$129+$G$130)^2 + ( 1*$G$130*$T308 - ($G$129*(1+$G$130) + 4*1*$G$130) )*$T308)","v":-1.6628767451724258E-2},{"$f":"10*LOG10(($G$131+$G$132+$G$133)^2 + ( $G$131*$G$133*$T308 - ($G$132*($G$131+$G$133) + 4*$G$131*$G$133) )*$T308 )  - 10*LOG10( (1+$G$134+$G$135)^2 + ( 1*$G$135*$T308 - ($G$134*(1+$G$135) + 4*1*$G$135) )*$T308)","v":-7.0293285050233578E-2},{"$f":"10*LOG10(($G$136+$G$137+$G$138)^2 + ( $G$136*$G$138*$T308 - ($G$137*($G$136+$G$138) + 4*$G$136*$G$138) )*$T308 )  - 10*LOG10( (1+$G$139+$G$140)^2 + ( 1*$G$140*$T308 - ($G$139*(1+$G$140) + 4*1*$G$140) )*$T308)","v":-0.14544331147885714},{"$f":"U308+V308+W308+X308+Y308","v":-6.2919882557284978E-2}]
[null,null,null,null,null,null,null,null,null,null,null,null,null,null,null,null,null,456.91261636541685,{"$f":"2*PI()*R309/B56","v":2.990486081054344E-2},{"$f":"4*(SIN(S309/2))^2","v":8.9423405427286825E-4},{"$f":"10*LOG10(($G$116+$G$117+$G$118)^2 + ( $G$116*$G$118*T309 - ($G$117*($G$116+$G$118) + 4*$G$116*$G$118) )*T309 )  - 10*LOG10( (1+$G$119+$G$120)^2 + ( 1*$G$120*T309 - ($G$119*(1+$G$120) + 4*1*$G$120) )*T309)","v":0.10141490548861753},6.9171965182547979E-2,-1.7299385615073604E-2,-6.7790144179916467E-2,-0.13363565327092886,-4.8138312394753413E-2]
[null,null,null,null,null,null,null,null,null,null,null,null,null,null,null,null,null,466.0508686927252,{"$f":"2*PI()*R310/B56","v":3.0502958026754311E-2},9.303583088843873E-4,0.10505611546393823,6.6842433637006593E-2,-1.7996998275492615E-2,-6.5366634062002049E-2,-0.12311197796046258,-3.4577061197012426E-2]
[null,null,null,null,null,null,null,null,null,null,null,null,null,null,null,null,null,475.37188606657969,{"$f":"2*PI()*R311/B56","v":3.1113017187289392E-2},9.679417524822531E-4,0.10880590362382492,6.4575793656374003E-2,-1.872268778247399E-2,-6.3021032456987314E-2,-0.11369454421065228,-2.2056567169914665E-2]
[null,null,null,null,null,null,null,null,null,null,null,null,null,null,null,null,null,484.87932378791129,{"$f":"2*PI()*R312/B56","v":3.173527753103518E-2},1.0070433172688722E-3,0.11266536781809577,6.237174287407754E-2,-1.9477579520160937E-2,-6.0751576233279536E-2,-0.10523523035192284,-1.0427275413189996E-2]
[null,null,null,null,null,null,null,null,null,null,null,null,null,null,null,null,null,494.5769102636695,{"$f":"2*PI()*R313/B56","v":3.2369983081655881E-2},1.0477243147388447E-3,0.11663536599549218,6.0229823555694395E-2,-2.0262843587108392E-2,-5.8556471527161591E-2,-9.7609824737595829E-2,4.3604969932076187E-4]
[null,null,null,null,null,null,null,null,null,null,null,null,null,null,null,null,null,504.46844846894288,{"$f":"2*PI()*R314/B56","v":3.3017382743288998E-2},1.0900485316730664E-3,0.12071648161931137,5.81494417666093E-2,-2.107969653882158E-2,-5.6433902817843773E-2,-9.0713555308767013E-2,1.0638768720488301E-2]
[null,null,null,null,null,null,null,null,null,null,null,null,null,null,null,null,null,514.55781743832176,{"$f":"2*PI()*R315/B56","v":3.3677730398154783E-2},1.1340823300003341E-3,0.12490898548678331,5.6129884758320259E-2,-2.1929403195186659E-2,-5.4382041015749394E-2,-8.4457561345850252E-2,2.0269864688317263E-2]
[null,null,null,null,null,null,null,null,null,null,null,null,null,null,null,null,null,524.8489737870882,{"$f":"2*PI()*R316/B56","v":3.4351285006117879E-2},1.1798947506818272E-3,0.12921279361400906,5.4170336723736057E-2,-2.2813278514887791E-2,-5.2399050654500456E-2,-7.8766087870064894E-2,2.9404713298291973E-2]
[null,null,null,null,null,null,null,null,null,null,null,null,null,null,null,null,null,535.34595326282999,{"$f":"2*PI()*R317/B56","v":3.5038310706240236E-2},1.2275576217800324E-3,0.13362742081888257,5.2269893060817196E-2,-2.3732689539033736E-2,-5.0483096268131078E-2,-7.3574238890515176E-2,3.8107289182019777E-2]
[null,null,null,null,null,null,null,null,null,null,null,null,null,null,null,null,null,546.05287232808655,{"$f":"2*PI()*R318/B56","v":3.5739076920365043E-2},1.2771456708801448E-3,0.13815192960185385,5.0427573271797144E-2,-2.4689057406156678E-2,-4.8632348029542527E-2,-6.8826166185068871E-2,4.6431931252882919E-2]
[null,null,null,null,null,null,null,null,null,null,null,null,null,null,null,null,null,556.97392977464824,{"$f":"2*PI()*R319/B56","v":3.6453858458772338E-2},1.3287366420386586E-3,0.14278487389077554,4.864233261525186E-2,-2.5683859440881918E-2,-4.6844986718106441E-2,-6.4473600003076115E-2,5.442476034396293E-2]
[null,null,null,null,null,null,null,null,null,null,null,null,null,null,null,null,null,568.1134083701412,{"$f":"2*PI()*R320/B56","v":3.7182935627947784E-2},1.3824114174408517E-3,0.14752423717857255,4.691307261855826E-2,-2.6718631318518149E-2,-4.5119208079682949E-2,-6.0474650059532564E-2,6.2124820339397147E-2]
[null,null,null,null,null,null,null,null,null,null,null,null,null,null,null,null,null,579.47567653754402,{"$f":"2*PI()*R321/B56","v":3.7926594340506742E-2},1.4382541439560915E-3,0.15236736454341582,4.5238650549450199E-2,-2.7794969307891826E-2,-4.3453226635811859E-2,-5.6792821597674958E-2,6.9564997551487373E-2]
[null,null,null,null,null,null,null,null,null,null,null,null,null,null,null,null,null,591.0651900682949,{"$f":"2*PI()*R322/B56","v":3.8685126227316874E-2},1.4963523647874258E-3,0.1573108879991878,4.3617887937209332E-2,-2.8914532594769504E-2,-4.1845278994856017E-2,-5.3396203642009255E-2,7.6772760704762355E-2]
[null,null,null,null,null,null,null,null,null,null,null,null,null,null,null,null,null,602.88649386966085,{"$f":"2*PI()*R323/B56","v":3.9458828751863219E-2},1.5567971564197369E-3,0.16235064457912074,4.2049578226745155E-2,-3.0079045688208517E-2,-4.0293626712369246E-2,-5.0256795924802589E-2,8.3770754480485543E-2]
[null,null,null,null,null,null,null,null,null,null,null,null,null,null,null,null,null,614.94422374705402,{"$f":"2*PI()*R324/B56","v":4.0248005326900475E-2},1.6196832710788673E-3,0.16748158650844402,4.0532493641670442E-2,-3.1290300912196756E-2,-3.8796558744436993E-2,-4.7349948117776819E-2,9.0577272375703899E-2]
[null,null,null,null,null,null,null,null,null,null,null,null,null,null,null,null,null,627.24310822199516,{"$f":"2*PI()*R325/B56","v":4.105296543343849E-2},1.6851092849225697E-3,0.17269768277254371,3.9065391326097654E-2,-3.2550160984975207E-2,-3.735239353362374E-2,-4.4653890498338455E-2,9.7206629081703966E-2]
[null,null,null,null,null,null,null,null,null,null,null,null,null,null,null,null,null,639.78797038643506,{"$f":"2*PI()*R326/B56","v":4.187402474210726E-2},1.7531777521929076E-3,0.17799181133474917,3.764701882968069E-2,-3.3860561688376478E-2,-3.5959480763779084E-2,-4.2149339435106015E-2,0.10366944827716829]
[null,null,null,null,null,null,null,null,null,null,null,null,null,null,null,null,null,652.58372979416379,{"$f":"2*PI()*R327/B56","v":4.2711505236949408E-2},1.8239953655688507E-3,0.18335564120419434,3.6276118993995965E-2,-3.5223514629530328E-2,-3.4616202816586394E-2,-3.98191643920498E-2,0.10997287836002378]
[null,null,null,null,null,null,null,null,null,null,null,null,null,null,null,null,null,665.63540439004703,{"$f":"2*PI()*R328/B56","v":4.3565735341688394E-2},1.8976731229672827E-3,0.18877950349869366,3.4951434294541173E-2,-3.6641110097269447E-2,-3.332097596007344E-2,-3.7648105747940974E-2,0.11612074598795097]
[null,null,null,null,null,null,null,null,null,null,null,null,null,null,null,null,null,678.94811247784799,{"$f":"2*PI()*R329/B56","v":4.4437050048522157E-2},1.9743265010504821E-3,0.19425225059083573,3.3671710687301015E-2,-3.8115520015509219E-2,-3.2072251296426657E-2,-3.5622534774226722E-2,0.12211365519197415]
[null,null,null,null,null,null,null,null,null,null,null,null,null,null,null,null,null,692.52707472740497,{"$f":"2*PI()*R330/B56","v":4.5325791049492609E-2},2.0540756357083538E-3,0.19976110236833478,3.2435701005162798E-2,-3.9649000995805039E-2,-3.0868515493899906E-2,-3.373024873627628E-2,0.12794903814751635]
[null,null,null,null,null,null,null,null,null,null,null,null,null,null,null,null,null,706.37761622195308,{"$f":"2*PI()*R331/B56","v":4.6232306870482458E-2},2.137045509794302E-3,0.20529147858377428,3.1242167945293886E-2,-4.1243897491264114E-2,-2.9708291325903247E-2,-3.1960295374481973E-2,0.13362116233741883]
[null,null,null,null,null,null,null,null,null,null,null,null,null,null,null,null,null,720.50516854639216,{"$f":"2*PI()*R332/B56","v":4.7156953007892112E-2},2.2233661484047048E-3,0.21082681621380317,3.0089886685516376E-2,-4.2902645053850108E-2,-2.8590138037493773E-2,-3.0302822055212175E-2,0.13912109775276349]
[null,null,null,null,null,null,null,null,null,null,null,null,null,null,null,null,null,734.91527191731996,{"$f":"2*PI()*R333/B56","v":4.8100092068049945E-2},2.3131728220033374E-3,0.21634837069688473,2.8977647164055043E-2,-4.4627773697037298E-2,-2.7512651558353696E-2,-2.874894571335318E-2,0.1444366468921956]
[null,null,null,null,null,null,null,null,null,null,null,null,null,null,null,null,null,749.61357735566639,{"$f":"2*PI()*R334/B56","v":4.906209390941095E-2},2.4066062577040685E-3,0.221834999872776,2.7904256054299026E-2,-4.6421911365609247E-2,-2.6474464579294477E-2,-2.7290640379675324E-2,0.14955223960249597]
[null,null,null,null,null,null,null,null,null,null,null,null,null,null,null,null,null,764.60584890277971,{"$f":"2*PI()*R335/B56","v":5.0043335787599168E-2},2.5038128590374326E-3,0.22726292940850357,2.6868538463681091E-2,-4.8287787514255776E-2,-2.5474246507698695E-2,-2.5920639631245024E-2,0.15444879421898516]
[null,null,null,null,null,null,null,null,null,null,null,null,null,null,null,null,null,779.89796588083527,{"$f":"2*PI()*R336/B56","v":5.1044202503351149E-2},2.6049449345395895E-3,0.23260549846816758,2.5869339382893486E-2,-5.0228236796390213E-2,-2.4510703316018123E-2,-2.463235174766254E-2,0.15910354599099019]
[null,null,null,null,null,null,null,null,null,null,null,null,null,null,null,null,null,795.49592519845203,{"$f":"2*PI()*R337/B56","v":5.2065086553418176E-2},2.7101609355154326E-3,0.23783288437024197,2.490552490971254E-2,-5.2246202864417057E-2,-2.3582577296295426E-2,-2.3419785718658659E-2,0.16348984340058337]
[null,null,null,null,null,null,null,null,null,null,null,null,null,null,null,null,null,811.40584370242107,{"$f":"2*PI()*R338/B56","v":5.3106388284486543E-2},2.8196257033414837E-3,0.24291180498091336,2.3975983269501455E-2,-5.4344742282386171E-2,-2.2688646731978679E-2,-2.2277486547920944E-2,0.16757691268812902]
[null,null,null,null,null,null,null,null,null,null,null,null,null,null,null,null,null,827.63396057646946,{"$f":"2*PI()*R339/B56","v":5.4168516050176266E-2},2.9335107266885607E-3,0.2478051976207496,2.307962565262045E-2,-5.6527028551637493E-2,-2.1827725497814754E-2,-2.1200478543413226E-2,0.17132959068050457]
[null,null,null,null,null,null,null,null,null,null,null,null,null,null,null,null,null,844.18663978799884,{"$f":"2*PI()*R340/B56","v":5.5251886371179795E-2},3.0519944090591083E-3,0.25247187331978438,2.2215386886898614E-2,-5.8796356249708026E-2,-2.099866259720784E-2,-2.0184215488391999E-2,0.17470802587137513]
[null,null,null,null,null,null,null,null,null,null,null,null,null,null,null,null,null,861.07037258375885,{"$f":"2*PI()*R341/B56","v":5.6356924098603392E-2},3.1752623470495261E-3,0.25686614535107566,2.138222596227024E-2,-6.1156145282336816E-2,-2.0200341645633557E-2,-1.9224536756631494E-2,0.17766734762874403]
[null,null,null,null,null,null,null,null,null,null,null,null,null,null,null,null,null,878.29178003543404,{"$f":"2*PI()*R342/B56","v":5.7484062580575465E-2},3.3035076197639448E-3,0.26093743111291445,2.0579126422667571E-2,-6.3609945247892874E-2,-1.943168030788911E-2,-1.8317628575701406E-2,0.18015730340409863]
[null,null,null,null,null,null,null,null,null,null,null,null,null,null,null,null,null,895.85761563614278,{"$f":"2*PI()*R343/B56","v":5.8633743832186967E-2},3.4369310898224917E-3,0.26462982662425105,1.9805096639231579E-2,-6.6161439913044795E-2,-1.8691629696270695E-2,-1.7459989760560291E-2,0.18212186389360685]
[null,null,null,null,null,null,null,null,null,null,null,null,null,null,null,null,null,913.7747679488657,{"$f":"2*PI()*R344/B56","v":5.9806418708830716E-2},3.5757417164244357E-3,0.26788165315843315,1.9059169977609258E-2,-6.8814451797815757E-2,-1.7979173735916731E-2,-1.6648401337732821E-2,0.1834987962645771]
[null,null,null,null,null,null,null,null,null,null,null,null,null,null,null,null,null,932.05026330784301,{"$f":"2*PI()*R345/B56","v":6.1002547083007327E-2},3.7201568809444698E-3,0.27062497587905199,1.8340404870684779E-2,-7.1572946867438425E-2,-1.7293328502979932E-2,-1.5879899564048117E-2,0.18421920581527029]
[null,null,null,null,null,null,null,null,null,null,null,null,null,null,null,null,null,950.69126857399988,{"$f":"2*PI()*R346/B56","v":6.222259802466748E-2},3.8704027255590866E-3,0.27278509477194035,1.7647884807651337E-2,-7.4441039327657776E-2,-1.6633141540971508E-2,-1.5151751913407452E-2,0.18420704679755495]
[null,null,null,null,null,null,null,null,null,null,null,null,null,null,null,null,null,969.70509394547992,{"$f":"2*PI()*R347/B56","v":6.3467049985160826E-2},4.026714505419195E-3,0.27428000870543912,1.6980718248696292E-2,-7.7422996519116438E-2,-1.5997691159505223E-2,-1.4461435664621547E-2,0.1833786036108922]
[null,null,null,null,null,null,null,null,null,null,null,null,null,null,null,null,null,989.09919582438954,{"$f":"2*PI()*R348/B56","v":6.4736390984864042E-2},4.1893369549052262E-3,0.27501985411285546,1.6338038474195571E-2,-8.0523243905449959E-2,-1.5386085719967468E-2,-1.3806618773472223E-2,0.18164194418816137]
[null,null,null,null,null,null,null,null,null,null,null,null,null,null,null,null,null,1008.8811797408773,{"$f":"2*PI()*R349/B56","v":6.603111880456132E-2},4.3585246685216832E-3,0.27490632059330267,1.571900337637544E-2,-8.3746370148506166E-2,-1.479746291150974E-2,-1.3185142754615242E-2,0.17889634815504696]
[null,null,null,null,null,null,null,null,null,null,null,null,null,null,null,null,null,1029.0588033356948,{"$f":"2*PI()*R350/B56","v":6.7351741180652555E-2},4.5345424970096148E-3,0.27383204668893768,1.512279520029125E-2,-8.7097132262739407E-2,-1.4230989020830975E-2,-1.2595007336088315E-2,0.17503171326957023]
[null,null,null,null,null,null,null,null,null,null,null,null,null,null,null,null,null,1049.6399794024087,{"$f":"2*PI()*R351/B56","v":6.8698776004265605E-2},4.7176659592778154E-3,0.2716800002339923,1.4548620241292554E-2,-9.0580460839277954E-2,-1.3685858198442702E-2,-1.2034356679343716E-2,0.16992794475822048]
[null,null,null,null,null,null,null,null,null,null,null,null,null,null,null,null,null,1070.6327789904569,{"$f":"2*PI()*R352/B56","v":7.0072751524350912E-2},4.9081816707766358E-3,0.26832284900072523,1.3995708504111803E-2,-9.4201465328482392E-2,-1.31612917245576E-2,-1.1501466985123443E-2,0.1634543334666736]
[null,null,null,null,null,null,null,null,null,null,null,null,null,null,null,null,null,1092.045434570266,{"$f":"2*PI()*R353/B56","v":7.1474206554837938E-2},5.1063877889623091E-3,0.26362232890193837,1.3463313329566517E-2,-9.7965439367788676E-2,-1.2656537276100721E-2,-1.0994735328260674E-2,0.15546893025935482]
[null,null,null,null,null,null,null,null,null,null,null,null,null,null,null,null,null,1113.8863432616713,{"$f":"2*PI()*R354/B56","v":7.2903690685934691E-2},5.3125944765244114E-3,0.25742861875873757,1.2950710993330006E-2,-0.10187786613948813,-1.2170868197735274E-2,-1.0512669583796708E-2,0.14581792583104747]
[null,null,null,null,null,null,null,null,null,null,null,null,null,null,null,null,null,1136.1640701269048,{"$f":"2*PI()*R355/B56","v":7.4361764499653385E-2},5.5271243830749559E-3,0.24957973260570299,1.2457200281325242E-2,-0.10594442374056001,-1.1703582778025634E-2,-1.0053879324395609E-2,0.13433504704404697]
[null,null,null,null,null,null,null,null,null,null,null,null,null,null,null,null,null,1158.8873515294429,{"$f":"2*PI()*R356/B56","v":7.584899978964646E-2},5.7503131460240504E-3,0.23990094267778517,1.1982102045607235E-2,-0.11017099054392521,-1.1254003532791046E-2,-9.6170675832780717E-3,0.12084098306339808]
[null,null,null,null,null,null,null,null,null,null,null,null,null,null,null,null,null,1182.0650985600319,{"$f":"2*PI()*R357/B56","v":7.7365979785439382E-2},5.9825099113948177E-3,0.22820424858092281,1.1524758744258179E-2,-0.11456365052729112,-1.0821476496644777E-2,-9.2010233898633942E-3,0.1051428569113817]
[null,null,null,null,null,null,null,null,null,null,null,null,null,null,null,null,null,1205.7064005312325,{"$f":"2*PI()*R358/B56","v":7.8913299381148189E-2},6.2240778753587089E-3,0.21428791065680741,1.1084533968556798E-2,-0.11912869854225416,-1.0405370524217972E-2,-8.80461499620111E-3,8.7033760562690965E-2]
[null,null,null,null,null,null,null,null,null,null,null,null,null,null,null,null,null,1229.8205285418571,{"$f":"2*PI()*R359/B56","v":8.049156536877114E-2},6.4753948473019072E-3,0.19793606815038345,1.0660811960363503E-2,-0.12387264549232402,-1.0005076601899532E-2,-8.4267837221858599E-3,6.6292374294337542E-2]
[null,null,null,null,null,null,null,null,null,null,null,null,null,null,null,null,null,1254.4169391126943,{"$f":"2*PI()*R360/B56","v":8.2101396676146562E-2},6.7368538352642164E-3,0.17891846539610157,1.0252997122066176E-2,-0.12880222338402181,-9.6200071710512702E-3,-8.0665383553935044E-3,4.2682693607701161E-2]
[null,null,null,null,null,null,null,null,null,null,null,null,null,null,null,null,null,1279.5052778949482,{"$f":"2*PI()*R361/B56","v":8.3743424609669492E-2},7.008863654623252E-3,0.15699031174175104,9.86051352155215E-3,-0.1339243902102174,-9.2495954633520228E-3,-7.7229500492990155E-3,1.5953889540434751E-2]
[null,null,null,null,null,null,null,null,null,null,null,null,null,null,null,null,null,1305.0953834528473,{"$f":"2*PI()*R362/B56","v":8.5418293101862899E-2},7.2918495609297241E-3,0.13189230318450029,9.4828043943024909E-3,-0.13924633461914127,-8.8932948490594299E-3,-7.3951476695839347E-3,-1.4159669558981847E-2]
[null,null,null,null,null,null,null,null,null,null,null,null,null,null,null,null,null,1331.1972911219043,{"$f":"2*PI()*R363/B56","v":8.7126658963900164E-2},7.5862539078332455E-3,0.10335083552276814,9.1193316442854666E-3,-0.14477548031614607,-8.5505781985517615E-3,-7.0823135439468388E-3,-4.7938204891591063E-2]
[null,null,null,null,null,null,null,null,null,null,null,null,null,null,null,null,null,1357.8212369443424,{"$f":"2*PI()*R364/B56","v":8.8869192143178163E-2},7.8925368310732071E-3,7.1078440019370248E-2,8.7695753454255509E-3,-0.15051949013811328,-8.2209372575334783E-3,-6.7836795759390611E-3,-8.5676091606790017E-2]
[null,null,null,null,null,null,null,null,null,null,null,null,null,null,null,null,null,1384.9776616832294,{"$f":"2*PI()*R365/B56","v":9.0646575986041741E-2},8.2111769595453465E-3,3.4774472883064789E-2,8.4330332449198409E-3,-0.15648626973235213,-7.9038820363805939E-3,-6.4985236873980057E-3,-0.1276811693281461]
[null,null,null,null,null,null,null,null,null,null,null,null,null,null,null,null,null,1412.6772149168939,{"$f":"2*PI()*R366/B56","v":9.2459507505762567E-2},8.5426721544919586E-3,-5.8739109581580351E-3,8.109220269908235E-3,-0.16268397076270791,-7.5989402138318951E-3,-6.2261665580436443E-3,-0.17427376822283325]
[null,null,null,null,null,null,null,null,null,null,null,null,null,null,null,null,null,1440.9307592152318,{"$f":"2*PI()*R367/B56","v":9.4308697655877821E-2},8.8875402779023983E-3,-5.1190471572098772E-2,7.7976680383642361E-3,-0.1691209935554383,-7.3056565549691754E-3,-5.9659686340225448E-3,-0.22578542227816456]
[null,null,null,null,null,null,null,null,null,null,null,null,null,null,null,null,null,1469.7493743995365,{"$f":"2*PI()*R368/B56","v":9.6194871608995369E-2},9.2463199912501473E-3,-0.10150826094600518,7.4979243752935076E-3,-0.1758059890858954,-7.0235923439838643E-3,-5.7173273802604285E-3,-0.28255724538085136]
[null,null,null,null,null,null,null,null,null,null,null,null,null,null,null,null,null,1499.1443618875271,{"$f":"2*PI()*R369/B56","v":9.811876904117528E-2},9.6195715857340085E-3,-0.15716764469874533,7.2095528352136284E-3,-0.18274786019416567,-6.7523248314458328E-3,-5.4796747540848401E-3,-0.34493795164322805]
[null,null,null,null,null,null,null,null,null,null,null,null,null,null,null,null,null,1529.1272491252778,{"$f":"2*PI()*R370/B56","v":0.10008114442199879},1.0007877845233191E-2,-0.21851395811000174,6.9321322313768974E-3,-0.1899557619032306,-6.4914466962875395E-3,-5.2524748798248311E-3,-0.41328150935796781]
[null,null,null,null,null,null,null,null,null,null,null,null,null,null,null,null,null,1559.7097941077834,{"$f":"2*PI()*R371/B56","v":0.10208276731043878},1.0411844943229932E-2,-0.28589479610129587,6.665256172581735E-3,-0.19743910069689097,-6.2405655223827239E-3,-5.0352219062048675E-3,-0.48794442805419269]
[null,null,null,null,null,null,null,null,null,null,null,null,null,null,null,null,null,1590.9039899899392,{"$f":"2*PI()*R372/B56","v":0.10412442265664756},1.0832103374998271E-2,-0.35965694900260559,6.4085326080700611E-3,-0.20520753259628055,-5.9993032894709586E-3,-4.8274380302402164E-3,{"$f":"U372+V372+W372+X372+Y372","v":-0.56928269031052725}]
[null,null,null,null,null,null,null,null,null,null,null,null,null,null,null,null,null,1622.722069789738,{"$f":"2*PI()*R373/B56","v":0.10620691110978051},{"$f":"4*(SIN(S373/2))^2","v":1.1269308926403937E-2},{"$f":"10*LOG10(($G$116+$G$117+$G$118)^2 + ( $G$116*$G$118*T373 - ($G$117*($G$116+$G$118) + 4*$G$116*$G$118) )*T373 )  - 10*LOG10( (1+$G$119+$G$120)^2 + ( 1*$G$120*T373 - ($G$119*(1+$G$120) + 4*1*$G$120) )*T373)","v":-0.44014300999382527},{"$f":"10*LOG10(($G$121+$G$122+$G$123)^2 + ( $G$121*$G$123*$T373 - ($G$122*($G$121+$G$123) + 4*$G$121*$G$123) )*$T373 )  - 10*LOG10( (1+$G$124+$G$125)^2 + ( 1*$G$125*$T373 - ($G$124*(1+$G$125) + 4*1*$G$125) )*$T373)","v":6.1615833808943421E-3},{"$f":"10*LOG10(($G$126+$G$127+$G$128)^2 + ( $G$126*$G$128*$T373 - ($G$127*($G$126+$G$128) + 4*$G$126*$G$128) )*$T373 )  - 10*LOG10( (1+$G$129+$G$130)^2 + ( 1*$G$130*$T373 - ($G$129*(1+$G$130) + 4*1*$G$130) )*$T373)","v":-0.2132709598530278},{"$f":"10*LOG10(($G$131+$G$132+$G$133)^2 + ( $G$131*$G$133*$T373 - ($G$132*($G$131+$G$133) + 4*$G$131*$G$133) )*$T373 )  - 10*LOG10( (1+$G$134+$G$135)^2 + ( 1*$G$135*$T373 - ($G$134*(1+$G$135) + 4*1*$G$135) )*$T373)","v":-5.7672958788117512E-3},{"$f":"10*LOG10(($G$136+$G$137+$G$138)^2 + ( $G$136*$G$138*$T373 - ($G$137*($G$136+$G$138) + 4*$G$136*$G$138) )*$T373 )  - 10*LOG10( (1+$G$139+$G$140)^2 + ( 1*$G$140*$T373 - ($G$139*(1+$G$140) + 4*1*$G$140) )*$T373)","v":-4.6286716728118904E-3},-0.65764835401758237]
[null,null,null,null,null,null,null,null,null,null,null,null,null,null,null,null,null,1655.1765111855329,{"$f":"2*PI()*R374/B56","v":0.10833104933197613},1.1724143680708298E-2,-0.52768769558856832,5.9240437901877385E-3,-0.22163952605381887,-5.5441925927794955E-3,-4.438495792754793E-3,-0.75338586623773374]
[null,null,null,null,null,null,null,null,null,null,null,null,null,null,null,null,null,1688.2800414092437,{"$f":"2*PI()*R375/B56","v":0.11049767031861567},1.2197317064818291E-2,-0.62261393678635102,5.6955621626073594E-3,-0.23032360940481222,-5.3296556886905933E-3,-4.2565063274437875E-3,-0.85682814604469026]
[null,null,null,null,null,null,null,null,null,null,null,null,null,null,null,null,null,1722.0456422374286,{"$f":"2*PI()*R376/B56","v":0.11270762372498799},1.2689566936475008E-2,-0.72522881471123668,5.4757994332490512E-3,-0.23933381393477671,-5.1233599265145813E-3,-4.0823207489495417E-3,-0.96829250988822846]
[null,null,null,null,null,null,null,null,null,null,null,null,null,null,null,null,null,1756.4865550821773,{"$f":"2*PI()*R377/B56","v":0.11496177619948773},1.3201660713925556E-2,-0.83581942966296907,5.2644287361687248E-3,-0.24868095832241099,-4.9249921302347843E-3,-3.9155767261718211E-3,-1.0880765281056179]
[null,null,null,null,null,null,null,null,null,null,null,null,null,null,null,null,null,1791.6162861838209,{"$f":"2*PI()*R378/B56","v":0.11726101172347751},1.3734396549676302E-2,-0.95464880539906005,5.0611350046239068E-3,-0.2583760620158202,-4.7342507625884878E-3,-3.7559308838481797E-3,-1.216453914056693]
[null,null,null,null,null,null,null,null,null,null,null,null,null,null,null,null,null,1827.4486119074973,{"$f":"2*PI()*R379/B56","v":0.11960623195794705},1.428860454998027E-2,-1.0819519399892599,4.8656145812486784E-3,-0.26843032826971047,-4.550845513122681E-3,-3.6030576506291823E-3,-1.3536705568414735]
[null,null,null,null,null,null,null,null,null,null,null,null,null,null,null,null,null,1863.9975841456471,{"$f":"2*PI()*R380/B56","v":0.12199835659710599},1.4865148041768191E-2,-1.217932119661981,4.6775748380696314E-3,-0.27885512367821086,-4.3744968991390465E-3,-3.4566481887665645E-3,-1.4999408135900278]
[null,null,null,null,null,null,null,null,null,null,null,null,null,null,null,null,null,1901.2775358285601,{"$f":"2*PI()*R381/B56","v":0.1244383237290481},1.5464924888789805E-2,-1.3627576118263249,4.4967338064907381E-3,-0.28966195372743986,-4.204935879208449E-3,-3.3164093988276022E-3,-1.6554441770253101]
[null,null,null,null,null,null,null,null,null,null,null,null,null,null,null,null,null,1939.3030865451312,{"$f":"2*PI()*R382/B56","v":0.12692709020362905},1.6088868858791665E-2,-1.5165588473490814,4.3228198171121335E-3,-0.30086243383134903,-4.0419034792833486E-3,-3.1820629934244948E-3,-1.8203224278360262]
[null,null,null,null,null,null,null,null,null,null,null,null,null,null,null,null,null,1978.0891482760339,{"$f":"2*PI()*R383/B56","v":0.12946563200770164},1.6737951043617829E-2,-1.6794261900574838,4.1555711495462333E-3,-0.31246825524611133,-3.8851504307260143E-3,-3.0533446345160087E-3,-1.994677369219291]
[null,null,null,null,null,null,null,null,null,null,null,null,null,null,null,null,null,2017.6509312415546,{"$f":"2*PI()*R384/B56","v":0.13205494464785567},1.7413181334181786E-2,-1.851408373660675,3.9947356918830224E-3,-0.32449114518135946,-3.7344368202880673E-3,-2.9300031291441542E-3,-2.1785692230995837]
[null,null,null,null,null,null,null,null,null,null,null,null,null,null,null,null,null,2058.0039498663859,{"$f":"2*PI()*R385/B56","v":0.1346960435408128},1.8115609952321202E-2,-2.0325116636610758,3.8400706099892545E-3,-0.33694282033989875,-3.5895317515795E-3,-2.8117996792502709E-3,-2.3720157448218151]
[null,null,null,null,null,null,null,null,null,null,null,null,null,null,null,null,null,2099.1640288637136,{"$f":"2*PI()*R386/B56","v":0.13738996441162907},1.8846329041611404E-2,-2.2226997756170022,3.69134202632182E-3,-0.34983493301982627,-3.4502130177997969E-3,-2.6985071812148931E-3,-2.5749920868095213]
[null,null,null,null,null,null,null,null,null,null,null,null,null,null,null,null,null,2141.147309440988,{"$f":"2*PI()*R387/B56","v":0.14013776369986167},1.9606474319279216E-2,-2.4218945529206053,3.5483247083050173E-3,-0.36317900880307263,-3.3162667854682581E-3,-2.5899095714407849E-3,-2.787431413372282]
[null,null,null,null,null,null,null,null,null,null,null,null,null,null,null,null,null,2183.970255629808,{"$f":"2*PI()*R388/B56","v":0.1429405189738589},2.0397226791425711E-2,-2.6299773788552656,3.4108017659377765E-3,-0.37698637473047292,-3.1874872887129868E-3,-2.4858012145330122E-3,-3.0092262403230468]
[null,null,null,null,null,null,null,null,null,null,null,null,null,null,null,null,null,2227.6496607424042,{"$f":"2*PI()*R389/B56","v":0.14579932935333609},2.1219814533834341E-2,-2.84679127090196,3.2785643587232016E-3,-0.391268076724268,-3.0636765340474881E-3,-2.3859863307222895E-3,-3.2402304461322746]
[null,null,null,null,null,null,null,null,null,null,null,null,null,null,null,null,null,2272.2026539572521,{"$f":"2*PI()*R390/B56","v":0.1487153159404028},2.207551454070977E-2,-3.0721435817271683,3.1514114114656877E-3,-0.40603478486223921,-2.944644015194342E-3,-2.2902784598173298E-3,-3.4802618776529535]
[null,null,null,null,null,null,null,null,null,null,null,null,null,null,null,null,null,2317.6467070363974,{"$f":"2*PI()*R391/B56","v":0.15168962225921087},2.2965654643762854E-2,-3.3058092123504466,3.0291493390990354E-3,-0.42129668493168637,-2.8302064377072611E-3,-2.1984999589221843E-3,-3.7291054543396633]
[null,null,null,null,null,null,null,null,null,null,null,null,null,null,null,null,null,2363.9996411771253,{"$f":"2*PI()*R392/B56","v":0.15472341470439507},2.389161550412746E-2,-3.5475342295828938,2.9115917800766056E-3,-0.43706335449397482,-2.7201874530931036E-3,-2.1104815314600955E-3,-3.9865166612813452]
[null,null,null,null,null,null,null,null,null,null,null,null,null,null,null,null,null,2411.279634000668,{"$f":"2*PI()*R393/B56","v":0.15781788299848298},2.4854832679666792E-2,-3.7970397723932621,2.7985593382808815E-3,-0.4533436214688642,-2.6144174022348921E-3,-2.0260617852585483E-3,-4.2522253137113388]
[null,null,null,null,null,null,null,null,null,null,null,null,null,null,null,null,null,2459.5052266806815,{"$f":"2*PI()*R394/B56","v":0.16097424065845267},2.5856798770298013E-2,-4.0540261303610023,2.6898793332463811E-3,-0.47014540299996099,-2.512733067675299E-3,-1.9450868176775771E-3,-4.5259394739130698]
[null,null,null,null,null,null,null,null,null,null,null,null,null,null,null,null,null,2508.695331214295,{"$f":"2*PI()*R395/B56","v":0.1641937254716217},2.6899065644036622E-2,-4.3181768813454759,2.5853855585253882E-3,-0.48747552208556311,-2.4149774347321795E-3,-1.8674098258379956E-3,-4.8073494051330838]
[null,null,null,null,null,null,null,null,null,null,null,null,null,null,null,null,null,2558.8692378385808,{"$f":"2*PI()*R396/B56","v":0.16747759998105413},2.7983246746534438E-2,-4.5891629841293309,2.4849180479549204E-3,-0.50533949915017828,-2.320999460891926E-3,-1.7928907401518757E-3,-5.096131455432598]
[null,null,null,null,null,null,null,null,null,null,null,null,null,null,null,null,null,2610.0466225953523,{"$f":"2*PI()*R397/B56","v":0.17082715198067519},2.9111019496956807E-2,-4.8666467340409625,2.388322849625979E-3,-0.52374131538835389,-2.2306538534806464E-3,-1.7213958796666873E-3,-5.3919517763128377]
[null,null,null,null,null,null,null,null,null,null,null,null,null,null,null,null,null,2662.2475550472595,{"$f":"2*PI()*R398/B56","v":0.17424369502028875},3.0284127773117286E-2,-5.1502855042790969,2.295451807459159E-3,-0.54268314433114639,-2.1438008551868393E-3,-1.6527976276030643E-3,-5.6944697952855741]
[null,null,null,null,null,null,null,null,null,null,null,null,null,null,null,null,null,2715.4925061482049,{"$f":"2*PI()*R399/B56","v":0.17772856892069452},3.1504384488858769E-2,-5.4397352117084026,2.2061623499993743E-3,-0.56216504766434294,-2.0603060372188509E-3,-1.5869741258462966E-3,-6.0033413771858113]
[null,null,null,null,null,null,null,null,null,null,null,null,null,null,null,null,null,2769.8023562711692,{"$f":"2*PI()*R400/B56","v":0.18128314029910841},3.2773674266741444E-2,-5.7346534622184393,2.120317286454565E-3,-0.58218463086397154,-1.9800400999692158E-3,-1.5238089869313853E-3,-6.3182216248828569]
[null,null,null,null,null,null,null,null,null,null,null,null,null,null,null,null,null,2825.1984033965928,{"$f":"2*PI()*R401/B56","v":0.18490880310509059},3.4093956209165936E-2,-6.0347023464518585,2.0377846096231167E-3,-0.60273665370717566,-1.9028786807098186E-3,-1.4631910226370337E-3,-6.6387672852527579]
[null,null,null,null,null,null,null,null,null,null,null,null,null,null,null,null,null,2881.7023714645247,{"$f":"2*PI()*R402/B56","v":0.18860697916719241},3.5467266771129165E-2,-6.3395508711224373,1.958437305578542E-3,-0.6238125901647269,-1.8287021683605076E-3,-1.405013987785253E-3,-6.9646387401377314]
[null,null,null,null,null,null,null,null,null,null,null,null,null,null,null,null,null,2939.3364188938153,{"$f":"2*PI()*R403/B56","v":0.19237911875053629},3.6895722737874746E-2,-6.6488770237794341,1.8821531698911542E-3,-0.64540013158589904,-1.7573955248444406E-3,-1.3491763385253819E-3,-7.2955015740588118]
[null,null,null,null,null,null,null,null,null,null,null,null,null,null,null,null,null,2998.1231472716918,{"$f":"2*PI()*R404/B56","v":0.19622670112554699},3.8381524310764061E-2,-6.9623694794550168,1.808814630233968E-3,-0.66748262645016876,-1.6888481129946342E-3,-1.2955810039692039E-3,-7.6310277203919155]
[null,null,null,null,null,null,null,null,null,null,null,null,null,null,null,null,null,3058.0856102171256,{"$f":"2*PI()*R405/B56","v":0.20015123514805794},3.9926958304753728E-2,-7.2797289660551527,1.7383085751490057E-3,-0.69003844928883584,-1.6229535307488163E-3,-1.2441351704346459E-3,-7.970896195470023]
[null,null,null,null,null,null,null,null,null,null,null,null,null,null,null,null,null,3119.2473224214682,{"$f":"2*PI()*R406/B56","v":0.20415425985101909},4.1534401460921626E-2,-7.6006693116638431,1.6705261888283474E-3,-0.71304029068250863,-1.5596094513128378E-3,-1.1947500774880382E-3,-8.3147934356863242]
[null,null,null,null,null,null,null,null,null,null,null,null,null,null,null,null,null,3181.6322688698974,{"$f":"2*PI()*R407/B56","v":0.20823734504803948},4.3206323877537062E-2,-7.9249182012771442,1.6053627916541302E-3,-0.73645435953228766,-1.4987174692535632E-3,-1.1473408249962347E-3,-8.6624132563120284]
[null,null,null,null,null,null,null,null,null,null,null,null,null,null,null,null,null,3245.2649142472956,{"$f":"2*PI()*R408/B56","v":0.21240209194900028},4.4945292563217186E-2,-8.2522176730876424,1.5427176864406533E-3,-0.76023948810428177,-1.4401829521872855E-3,-1.1018261905313409E-3,-9.0134564526482031]
[null,null,null,null,null,null,null,null,null,null,null,null,null,null,null,null,null,3310.1702125322417,{"$f":"2*PI()*R409/B56","v":0.21665013378798031},4.6753975115754597E-2,-8.5823243855640214,1.4824940100197637E-3,-0.78434612968914053,-1.3839148979712945E-3,-1.0581284565063243E-3,-9.3676300645976198]
[null,null,null,null,null,null,null,null,null,null,null,null,null,null,null,null,null,3376.3736167828865,{"$f":"2*PI()*R410/B56","v":0.22098313646373993},4.8635143530236187E-2,-8.9150096864887516,1.4245985902370251E-3,-0.8087152381412972,-1.3298257970966176E-3,-1.016173246451757E-3,-9.7246463250833592]
[null,null,null,null,null,null,null,null,null,null,null,null,null,null,null,null,null,3443.9010891185444,{"$f":"2*PI()*R411/B56","v":0.2254027991930147},5.0591678140101896E-2,-9.2500595140987336,1.368941807964319E-3,-0.83327701812226085,-1.2778315002606178E-3,-9.7588936980130825E-4,-10.084221311283091]
[null,null,null,null,null,null,null,null,null,null,null,null,null,null,null,null,null,3512.7791109009154,{"$f":"2*PI()*R412/B56","v":0.22991085517687501},5.262657169481174E-2,-9.5872741587661707,1.3154374640933497E-3,-0.85794953464128199,-1.2278510907250961E-3,-9.3720867480229231E-4,-10.446073315708887]
[null,null,null,null,null,null,null,null,null,null,null,null,null,null,null,null,null,3583.0346931189338,{"$f":"2*PI()*R413/B56","v":0.23450907228041251},5.474293357779994E-2,-9.92646791147979,1.2640026513146552E-3,-0.88263717056016411,-1.1798067615060859E-3,-9.0006590895441718E-4,-10.8099209520591]
[null,null,null,null,null,null,null,null,null,null,null,null,null,null,null,null,null,3654.6953869813124,{"$f":"2*PI()*R414/B56","v":0.23919925372602077},5.6943994168395524E-2,-10.26746862292552,1.2145576305364614E-3,-0.90722892122834597,-1.1336236970791447E-3,-8.6439858663212021E-4,-11.17548100880704]
[null,null,null,null,null,null,null,null,null,null,null,null,null,null,null,null,null,3727.7892947209389,{"$f":"2*PI()*R415/B56","v":0.24398323880054121},5.9233109351375941E-2,-10.61011719437133,1.1670257117550875E-3,-0.93159651649287234,-1.0892299595042232E-3,-8.3014686337889998E-4,-11.542466061975331]
[null,null,null,null,null,null,null,null,null,null,null,null,null,null,null,null,null,3802.3450806153578,{"$f":"2*PI()*R416/B56","v":0.24886290357655202},6.1613765177795765E-2,-10.954267018953232,1.1213331392809778E-3,-0.95559236217562304,-1.0465563788173426E-3,-7.9725341652903126E-4,-11.910581857784919]
[null,null,null,null,null,null,null,null,null,null,null,null,null,null,null,null,null,3878.3919822276648,{"$f":"2*PI()*R417/B56","v":0.2538401616480831},6.4089582680692259E-2,-11.299783389426878,1.077408981124961E-3,-0.97904729595930284,-1.0055364474652606E-3,-7.6566333185468238E-4,-12.279524476184376]
[null,null,null,null,null,null,null,null,null,null,null,null,null,null,null,null,null,3955.9598218722181,{"$f":"2*PI()*R418/B56","v":0.25891696488104471},6.6664322849212601E-2,-11.646542886054451,1.0351850224274983E-3,-1.0017681567515986,-9.6610621874404501E-4,-7.353239957623714E-4,-12.648977287998129]
[null,null,null,null,null,null,null,null,null,null,null,null,null,null,null,null,null,4035.0790183096624,{"$f":"2*PI()*R419/B56","v":0.26409530417866561},6.9341891764633901E-2,-11.994432756082944,9.9459566282433798E-4,-1.0235351723281596,-9.2820420902839373E-4,-7.0618499286467795E-4,-13.018607721950172]
[null,null,null,null,null,null,null,null,null,null,null,null,null,null,null,null,null,4115.7805986758558,{"$f":"2*PI()*R420/B56","v":0.26937721026223893},7.2126345901649569E-2,-12.343350294259409,9.5557781752830806E-4,-1.04409917775802,-8.9177130363893298E-4,-6.7819800848667455E-4,-13.388063863512027]
[null,null,null,null,null,null,null,null,null,null,null,null,null,null,null,null,null,4198.0962106493726,{"$f":"2*PI()*R421/B56","v":0.27476475446748366},7.502189759818112E-2,-12.693202232034352,9.180708220704048E-4,-1.0631786871929991,-8.5675066632262542E-4,-6.5131673602891738E-4,-13.756970915807631]
[null,null,null,null,null,null,null,null,null,null,null,null,null,null,null,null,null,4282.05813486236,{"$f":"2*PI()*R422/B56","v":0.28026004955683337},7.8032920696828698E-2,-13.043904141523395,8.8201634061135792E-4,-1.0804568544740132,-8.2308765203720213E-4,-6.2549678868606406E-4,-14.12492756409752]
[null,null,null,null,null,null,null,null,null,null,null,null,null,null,null,null,null,4367.6992975596077,{"$f":"2*PI()*R423/B56","v":0.28586525054797007},8.1163956360905815E-2,-13.395379858925345,8.4735827753945614E-4,-1.0955783740730691,-7.9072972312488332E-4,-6.0069561545716965E-4,-14.491502300059457]
[null,null,null,null,null,null,null,null,null,null,null,null,null,null,null,null,null,4455.0532835107997,{"$f":"2*PI()*R424/B56","v":0.29158255555892948},8.4419719067802698E-2,-13.747560930917111,8.1404269242213445E-4,-1.1081463934815563,-7.5962636856985455E-4,-5.7687242117054893E-4,-14.856229780495985]
[null,null,null,null,null,null,null,null,null,null,null,null,null,null,null,null,null,4544.1543491810162,{"$f":"2*PI()*R425/B56","v":0.29741420667010809},8.7805102782189906E-2,-14.100386086548713,7.8201771809460752E-4,-1.1177195314604127,-7.2972902636081471E-4,-5.5398809023898821E-4,-15.218607317407631]
[null,null,null,null,null,null,null,null,null,null,null,null,null,null,null,null,null,4635.0374361646363,{"$f":"2*PI()*R426/B56","v":0.30336249080351024},9.1325187311303208E-2,-14.453800736326848,7.5123348179673144E-4,-1.1238091235251968,-7.0099100876319653E-4,-5.3200511409556839E-4,-15.578091622493107]
[null,null,null,null,null,null,null,null,null,null,null,null,null,null,null,null,null,4727.7381848879295,{"$f":"2*PI()*R427/B56","v":0.30942974061958045},9.4985244844242298E-2,-14.807756499486054,7.2164202920532716E-4,-1.1258768462068893,-6.7336743040513625E-4,-5.1088752192285369E-4,-15.934095958616066]
[null,null,null,null,null,null,null,null,null,null,null,null,null,null,null,null,null,4822.2929485856885,{"$f":"2*PI()*R428/B56","v":0.3156183354319721},9.8790746676861732E-2,-15.162210759884424,6.9319725137262367E-4,-1.123332904022611,-6.4681513914877087E-4,-4.9060081468610406E-4,-16.285987882609497]
[null,null,null,null,null,null,null,null,null,null,null,null,null,null,null,null,null,4918.7388075574027,{"$f":"2*PI()*R429/B56","v":0.32193070214061154},0.10274737012343081,-15.517126250509875,6.6585481436121086E-4,-1.1155349959999104,-6.2129264949106755E-4,-4.7111190218274146E-4,-16.6330877962471]
[null,null,null,null,null,null,null,null,null,null,null,null,null,null,null,null,null,5017.1135837085512,{"$f":"2*PI()*R430/B56","v":0.32836931618342385},0.10686100561578687,-15.872470666227578,6.3957209148668426E-4,-1.1017883094121181,-5.9676007860431923E-4,-4.5238904298372518E-4,-16.974668552669797]
[null,null,null,null,null,null,null,null,null,null,null,null,null,null,null,null,null,5117.4558553827219,{"$f":"2*PI()*R431/B56","v":0.33493670250709229},0.1111377639901935,-16.22821630412454,6.1430809816087617E-4,-1.0813468134443092,-5.7317908469656231E-4,-4.3440178715670186E-4,-17.309956390342542]
[null,null,null,null,null,null,null,null,null,null,null,null,null,null,null,null,null,5219.8049724903767,{"$f":"2*PI()*R432/B56","v":0.34163543655723416},0.11558398396154447,-16.584339730602039,5.9002342912251038E-4,-1.0534161400707314,-5.5051280781270862E-4,-4.1712092155066216E-4,-17.638133480973011]
[null,null,null,null,null,null,null,null,null,null,null,null,null,null,null,null,null,5324.2010719401842,{"$f":"2*PI()*R433/B56","v":0.34846814528837883},0.12020623978391014,-16.940821474217433,5.6668019806593861E-4,-1.0171583377575235,-5.2872581282414899E-4,-4.0051841759947138E-4,-17.958342376007312]
[null,null,null,null,null,null,null,null,null,null,null,null,null,null,null,null,null,5430.6850933789883,{"$f":"2*PI()*R434/B56","v":0.35543750819414649},0.12501134909571079,-17.297645743176101,5.4424197953295561E-4,-0.97169875936283212,-5.0778403461393395E-4,-3.8456738145953295E-4,-18.269692611975476]
[null,null,null,null,null,null,null,null,null,null,null,null,null,null,null,null,null,5539.2987952465683,{"$f":"2*PI()*R435/B56","v":0.36254625835802939},0.13000638094700243,-17.654800166311254,5.2267375297887497E-4,-0.91613529250723325,-4.8765472536160814E-4,-3.6924200638210891E-4,-18.571269681797251]
[null,null,null,null,null,null,null,null,null,null,null,null,null,null,null,null,null,5650.0847711514998,{"$f":"2*PI()*R436/B56","v":0.36979718352518998},0.13519866400548072,-18.012275556358574,5.0194184900220762E-4,-0.84955005355613089,-4.6830640383888067E-4,-3.5451752723503205E-4,{"$f":"U436+V436+W436+X436+Y436","v":-18.862146491996775}]
[null,null,null,null,null,null,null,null,null,null,null,null,null,null,null,null,null,5763.0864665745303,{"$f":"2*PI()*R437/B56","v":0.37719312719569376},{"$f":"4*(SIN(S437/2))^2","v":0.14059579493682575},{"$f":"10*LOG10(($G$116+$G$117+$G$118)^2 + ( $G$116*$G$118*T437 - ($G$117*($G$116+$G$118) + 4*$G$116*$G$118) )*T437 )  - 10*LOG10( (1+$G$119+$G$120)^2 + ( 1*$G$120*T437 - ($G$119*(1+$G$120) + 4*1*$G$120) )*T437)","v":-18.370065694325767},{"$f":"10*LOG10(($G$121+$G$122+$G$123)^2 + ( $G$121*$G$123*$T437 - ($G$122*($G$121+$G$123) + 4*$G$121*$G$123) )*$T437 )  - 10*LOG10( (1+$G$124+$G$125)^2 + ( 1*$G$125*$T437 - ($G$124*(1+$G$125) + 4*1*$G$125) )*$T437)","v":4.8201389751412194E-4},{"$f":"10*LOG10(($G$126+$G$127+$G$128)^2 + ( $G$126*$G$128*$T437 - ($G$127*($G$126+$G$128) + 4*$G$126*$G$128) )*$T437 )  - 10*LOG10( (1+$G$129+$G$130)^2 + ( 1*$G$130*$T437 - ($G$129*(1+$G$130) + 4*1*$G$130) )*$T437)","v":-0.77102354250850258},{"$f":"10*LOG10(($G$131+$G$132+$G$133)^2 + ( $G$131*$G$133*$T437 - ($G$132*($G$131+$G$133) + 4*$G$131*$G$133) )*$T437 )  - 10*LOG10( (1+$G$134+$G$135)^2 + ( 1*$G$135*$T437 - ($G$134*(1+$G$135) + 4*1*$G$135) )*$T437)","v":-4.4970880658823376E-4},{"$f":"10*LOG10(($G$136+$G$137+$G$138)^2 + ( $G$136*$G$138*$T437 - ($G$137*($G$136+$G$138) + 4*$G$136*$G$138) )*$T437 )  - 10*LOG10( (1+$G$139+$G$140)^2 + ( 1*$G$140*$T437 - ($G$139*(1+$G$140) + 4*1*$G$140) )*$T437)","v":-3.4037017698196337E-4},-19.141397301920325]
[null,null,null,null,null,null,null,null,null,null,null,null,null,null,null,null,null,5878.3481959060209,{"$f":"2*PI()*R438/B56","v":0.38473698973960768},0.14620564695393326,-18.728167133771329,4.6285877797558328E-4,-0.67965109690118819,-4.3183284106973474E-4,-3.2677714519380174E-4,-19.408113981880806]
[null,null,null,null,null,null,null,null,null,null,null,null,null,null,null,null,null,5995.9151598241415,{"$f":"2*PI()*R439/B56","v":0.39243172953439986},0.15203637852837945,-19.086579023835302,4.4444657142861388E-4,-0.57456129523860078,-4.1465054050604522E-4,-3.1371653829026513E-4,-19.661424239581269]
[null,null,null,null,null,null,null,null,null,null,null,null,null,null,null,null,null,6115.8334630206245,{"$f":"2*PI()*R440/B56","v":0.40028036412508783},0.15809644225615541,-19.445302949905184,4.2674851441404371E-4,-0.45493575788443508,-3.9813502049668159E-4,-3.0116734155427594E-4,-19.900511261637256]
[null,null,null,null,null,null,null,null,null,null,null,null,null,null,null,null,null,6238.1501322810373,{"$f":"2*PI()*R441/B56","v":0.4082859714075896},0.16439459386825697,-19.804342790849816,4.0973695459456394E-4,-0.32002959573190903,-3.822604373002747E-4,-2.8910938284454346E-4,-20.124634019447274]
[null,null,null,null,null,null,null,null,null,null,null,null,null,null,null,null,null,6362.9131349266581,{"$f":"2*PI()*R442/B56","v":0.41645169083574146},0.17093990137512913,-20.163704591808429,3.9338530807064842E-4,-0.16919158925054401,-3.6700194768002348E-4,-2.7752329782693153E-4,-20.33314732099641]
[null,null,null,null,null,null,null,null,null,null,null,null,null,null,null,null,null,6490.1713976251913,{"$f":"2*PI()*R443/B56","v":0.42478072465245631},0.17774175433222,-20.523396451582435,3.7766801834493435E-4,-1.8830695708746958E-3,-3.5233567033365887E-4,-2.6639049676191462E-4,-20.525520579302061]
[null,null,null,null,null,null,null,null,null,null,null,null,null,null,null,null,null,6619.9748255776949,{"$f":"2*PI()*R444/B56","v":0.43327633914550534},0.1848098732119923,-20.883428423738639,3.6256051682137524E-4,0.18230555656219849,-3.3823864875692777E-4,-2.5569313270423777E-4,-20.70135423844108]
[null,null,null,null,null,null,null,null,null,null,null,null,null,null,null,null,null,6752.3743220892493,{"$f":"2*PI()*R445/B56","v":0.44194186592841556},0.19215431886564932,-21.243812430596407,3.4803918481607354E-4,0.38364162822631709,-3.246888155867822E-4,-2.4541407106681845E-4,-20.860392866071926]
[null,null,null,null,null,null,null,null,null,null,null,null,null,null,null,null,null,6887.421808531034,{"$f":"2*PI()*R446/B56","v":0.45078070324698383},0.19978550205555248,-21.60456218933459,3.3408131701762045E-4,0.60224121841378775,-3.1166495824663798E-4,-2.3553686049915257E-4,-21.002534091422532]
[null,null,null,null,null,null,null,null,null,null,null,null,null,null,null,null,null,7025.1702447016551,{"$f":"2*PI()*R447/B56","v":0.45979631731192355},0.20771419303681857,-21.965693149517762,3.2066508634542856E-4,0.83806484764327571,-2.9914668597186278E-4,-2.2604570501094656E-4,-21.12783282917912]
[null,null,null,null,null,null,null,null,null,null,null,null,null,null,null,null,null,7165.6736495956884,{"$f":"2*PI()*R448/B56","v":0.468992243658162},0.21595153116386576,-22.327222441403023,3.0776951014921394E-4,1.090918154642309,-2.8711439805562122E-4,-2.1692543728590863E-4,-21.236500557085904]
[null,null,null,null,null,null,null,null,null,null,null,null,null,null,null,null,null,7308.9871225876022,{"$f":"2*PI()*R449/B56","v":0.47837208853132523},0.2245090344947262,-22.689168834450605,2.9537441767679695E-4,1.3604573992519953,-2.7554925336303882E-4,-2.0816149310398657E-4,-21.328899771527404]
[null,null,null,null,null,null,null,null,null,null,null,null,null,null,null,null,null,7455.166865039354,{"$f":"2*PI()*R450/B56","v":0.48793953030195175},0.23339860936272236,-23.051552705520415,2.8346041883153816E-4,1.646199329192723,-2.6443314097512882E-4,-1.9973988689159228E-4,-21.405534088936729]
[null,null,null,null,null,null,null,null,null,null,null,null,null,null,null,null,null,7604.2702023401416,{"$f":"2*PI()*R451/B56","v":0.49769832090799082},0.24263255988161139,-23.414396016295282,2.7200887408973529E-4,1.9475346513813596,-2.5374865197314023E-4,-1.9164718825592786E-4,-21.46703475188006]
[null,null,null,null,null,null,null,null,null,null,null,null,null,null,null,null,null,7756.3556063869446,{"$f":"2*PI()*R452/B56","v":0.50765228732615064},0.25222359734650579,-23.777722299527731,2.6100186556554661E-4,2.263744140612963,-2.4347905233668143E-4,-1.8387049954604606E-4,-21.514144506601085]
[null,null,null,null,null,null,null,null,null,null,null,null,null,null,null,null,null,7911.4827185146833,{"$f":"2*PI()*R453/B56","v":0.51780533307267362},0.26218484948876258,-24.141556653762169,2.5042216922344096E-4,2.5940163103038016,-2.3360825684548558E-4,-1.7639743432162902E-4,-21.547699926980314]
[null,null,null,null,null,null,null,null,null,null,null,null,null,null,null,null,null,8069.7123728849774,{"$f":"2*PI()*R454/B56","v":0.5281614397341271},0.27252986953857161,-24.505925746237502,2.4025322810317107E-4,2.9374655630404511,-2.2412080402389734E-4,-1.6921609675257798E-4,-21.568613266869725]
[null,null,null,null,null,null,null,null,null,null,null,null,null,null,null,null,null,8231.1066203426763,{"$f":"2*PI()*R455/B56","v":0.53872466852880962},0.28327264504414668,-24.870857823727349,2.3047912661411374E-4,3.293149820707642,-2.1500183200373613E-4,-1.623150618641489E-4,-21.577854840786962]
[null,null,null,null,null,null,null,null,null,null,null,null,null,null,null,null,null,8395.72875274953,{"$f":"2*PI()*R456/B56","v":0.54949916189938586},0.29442760639119725,-25.236382731125829,2.2108456581371172E-4,3.6600867832479813,-2.062370553890247E-4,-1.5568335659743582E-4,-21.57643678372402]
[null,null,null,null,null,null,null,null,null,null,null,null,null,null,null,null,null,8563.6433278045206,{"$f":"2*PI()*R457/B56","v":0.56048914513737358},0.30600963496071759,-25.602531937636584,2.1205483958830484E-4,4.0372681554708088,-1.9781274293606543E-4,-1.4931044167632024E-4,-21.565398850510803]
[null,null,null,null,null,null,null,null,null,null,null,null,null,null,null,null,null,8734.9161943606105,{"$f":"2*PI()*R458/B56","v":0.57169892804012101},0.31803407085703544,-25.969338570472335,2.033758118162865E-4,4.4236713870355997,-1.8971569614478767E-4,-1.4318619421516132E-4,-21.545796709515276]
[null,null,null,null,null,null,null,null,null,null,null,null,null,null,null,null,null,8909.6145182478231,{"$f":"2*PI()*R459/B56","v":0.58313290660092343},0.33051672013149164,-26.336837456020689,1.9503389436081875E-4,4.8182686701818067,-1.81933228670772E-4,-1.3730089103347609E-4,-21.518692986064227]
[null,null,null,null,null,null,null,null,null,null,null,null,null,null,null,null,null,9087.8068086127805,{"$f":"2*PI()*R460/B56","v":0.59479556473294193},0.34347386142004233,-26.705065168481134,1.8701602592585687E-4,5.2200331175988701,-1.7445314650466059E-4,-1.3164519268471508E-4,-21.485151133195526]
[null,null,null,null,null,null,null,null,null,null,null,null,null,null,null,null,null,9269.562944785037,{"$f":"2*PI()*R461/B56","v":0.60669147602760087},0.35692225190545213,-27.074060086026748,1.7930965172929803E-4,5.6279421904668929,-1.672637289562573E-4,-1.2621012813340826E-4,-21.446232059765219]
[null,null,null,null,null,null,null,null,null,null,null,null,null,null,null,null,null,9454.9542036807379,{"$f":"2*PI()*R462/B56","v":0.61882530554815296},0.37087913250655158,-27.443862454594274,1.7190270395950336E-4,6.0409785617558809,-1.6035371034206491E-4,-1.209870800416013E-4,-21.402993330924815]
[null,null,null,null,null,null,null,null,null,null,null,null,null,null,null,null,null,9644.0532877543537,{"$f":"2*PI()*R463/B56","v":0.63120181165911604},0.38536223218822635,-27.814514459456724,1.6478358296900808E-4,6.4581286847753701,-1.537122624011289E-4,-1.1596777069122766E-4,-21.356490671131475]
[null,null,null,null,null,null,null,null,null,null,null,null,null,null,null,null,null,9836.9343535094413,{"$f":"2*PI()*R464/B56","v":0.64382584789229835},0.40038977127635278,-28.18606030478486,1.5794113920541974E-4,6.8783793973480698,-1.4732897737523842E-4,-1.111442484615921E-4,-21.307781439523421]
[null,null,null,null,null,null,null,null,null,null,null,null,null,null,null,null,null,10033.67304057963,{"$f":"2*PI()*R465/B56","v":0.65670236485014433},0.41598046365176805,-28.558546301458087,1.5136465585463554E-4,7.3007129351245261,-1.4119385176414312E-4,-1.0650887487173577E-4,-21.25792970440434]
[null,null,null,null,null,null,null,null,null,null,null,null,null,null,null,null,null,10234.346501391223,{"$f":"2*PI()*R466/B56","v":0.66983641214714729},0.43215351768650601,-28.932020963441843,1.4504383211910721E-4,7.7241007610748493,-1.3529727068828379E-4,-1.0205431213883287E-4,-21.208012510117698]
[null,null,null,null,null,null,null,null,null,null,null,null,null,null,null,null,null,10439.033431419048,{"$f":"2*PI()*R467/B56","v":0.68323314039009009},0.448928635773931,-29.30653511310798,1.3896876717200968E-4,8.1474966489943697,-1.2962999286525445E-4,-9.7773511253507195E-5,-21.159126898850559]
[null,null,null,null,null,null,null,null,null,null,null,null,null,null,null,null,null,10647.81410004743,{"$f":"2*PI()*R468/B56","v":0.69689780319789207},0.46632601229199705,-29.68214199593799,1.3312994471625927E-4,8.5698294923345717,-1.2418313618667298E-4,-9.365970054719952E-5,-21.112397216495438]
[null,null,null,null,null,null,null,null,null,null,null,null,null,null,null,null,null,10860.770382048378,{"$f":"2*PI()*R469/B56","v":0.71083575926184994},0.48436632982562178,-30.058897405115758,1.275182181474932E-4,8.9899963490466313,-1.1894816381907702E-4,-8.9706374698295122E-5,-21.068982192389498]
[null,null,null,null,null,null,null,null,null,null,null,null,null,null,null,null,null,11077.985789689346,{"$f":"2*PI()*R470/B56","v":0.72505247444708687},0.50307075346007646,-30.43685981658971,1.2212479628637141E-4,9.4068562788814205,-1.1391687087058955E-4,-8.5907284216091284E-5,-21.03008123706709]
[null,null,null,null,null,null,null,null,null,null,null,null,null,null,null,null,null,11299.545505483133,{"$f":"2*PI()*R471/B56","v":0.73955352393602869},0.52246092294226065,-30.816090535261306,1.1694122966510179E-4,9.8192255788922651,-1.0908137157539244E-4,-8.225642533243871E-5,-20.996939352936284]
[null,null,null,null,null,null,null,null,null,null,null,null,null,null,null,null,null,11525.536415592796,{"$f":"2*PI()*R472/B56","v":0.75434459441474933},0.54255894249079184,-31.196653853042594,1.1195939735308968E-4,10.225875069074464,-1.0443408695071099E-4,-7.874803030372135E-5,-20.970850006688032]
[null,null,null,null,null,null,null,null,null,null,null,null,null,null,null,null,null,11756.047143904652,{"$f":"2*PI()*R473/B56","v":0.76943148630304437},0.56338736801890377,-31.578617219617662,1.0717149427463823E-4,10.625530112300611,-9.9967732971606438E-5,-7.5376558115181069E-5,-20.953155280113862]
[null,null,null,null,null,null,null,null,null,null,null,null,null,null,null,null,null,11991.168086782745,{"$f":"2*PI()*R474/B56","v":0.78482011602910517},0.58496919151620186,-31.962051426844511,1.0257001903646312E-4,11.016874055983427,-9.5675309172094103E-5,-7.2136685546730916E-5,-20.945242612836761]
[null,null,null,null,null,null,null,null,null,null,null,null,null,null,null,null,null,12230.9914485184,{"$f":"2*PI()*R475/B56","v":0.80051651834968729},0.60732782231635585,-32.347030807845655,9.814776222771826E-5,11.398555738847158,-9.1550087709002526E-5,-6.9023298615356055E-5,-20.948537494622592]
[null,null,null,null,null,null,null,null,null,null,null,null,null,null,null,null,null,12475.611277488768,{"$f":"2*PI()*R476/B56","v":0.81652684871668102},0.63048706495776008,-32.733633451959157,9.3897795155228891E-5,11.769201594935293,-8.7585602837059184E-5,-6.6031484350581593E-5,-20.964491576315901]
[null,null,null,null,null,null,null,null,null,null,null,null,null,null,null,null,null,12725.123503038543,{"$f":"2*PI()*R477/B56","v":0.83285738569101464},0.65447109332309183,-33.121941436859075,8.9813459049459254E-5,12.127432690438781,-8.3775640821404096E-5,-6.3156522911889112E-5,-20.994565865124979]
[null,null,null,null,null,null,null,null,null,null,null,null,null,null,null,null,null,12979.625973099315,{"$f":"2*PI()*R478/B56","v":0.84951453340483496},0.67930442072147534,-33.512041079306272,8.5888354654617416E-5,12.471886735583858,-8.0114230211147941E-5,-6.0393880014331103E-5,-21.040208963477987]
[null,null,null,null,null,null,null,null,null,null,null,null,null,null,null,null,null,13239.218492561302,{"$f":"2*PI()*R479/B56","v":0.86650482407293172},0.70501186555367179,-33.904023206161085,8.2116332254855706E-5,12.80124472459112,-7.6595632512166389E-5,-5.7739199664119667E-5,-21.102830700069891]
[null,null,null,null,null,null,null,null,null,null,null,null,null,null,null,null,null,13504.002862412528,{"$f":"2*PI()*R480/B56","v":0.88383492055439028},0.73161851217631757,-34.29798344747902,7.849148207439427E-5,13.114261390736411,-7.32143332231594E-5,-5.5188297191754998E-5,-21.183771967890955]
[null,null,null,null,null,null,null,null,null,null,null,null,null,null,null,null,null,13774.082919660779,{"$f":"2*PI()*R481/B56","v":0.90151161896547816},0.75914966655578575,-34.694022553725013,7.5008125059561337E-5,13.409798162016386,-6.9965033218988282E-5,-5.2737152564930057E-5,-21.284272085769352]
[null,null,null,null,null,null,null,null,null,null,null,null,null,null,null,null,null,14049.564578053994,{"$f":"2*PI()*R482/B56","v":0.91954185134478772},0.78763080627573256,-35.092246739381103,7.1660804014772594E-5,13.686856828791317,-6.6842640470632375E-5,-5.038190395945108E-5,-21.405435474330201]
[null,null,null,null,null,null,null,null,null,null,null,null,null,null,null,null,null,14330.555869615075,{"$f":"2*PI()*R483/B56","v":0.93793268837168353},0.81708752443492205,-35.492768055494139,6.8444275092893747E-5,13.944611766230569,-6.3842262102209446E-5,-4.811884160593749E-5,-21.548199806092182]
[null,null,null,null,null,null,null,null,null,null,null,null,null,null,null,null,null,14617.166987007377,{"$f":"2*PI()*R484/B56","v":0.95669134213911711},0.84754546694348276,-35.895704794015899,6.5353499618447941E-5,14.182438371588752,-6.0959196740872912E-5,-4.5944401877884289E-5,-21.713307972526145]
[null,null,null,null,null,null,null,null,null,null,null,null,null,null,null,null,null,14909.510326747524,{"$f":"2*PI()*R485/B56","v":0.97582516898189953},0.87903026269651574,-36.30118192713573,6.2383636234786266E-5,14.399935443183562,-5.8188927190228057E-5,-4.3855161614425597E-5,-21.90128614440474]
[null,null,null,null,null,null,null,null,null,null,null,null,null,null,null,null,null,15207.700533282476,{"$f":"2*PI()*R486/B56","v":0.9953416723615377},0.91156744607397522,-36.709331585199571,5.9530033358123902E-5,14.596939573146313,-5.5527113374975734E-5,-4.1847832686570108E-5,-22.112429856965957]
[null,null,null,null,null,null,null,null,null,null,null,null,null,null,null,null,null,15511.854543948126,{"$f":"2*PI()*R487/B56","v":1.0152485058087684},0.94518237118518222,-37.120293577259169,5.6788221929338079E-5,14.773530229662287,-5.2969585581486012E-5,-3.9919256766163258E-5,-22.3467994482173]
[null,null,null,null,null,null,null,null,null,null,null,null,null,null,null,null,null,15822.091634827089,{"$f":"2*PI()*R488/B56","v":1.0355534759249438},0.97990011724535342,-37.534215958807337,5.4153908458809408E-5,14.930024995571378,-5.0512337951169606E-5,-3.806640032455455E-5,-22.604225388065775]
[null,null,null,null,null,null,null,null,null,null,null,null,null,null,null,null,null,16138.533467523632,{"$f":"2*PI()*R489/B56","v":1.0562645454434427},1.015745384440327,-37.951255651842231,5.1622968345849118E-5,15.066965298184986,-4.8151522250572398E-5,-3.6286349819697472E-5,-22.884323168560972]
[null,null,null,null,null,null,null,null,null,null,null,null,null,null,null,null,null,16461.304136874103,{"$f":"2*PI()*R490/B56","v":1.0773898363523116},1.052742379604563,-38.371579123076359,4.919143946685578E-5,15.185093782483246,-4.5883441873395547E-5,-3.4576307095746106E-5,-23.186516608902618]
[null,null,null,null,null,null,null,null,null,null,null,null,null,null,null,null,null,16790.530219611584,{"$f":"2*PI()*R491/B56","v":1.0989376330793577},1.0909146910066925,-38.79536312687997,4.6855516017796361E-5,15.285325130164095,-4.370454609969876E-5,-3.2933584955818773E-5,-23.51006777933091]
[null,null,null,null,null,null,null,null,null,null,null,null,null,null,null,null,null,17126.340824003815,{"$f":"2*PI()*R492/B56","v":1.1209163857409448},1.1302851515068399,-39.222795520440677,4.4611542602712717E-5,15.368712529803785,-4.1611424577370215E-5,-3.135560292721884E-5,-23.85411134612179]
[null,null,null,null,null,null,null,null,null,null,null,null,null,null,null,null,null,17468.867640483892,{"$f":"2*PI()*R493/B56","v":1.1433347134557637},1.1708756893209991,-39.654076159652327,4.2456008579216942E-5,15.43641212798105,-3.9600802029138293E-5,-2.983988320037767E-5,-24.217691016347928]
[null,null,null,null,null,null,null,null,null,null,null,null,null,null,null,null,null,17818.244993293571,{"$f":"2*PI()*R494/B56","v":1.166201407724879},1.2127071656004191,-40.089417885441755,4.0385542611209857E-5,15.489647657156274,-3.7669533182516091E-5,-2.8384046732332635E-5,-24.599795896322782]
[null,null,null,null,null,null,null,null,null,null,null,null,null,null,null,null,null,18174.609893159442,{"$f":"2*PI()*R495/B56","v":1.1895254358793768},1.2557991980088239,-40.529047611631015,3.8396907460880314E-5,15.529677101587851,-3.5814597895367228E-5,-2.6985809515878145E-5,-24.99939491354311]
[null,null,null,null,null,null,null,null,null,null,null,null,null,null,null,null,null,18538.102091022633,{"$f":"2*PI()*R496/B56","v":1.2133159445969641},1.3001699694579607,-40.973207527052516,3.6486994997808608E-5,15.557762806192951,-3.4033096501850935E-5,-2.5642979009976585E-5,-25.415467909940077]
[null,null,null,null,null,null,null,null,null,null,null,null,null,null,null,null,null,18908.864132843086,{"$f":"2*PI()*R497/B56","v":1.2375822634889038},1.3458360211432616,-41.422156426527778,3.4652821404801415E-5,15.575145935155238,-3.2322245337557121E-5,-2.4353450714276192E-5,-25.847032514247189]
[null,null,null,null,null,null,null,null,null,null,null,null,null,null,null,null,null,19287.041415499949,{"$f":"2*PI()*R498/B56","v":1.2623339087586818},1.3928120290070654,-41.87617118754077,3.2891522600664302E-5,15.583025714407269,-3.0679372462483201E-5,-2.3115204894175179E-5,-26.293166376188253]
[null,null,null,null,null,null,null,null,null,null,null,null,null,null,null,null,null,19672.782243809947,{"$f":"2*PI()*R499/B56","v":1.2875805869338552},1.441110562747985,-42.335548412050038,3.120034984682718E-5,15.582543491133865,-2.9101913562978865E-5,-2.1926303451103024E-5,-26.753024748783339]

{"sheet":"Equalizer 192 kHz","index":3,"n_rows":499,"n_cols":38,"rows_kept":499,"cut":false,"hidden":false,"merged":[]}
[]
[]
[]
[]
[]
[]
[]
[]
[]
[]
[]
[]
[]
[]
[]
[null,"LPF","HPF","Hi Shelf","Lo Shelf","PeakingEQ"]
[null,null,null,null,null,null,null,"Select Slider, then"]
[null,null,null,null,null,null,null,"Page up/Down : Big Jump"]
[null,null,null,null,null,null,null,"Up/Down arrows : Fine tune"]
[]
[]
[null,null,null,null,null,null,null,"References : "]
[null,null,null,null,null,null,null,"Cookbook",null,"http://www.musicdsp.org/files/Audio-EQ-Cookbook.txt"]
[null,null,null,null,null,null,null,"Freq Response",null,"http://groups.google.com/group/comp.dsp/browse_frm/thread/8c0fa8d396aeb444/a1bc5b63ac56b686"]
[]
[null,null,null,null,null,null,null,"Usenet thread",null,"http://www.dsprelated.com/showmessage/50960/1.php"]
[]
[]
[]
[]
[]
[]
[]
["F0",{"$f":"10^(B48/333333)*20","v":2000},{"$f":"10^(C48/333333)*20","v":99.997396874553189},{"$f":"10^(D48/333333)*20","v":10000.015994567402},{"$f":"10^(E48/333333)*20","v":49.997742279755144},{"$f":"10^(F48/333333)*20","v":274.99837906963131}]
["Q",{"$f":"B49/1000000*10+0.002","v":0.81526999999999994},{"$f":"C49/1000000*10+0.002","v":0.78515000000000001},{"$f":"D49/1000000*10+0.002","v":1.05623},{"$f":"E49/1000000*10+0.002","v":0.81526999999999994},{"$f":"F49/1000000*30+0.002","v":30.001999999999999}]
["dBgain",{"$f":"(B50-500000)/500000*30","v":-29.999940000000002},{"$f":"(C50-500000)/500000*30","v":-29.999940000000002},{"$f":"(D50-500000)/500000*30","v":14.4579},{"$f":"(E50-500000)/500000*30","v":19.9956},{"$f":"(F50-500000)/500000*30","v":-29.999940000000002}]
["IdBoffset",{"$f":"((B51-500000)/500000*20)","v":0},{"$f":"((C51-500000)/500000*20)","v":0},{"$f":"((D51-500000)/500000*20)","v":0},{"$f":"((E51-500000)/500000*20)","v":0},{"$f":"((F51-500000)/500000*20)","v":0}]
[]
[]
[]
[]
[]
[]
[]
[]
[]
[]
["S1",666666,232986,899656,132640,379433,null,null,"Master dB",500000]
["S2",81327,78315,105423,81327,1000000,null,null,"Normal dB",{"$f":"(J48-500000)/500000*20","v":0}]
["S3",1,1,740965,833260,1,null,null,null,{"$f":"10^(J49/20)","v":1}]
["S4",500000,500000,500000,500000,500000,null,null,null,{"$f":"J50","v":1}]
[]
[]
[]
[]
[null,192000,"Hz"]
[]
[]
[null,"LPF","HPF","Hi Shelf","Lo Shelf","Peaking EQ"]
["A",{"$f":"SQRT( 10^((B36)/20) )","v":0.17782855520090204},{"$f":"SQRT( 10^((C36)/20) )","v":0.17782855520090204},{"$f":"10^((D36)/40)","v":2.2985158347332257},{"$f":"10^((E36)/40)","v":3.1614768061205401},{"$f":"10^((F36)/40)","v":0.17782855520090204}]
["wo",{"$f":"2*PI()*B34/B56","v":6.5449846949787352E-2},{"$f":"2*PI()*C34/B56","v":3.2724071604083253E-3},{"$f":"2*PI()*D34/B56","v":0.32724975816993102},{"$f":"2*PI()*E34/B56","v":1.6361722900224433E-3},{"$f":"2*PI()*F34/B56","v":8.9993009107734879E-3}]
["cos(wo)",{"$f":"COS(B61)","v":0.99785892323860348},{"$f":"COS(C61)","v":0.99999464568046637},{"$f":"COS(D61)","v":0.94692996124681139},{"$f":"COS(E61)","v":0.99999866147041727},{"$f":"COS(F61)","v":0.999959506564848}]
["sin(wo)",{"$f":"SIN(B61)","v":6.5403129230143062E-2},{"$f":"SIN(C61)","v":3.2724013199017135E-3},{"$f":"SIN(D61)","v":0.3214399609462274},{"$f":"SIN(E61)","v":1.6361715600007073E-3},{"$f":"SIN(F61)","v":8.9991794395762846E-3}]
["Alpha",{"$f":" B63/(2*B35)","v":4.0111330743277114E-2},{"$f":" C63/(2*C35)","v":2.0839338469730074E-3},{"$f":" D63/(2*D35)","v":0.15216380946679578},{"$f":" E63/(2*E35)","v":1.0034538005818364E-3},{"$f":" F63/(2*F35)","v":1.4997632557123335E-4}]
["Lingain",{"$f":"10^(B37/20)","v":1},{"$f":"10^(C37/20)","v":1},{"$f":"10^(D37/20)","v":1},{"$f":"10^(E37/20)","v":1},{"$f":"10^(F37/20)","v":1}]
[null,null,null,null,null,null,null,null,null,null,"Coefficients"]
[null,null,null,null,null,null,null,null,null,null,"B0","B1","B2","-A1","-A2"]
["B0",{"$f":"B65*J51*(1 - B62)/2","v":1.0705383806982605E-3},{"$f":"C65*J51*(1 + C62)/2","v":0.99999732284023324},{"$f":"D65*J51*(D60*( (D60+1) + (D60-1)*D62 + 2*SQRT(D60)*D64 ))","v":11.468458855277445},{"$f":"E65*J51*(E60*( (E60+1) - (E60-1)*E62 + 2*SQRT(E60)*E64 ))","v":6.3342441429160958},{"$f":"F65*$J$51*(1+(F64*F60))","v":1.0000266700732907},null,null,null,"BQ0",{"$f":"(B68/B71)","v":1.0292536472352818E-3},{"$f":"(B69/B71)","v":2.0585072944705636E-3},{"$f":"(B70/B71)","v":1.0292536472352818E-3},{"$f":"(-B72/B71)","v":1.9187540674622214},{"$f":"(-B73/B71)","v":-0.92287108205116253}]
["B1",{"$f":"B65*J51*(1 - B62)","v":2.1410767613965209E-3},{"$f":"C65*J51*-(1 + C62)","v":-1.9999946456804665},{"$f":"D65*J51*(-2*D60*( (D60-1) + (D60+1)*D62 ))","v":-20.327978912736523},{"$f":"E65*J51*(2*E60*( (E60-1) - (E60+1)*E62 ))","v":-12.645872003987755},{"$f":"F65*$J$51*(-2*F62)","v":-1.999919013129696},null,null,null,"BQ1",{"$f":"(C68/C71)","v":0.99791772830971426},{"$f":"(C69/C71)","v":-1.9958354566194285},{"$f":"(C70/C71)","v":0.99791772830971426},{"$f":"(-C72/C71)","v":1.9958301134347383},{"$f":"(-C73/C71)","v":-0.99584079980411855}]
["B2",{"$f":"B65*J51*((1 - B62)/2)","v":1.0705383806982605E-3},{"$f":"C65*J51*(1 +C62)/2","v":0.99999732284023324},{"$f":"D65*J51*(D60*( (D60+1) + (D60-1)*D62 - 2*SQRT(D60)*D64 ))","v":9.3474493551555184},{"$f":"E65*J51*(E60*( (E60+1) - (E60-1)*E62 - 2*SQRT(E60)*E64 ))","v":6.3116813751395462},{"$f":"F65*$J$51*(1-(F60*F64))","v":0.99997332992670929},null,null,null,"BQ2",{"$f":"(D68/D71)","v":4.5324519730987927},{"$f":"(D69/D71)","v":-8.0338247095637652},{"$f":"(D70/D71)","v":3.694207374142489},{"$f":"(-D72/D71)","v":1.4424758586482156},{"$f":"(-D73/D71)","v":-0.63531049632573278}]
["A0",{"$f":"1+B64","v":1.0401113307432772},{"$f":"1+C64","v":1.0020839338469729},{"$f":"(D60+1) - (D60-1)*D62 + 2*SQRT(D60)*D64","v":2.5302990353445649},{"$f":"(E60+1) + (E60-1)*E62 + 2*SQRT(E60)*E64","v":6.3265191095680597},{"$f":"1 + (F64/F60)","v":1.0008433759437667},null,null,null,"BQ3",{"$f":"(E68/E71)","v":1.001221055878319},{"$f":"(E69/E71)","v":-1.9988672736106137},{"$f":"(E70/E71)","v":0.99765467642292061},{"$f":"(-E72/E71)","v":1.9988710798070957},{"$f":"(-E73/E71)","v":-0.99887192610475772}]
["A1",{"$f":"-2*B62","v":-1.995717846477207},{"$f":"-2*C62","v":-1.9999892913609327},{"$f":"2*((D60-1)-(D60+1)*D62)","v":-3.6498952736454031},{"$f":"-2*((E60-1)+(E60+1)*E62)","v":-12.645896083962533},{"$f":"-2*F62","v":-1.999919013129696},null,null,null,"BQ4",{"$f":"(F68/F71)","v":0.99918398233918881},{"$f":"(F69/F71)","v":-1.9982337508542027},{"$f":"(F70/F71)","v":0.99913068714049591},{"$f":"(-F72/F71)","v":1.9982337508542027},{"$f":"(-F73/F71)","v":-0.99831466947968472}]
["A2",{"$f":"1-B64","v":0.95988866925672289},{"$f":"1-C64","v":0.99791606615302697},{"$f":"(D60+1) - (D60-1)*D62 - 2*SQRT(D60)*D64","v":1.6075255359972784},{"$f":"(E60+1) +(E60-1)*E62 - 2*SQRT(E60)*E64","v":6.3193823285128046},{"$f":"1-(F64/F60)","v":0.99915662405623329}]
[]
[]
[]
[]
[]
[]
[]
[]
[]
[]
[]
[]
[]
[]
[]
[]
[]
[]
[]
[]
[]
[]
[]
[]
[]
[]
[]
[]
[]
[]
[]
[]
[]
[]
[]
[null,"Fo",563154,{"$f":"10^(C109/333333)*20","v":978.34872897125581},{"$f":"LOG(C109)","v":5.7506271731900638}]
[null,"Q",912551,{"$f":"C110/1000000*7","v":6.3878570000000003}]
[null,"dBgain",361479,{"$f":"(C111-500000)/500000*20","v":-5.5408400000000002}]
[null,"Master dbgain",554218,{"$f":"(C112-500000)/500000*20","v":2.16872}]
[null,null,538360,null,null,null,null,null,null,null,null,null,null,null,null,null,null,null,null,null,"PRE-EQ",null,null,null,null,null,null,null,null,null,"POST-EQ"]
[null,null,null,null,null,null,null,null,null,null,null,null,null,null,null,null,null,null,null,null,"LPF","HPF","Hi Shelf","Low Shelf","Peak EQ","Total"]
[null,null,null,null,null,null,null,null,null,null,null,null,null,null,null,null,null,"FREQ","w","Phi","CH1 Pre-EQ1","CH1 Pre-EQ2","CH1 Pre-EQ3","CH1 Pre-EQ4","CH1 Pre-EQ5","CH1 Pre-EQ",null,null,null,null,"CH1 Post-EQ1","CH1 Post-EQ2","CH1 Post-EQ3","CH1 Post-EQ4","CH1 Post-EQ5","CH1 Post-EQ",null,"CH1 Pre + Post"]
[null,null,"pre1","B0",1,null,{"$f":"B68/B71","v":1.0292536472352818E-3},null,null,null,null,null,null,null,null,null,null,10,{"$f":"2*PI()*R116/B56","v":3.2724923474893676E-4},{"$f":"4*(SIN(S116/2))^2","v":1.070920606880389E-7},{"$f":"10*LOG10(($G$116+$G$117+$G$118)^2 + ( $G$116*$G$118*T116 - ($G$117*($G$116+$G$118) + 4*$G$116*$G$118) )*T116 )  - 10*LOG10( (1+$G$119+$G$120)^2 + ( 1*$G$120*T116 - ($G$119*(1+$G$120) + 4*1*$G$120) )*T116)","v":5.3755611261863123E-5},{"$f":"10*LOG10(($G$121+$G$122+$G$123)^2 + ( $G$121*$G$123*$T116 - ($G$122*($G$121+$G$123) + 4*$G$121*$G$123) )*$T116 )  - 10*LOG10( (1+$G$124+$G$125)^2 + ( 1*$G$125*$T116 - ($G$124*(1+$G$125) + 4*1*$G$125) )*$T116)","v":-39.983557975392372},{"$f":"10*LOG10(($G$126+$G$127+$G$128)^2 + ( $G$126*$G$128*$T116 - ($G$127*($G$126+$G$128) + 4*$G$126*$G$128) )*$T116 )  - 10*LOG10( (1+$G$129+$G$130)^2 + ( 1*$G$130*$T116 - ($G$129*(1+$G$130) + 4*1*$G$130) )*$T116)","v":-8.7725820829831491E-6},{"$f":"10*LOG10(($G$131+$G$132+$G$133)^2 + ( $G$131*$G$133*$T116 - ($G$132*($G$131+$G$133) + 4*$G$131*$G$133) )*$T116 )  - 10*LOG10( (1+$G$134+$G$135)^2 + ( 1*$G$135*$T116 - ($G$134*(1+$G$135) + 4*1*$G$135) )*$T116)","v":20.176549275152169},{"$f":"10*LOG10(($G$136+$G$137+$G$138)^2 + ( $G$136*$G$138*$T116 - ($G$137*($G$136+$G$138) + 4*$G$136*$G$138) )*$T116 )  - 10*LOG10( (1+$G$139+$G$140)^2 + ( 1*$G$140*$T116 - ($G$139*(1+$G$140) + 4*1*$G$140) )*$T116)","v":-2.0207818805317856E-4},{"$f":"U116+V116+W116+X116+Y116","v":-19.807165795399079},null,null,null,null,{"$f":"10*LOG10(($G$141+$G$142+$G$143)^2 + ( $G$141*$G$143*$T116 - ($G$142*($G$141+$G$143) + 4*$G$141*$G$143) )*$T116 )  - 10*LOG10( (1+$G$144+$G$145)^2 + ( 1*$G$145*$T116 - ($G$144*(1+$G$145) + 4*1*$G$145) )*$T116)","v":-1.5169045852303498E-5},{"$f":"10*LOG10(($G$146+$G$147+$G$148)^2 + ( $G$146*$G$148*$T116 - ($G$147*($G$146+$G$148) + 4*$G$146*$G$148) )*$T116 )  - 10*LOG10( (1+$G$149+$G$150)^2 + ( 1*$G$150*$T116 - ($G$149*(1+$G$150) + 4*1*$G$150) )*$T116)","v":2.3138775068147766E-3},{"$f":"10*LOG10(($G$151+$G$152+$G$153)^2 + ( $G$151*$G$153*$T116 - ($G$152*($G$151+$G$153) + 4*$G$151*$G$153) )*$T116 )  - 10*LOG10( (1+$G$154+$G$155)^2 + ( 1*$G$155*$T116 - ($G$154*(1+$G$155) + 4*1*$G$155) )*$T116)","v":-4.1661198738882135},{"$f":"10*LOG10(($G$156+$G$157+$G$158)^2 + ( $G$156*$G$158*$T116 - ($G$157*($G$156+$G$158) + 4*$G$156*$G$158) )*$T116 )  - 10*LOG10( (1+$G$159+$G$160)^2 + ( 1*$G$160*$T116 - ($G$159*(1+$G$160) + 4*1*$G$160) )*$T116)","v":5.1188635073430078E-2},{"$f":"10*LOG10(($G$161+$G$162+$G$163)^2 + ( $G$161*$G$163*$T116 - ($G$162*($G$161+$G$163) + 4*$G$161*$G$163) )*$T116 )  - 10*LOG10( (1+$G$164+$G$165)^2 + ( 1*$G$165*$T116 - ($G$164*(1+$G$165) + 4*1*$G$165) )*$T116)","v":1.303233264593473E-5},{"$f":"AE116+AF116+AG116+AH116+AI116","v":-4.112619498021175},null,{"$f":"AJ116+Z116","v":-23.919785293420254}]
[null,null,"LPF","B1",2,null,{"$f":"B69/B71","v":2.0585072944705636E-3},null,null,null,null,null,null,null,null,null,null,10.199999999999999,{"$f":"2*PI()*R117/B56","v":3.3379421944391545E-4},{"$f":"4*(SIN(S117/2))^2","v":1.1141857989966445E-7},{"$f":"10*LOG10(($G$116+$G$117+$G$118)^2 + ( $G$116*$G$118*T117 - ($G$117*($G$116+$G$118) + 4*$G$116*$G$118) )*T117 )  - 10*LOG10( (1+$G$119+$G$120)^2 + ( 1*$G$120*T117 - ($G$119*(1+$G$120) + 4*1*$G$120) )*T117)","v":5.5927238051367567E-5},-39.638921575313617,-9.1269940529770111E-6,20.181030070266175,-2.1026444285610069E-4,-19.458054969246298,null,null,null,null,-1.5782006620668199E-5,2.4073523217040815E-3,-4.1655569806957686,5.118876893848423E-2,1.3558871117425042E-5,-4.1119630825710836,null,-23.570018051817382]
[null,null,null,"B2",3,null,{"$f":"B70/B71","v":1.0292536472352818E-3},null,null,null,null,null,null,null,null,null,null,10.404,{"$f":"2*PI()*R118/B56","v":3.4047010383279381E-4},1.1591989048412829E-7,5.8186590329967203E-5,-39.29426115626643,-9.4957242406934483E-6,20.185448417002604,-2.1878326413116156E-4,-19.108982831661869,null,null,null,null,-1.6419741854178938E-5,2.5046030381545847E-3,-4.1649714579936443,5.1188908211706519E-2,1.4106684417924953E-5,-4.1112802598012195,null,-23.220263091463089]
[null,null,null,"-A1",4,null,{"$f":"B72/B71","v":-1.9187540674622214},null,null,null,null,null,null,null,null,null,null,10.612080000000001,{"$f":"2*PI()*R119/B56","v":3.4727950590944973E-4},1.2060305401262012E-7,6.0537211517441847E-5,-38.949575865153037,-9.8793510954209296E-6,20.189780701803841,-2.2764823992815764E-4,-18.759972153728704,null,null,null,null,-1.7083253283090016E-5,2.6057821629521527E-3,-4.1643624006898321,5.1189053111578176E-2,1.4676632275723023E-5,-4.1105699720363091,null,-22.870542125765013]
[null,null,null,"-A2",5,null,{"$f":"B73/B71","v":0.92287108205116253},null,null,null,null,null,null,null,null,null,null,10.824321600000001,{"$f":"2*PI()*R120/B56","v":3.5422509602763875E-4},1.2547541734378315E-7,6.298278815819458E-5,-38.60486482416492,-1.0278476441527573E-5,20.194000540287746,-2.3687351978196602E-4,-18.411048453085243,null,null,null,null,-1.7773583252278513E-5,2.7110483609007474E-3,-4.1637288678749016,5.1189203865416033E-2,1.5269609136225881E-5,-4.1098311196227009,null,-22.520879572707944]
[null,null,"pre2","B0",6,null,{"$f":"C68/C71","v":0.99791772830971426},null,null,null,null,null,null,null,null,null,null,11.040808032000001,{"$f":"2*PI()*R121/B56","v":3.6130959794819148E-4},1.3054462414932552E-7,6.5527155648226199E-5,-38.260127130599358,-1.0693726414601201E-5,20.198078515117075,-2.4647383854414784E-4,-18.062240255891595,null,null,null,null,-1.84918162844383E-5,2.8205667033347481E-3,-4.163069881436094,5.1189360709727794E-2,1.5886545654097972E-5,-4.1090625592936618,null,-22.171302815185257]
[null,null,"HPF","B1",7,null,{"$f":"C69/C71","v":-1.9958354566194285},null,null,null,null,null,null,null,null,null,null,11.261624192640001,{"$f":"2*PI()*R122/B56","v":3.6853578990715539E-4},1.3581862690526599E-7,6.8174304281853892E-5,-37.915361856737121,-1.1125752449103743E-5,20.201981892598155,-2.5646454130878737E-4,-17.713579380128444,null,null,null,null,-1.9239080778277184E-5,2.9345089266357149E-3,-4.1623844246202282,5.1189523890563748E-2,1.6528410085925316E-5,-4.1082631024737211,null,-21.821842482602165]
[null,null,null,"B2",8,null,{"$f":"C70/C71","v":0.99791772830971426},null,null,null,null,null,null,null,null,null,null,11.486856676492801,{"$f":"2*PI()*R123/B56","v":3.7590650570529845E-4},1.4130569936762585E-7,7.0928385476065614E-5,-37.570568049789529,-1.1575232292670989E-5,20.205674316800412,-2.6686160889255461E-4,-17.365101241444826,null,null,null,null,-2.0016550855928017E-5,3.0530537012083414E-3,-4.1616714405440547,5.1189693663918234E-2,1.7196209803671536E-5,-4.1074315135199804,null,-21.472532754964806]
[null,null,null,"-A1",9,null,{"$f":"C72/C71","v":-1.9958301134347383},null,null,null,null,null,null,null,null,null,null,11.716593810022657,{"$f":"2*PI()*R124/B56","v":3.8342463581940439E-4},1.4701444955213881E-7,7.3793718307513245E-5,-37.225744731923754,-1.2042871079032125E-5,20.209115480029965,-2.7768168531849824E-4,-17.016845182731878,null,null,null,null,-2.0825448117989254E-5,3.1763869112637622E-3,-4.1609298306500335,5.1189870296138196E-2,1.7890992907609871E-5,-4.1065665078978419,null,-21.12341169062972]
[null,null,null,"-A2",10,null,{"$f":"C73/C71","v":0.99584079980411855},null,null,null,null,null,null,null,null,null,null,11.95092568622311,{"$f":"2*PI()*R125/B56","v":3.9109312853579254E-4},1.5295383323834097E-7,7.6774796248457733E-5,-36.880890900376755,-1.2529402418692825E-5,20.21226076856874,-2.8894210571195345E-4,-16.668854828519898,null,null,null,null,-2.166704366857175E-5,3.3047019458507521E-3,-4.1601584531061491,5.1190054064317536E-2,1.8613849917414882E-5,-4.1056667502897319,null,-20.77452157880963]
[null,null,"pre3","B0",11,null,{"$f":"D68/D71","v":4.5324519730987927},null,null,null,null,null,null,null,null,null,null,12.189944199947572,{"$f":"2*PI()*R126/B56","v":3.9891499110650833E-4},1.5913316801922513E-7,7.9876294222458455E-5,-36.536005527668834,-1.3035589574883488E-5,20.21506088270408,-3.0066092594438487E-4,-16.321178465186051,null,null,null,null,-2.2542660076396714E-5,3.4382000017174619E-3,-4.1593561211476597,5.1190245256755418E-2,1.9365915370883613E-5,-4.1047308526338924,null,-20.425909317819944]
[null,null,"Hi Shelf","B1",12,null,{"$f":"D69/D71","v":-8.0338247095637652},null,null,null,null,null,null,null,null,null,null,12.433743083946524,{"$f":"2*PI()*R127/B56","v":4.0689329092863852E-4},1.6556214791850221E-7,8.3103075908752544E-5,-36.191087561928327,-1.356222663240203E-5,20.21746143024005,-3.1285695344251963E-4,-15.973869447792445,null,null,null,null,-2.3453673470896774E-5,3.5770903982950131E-3,-4.1585216013592969,5.119044417338614E-2,2.0148369721084691E-5,-4.1037573720913656,null,-20.077626819883811]
[null,null,null,"B2",13,null,{"$f":"D70/D71","v":3.694207374142489},null,null,null,null,null,null,null,null,null,null,12.682417945625454,{"$f":"2*PI()*R128/B56","v":4.150311567472113E-4},1.7225085859839835E-7,8.6460201401905579E-5,-35.846135927341535,-1.4110139764156315E-5,20.21940249290536,-3.2554977929066808E-4,-15.62698663415383,null,null,null,null,-2.4401515709371324E-5,3.7215909053358587E-3,-4.1576536118957748,5.1190651126280073E-2,2.0962441119820596E-5,-4.1027448089387484,null,-19.729731443092579]
[null,null,null,"-A1",14,null,{"$f":"D72/D71","v":-1.4424758586482156},null,null,null,null,null,null,null,null,null,null,12.936066304537963,{"$f":"2*PI()*R129/B56","v":4.2333177988215548E-4},1.7920979318184783E-7,8.9952935063308814E-5,-35.501149524741763,-1.4680188517246506E-5,20.220818165366609,-3.3875981203834726E-4,-15.28059484644065,null,null,null,null,-2.5387676650723279E-5,3.8719280838819259E-3,-4.1567508206390116,5.1190866440087746E-2,2.1809407392936464E-5,-4.1016916043842997,null,-19.382286450824949]
[null,null,null,"-A2",15,null,{"$f":"D73/D71","v":0.63531049632573278},null,null,null,null,null,null,null,null,null,null,13.194787630628722,{"$f":"2*PI()*R130/B56","v":4.3179841547979862E-4},1.8644986871390195E-7,9.3586753877161755E-5,-35.156127232353711,-1.5273267171878047E-5,20.221636066933627,-3.5250831273003769E-4,-14.934765360246111,null,null,null,null,-2.6413706478933818E-5,4.0283376407828086E-3,-4.1558118432900102,5.1191090452615384E-2,2.2690598008523466E-5,-4.1005961383050824,null,-19.035361498551193]
[null,null,"pre4","B0",16,null,{"$f":"E68/E71","v":1.001221055878319},null,null,null,null,null,null,null,null,null,null,13.458683383241297,{"$f":"2*PI()*R131/B56","v":4.4043438378939465E-4},1.9398244328817799E-7,9.7367355884614426E-5,-34.811067906710889,-1.5890306121590925E-5,20.221776826519715,-3.6681743175392967E-4,-14.589576420573167,null,null,null,null,-2.7481218232594529E-5,4.1910647976948212E-3,-4.1548352413936556,5.1191323515272558E-2,2.3607396208547016E-5,-4.0994567269027122,null,-18.689033147475879]
[null,null,"Lo Shelf","B1",17,null,{"$f":"E69/E71","v":-1.9988672736106137},null,null,null,null,null,null,null,null,null,null,13.727857050906124,{"$f":"2*PI()*R132/B56","v":4.4924307146518251E-4},2.0181933386521737E-7,1.0130066927871439E-4,-34.465970383764727,-1.6532273358293992E-5,20.221153542007244,-3.8171024735333958E-4,-14.245113783608915,null,null,null,null,-2.8591890277596121E-5,4.3603646747953917E-3,-4.1538195202942276,5.1191565993697452E-2,2.4561241140474976E-5,-4.0982716202748719,null,-18.343385403883786]
[null,null,null,"B2",18,null,{"$f":"E70/E71","v":0.99765467642292061},null,null,null,null,null,null,null,null,null,null,14.002414191924247,{"$f":"2*PI()*R133/B56","v":4.5822793289448618E-4},2.0997283481070434E-7,1.0539286148514293E-4,-34.120833480207011,-1.7200175976839205E-5,20.21967121588834,-3.9721080571553102E-4,-13.901471282438877,null,null,null,null,-2.9747468971663693E-5,4.5365026899588656E-3,-4.1527631270200516,5.1191818268286227E-2,2.5553630166541552E-5,-4.0970389999006116,null,-17.998510282339488]
[null,null,null,"-A1",19,null,{"$f":"E72/E71","v":-1.9988710798070957},null,null,null,null,null,null,null,null,null,null,14.282462475762733,{"$f":"2*PI()*R134/B56","v":4.6739249155237597E-4},2.1845573718262859E-7,1.0965034901744275E-4,-33.775655995028018,-1.7895061763084641E-5,20.217226169916046,-4.1334416326321843E-4,-13.558751413987977,null,null,null,null,-3.0949771506527668E-5,4.719754974068735E-3,-4.1516644480949907,5.1192080734807632E-2,2.6586121201432888E-5,-4.0957569760364194,null,-17.654508390024397]
[null,null,null,"-A2",20,null,{"$f":"E73/E71","v":0.99887192610475772},null,null,null,null,null,null,null,null,null,null,14.568111725277987,{"$f":"2*PI()*R135/B56","v":4.7674034138342345E-4},2.2728134879764868E-7,1.1407980739619461E-4,-33.430436711336029,-1.8618020824590076E-5,20.213705442531179,-4.3013643050926476E-4,-13.217065943448787,null,null,null,null,-3.2200688686145895E-5,4.9104088030134108E-3,-4.1505218072750409,5.1192353805021185E-2,2.7660335149448656E-5,-4.094423585020543,null,-17.31148952846933]
[null,null,"pre5","B0",21,null,{"$f":"F68/F71","v":0.99918398233918881},null,null,null,null,null,null,null,null,null,null,14.859473959783546,{"$f":"2*PI()*R136/B56","v":4.8627514821109193E-4},2.3646351510813644E-7,1.1868818161531181E-4,-33.085174398465284,-1.9370187313683118E-5,20.208986174040589,-4.4761481821353755E-4,-12.87653652124861,null,null,null,null,-3.3502187974931985E-5,5.1087630470831868E-3,-4.1493334632080092,5.1192637907320204E-2,2.8777958448245045E-5,-4.0930367864831325,null,-16.969573307731743]
[null,null,"PeakEQ","B1",22,null,{"$f":"F69/F71","v":-1.9982337508542027},null,null,null,null,null,null,null,null,null,null,15.156663438979217,{"$f":"2*PI()*R137/B56","v":4.9600065117531378E-4},2.4601664092265284E-7,1.2348269705597659E-4,-32.73986781440297,-2.0152741203816049E-5,20.202934985930057,-4.6580768564297159E-4,-12.537295306202708,null,null,null,null,-3.485631658861621E-5,5.3151286383226193E-3,-4.1480976070141935,5.1192933487399728E-2,2.9940745747580877E-5,-4.0915944604593122,null,-16.62888976666202]
["Master A",{"$f":"SQRT( 10^((D112)/20) )","v":1.1329689296300816},null,"B2",23,null,{"$f":"F70/F71","v":0.99913068714049591},null,null,null,null,null,null,null,null,null,null,15.459796707758802,{"$f":"2*PI()*R138/B56","v":5.0592066419882006E-4},2.5595571300393117E-7,1.2847087075584795E-4,-32.394515708567766,-2.0966910129871508E-5,20.195407362306256,-4.8474459107694656E-4,-12.19948558689196,null,null,null,null,-3.6265204798269224E-5,5.5298290569609776E-3,-4.1468123597862885,5.1193241008970602E-2,3.1150522680434278E-5,-4.0900944044024747,null,-16.289579991294435]
["A",{"$f":"SQRT( 10^((D111)/20) )","v":0.72690724928258155},null,"-A1",24,null,{"$f":"F72/F71","v":-1.9982337508542027},null,null,null,null,null,null,null,null,null,null,15.768992641913979,{"$f":"2*PI()*R139/B56","v":5.1603907748279648E-4},2.6629632357981771E-7,1.3366052322538735E-4,-32.049116824976053,-2.1813971331496873E-5,20.186247043288276,-5.0445634467166656E-4,-11.863262391480554,null,null,null,null,-3.7731069213009505E-5,5.753200837091299E-3,-4.1454757700064775,5.1193560954480688E-2,3.2409188683857337E-5,-4.0885343300954347,null,-15.951796721575988]
["wo",{"$f":"2*PI()*D109/B56","v":3.2016387287343843E-2},null,"-A2",25,null,{"$f":"F73/F71","v":0.99831466947968472},null,null,null,null,null,null,null,null,null,null,16.084372494752259,{"$f":"2*PI()*R140/B56","v":5.2635985903245238E-4},2.7705469480405427E-7,1.3905979060524487E-4,-31.703669905835355,-2.2695253642623925E-5,20.175285442202693,-5.2497506393933691E-4,-11.528793074159637,null,null,null,null,-3.9256216425087587E-5,5.9855940929551821E-3,-4.1440858108787921,5.1193893825839609E-2,3.3718720068520724E-5,-4.0869118604563539,null,-15.615704934615991]
["cos(wo)",{"$f":"COS(B140)","v":0.99948751925126944},"post1","B0",26,null,{"$f":"B186/B189","v":0.99837998619091428},null,null,null,null,null,null,null,null,null,null,16.406059944647303,{"$f":"2*PI()*R141/B56","v":5.3688705621310145E-4},2.8824770420527472E-7,1.4467713746313393E-4,-31.358173695607462,-2.3612139587569914E-5,20.162341100667533,-5.4633423177108398E-4,-11.196257864173823,null,null,null,null,-4.0843046527072602E-5,6.2273730662028015E-3,-4.1426403775748568,5.1194240145278513E-2,3.5081173024309464E-5,-4.0852245262368783,null,-15.281482390410702]
["sin(wo)",{"$f":"SIN(B140)","v":3.2010917839752094E-2},null,"B1",27,null,{"$f":"B187/B189","v":-1.9921083570143123},null,null,null,null,null,null,null,null,null,null,16.734181143540251,{"$f":"2*PI()*R142/B56","v":5.4762479733736348E-4},2.9989291116414164E-7,1.5052137000992616E-4,-31.012626945588678,-2.4566067532205693E-5,20.147219198050038,-5.6856875723099165E-4,-10.865850360993392,null,null,null,null,-4.2494057055364465E-5,6.4789166952365917E-3,-4.1411372843912204,5.1194600456099693E-2,3.6498686959873794E-5,-4.0834697626099796,null,-14.949320123603371]
["Alpha",{"$f":" B142/(2*D110)","v":2.5056069539246177E-3},null,"B2",28,null,{"$f":"B188/B189","v":0.99474981147442298},null,null,null,null,null,null,null,null,null,null,17.068864766411057,{"$f":"2*PI()*R143/B56","v":5.5857729328411085E-4},3.1200858446015684E-7,1.5660164987707503E-4,-30.667028419058312,-2.5558533961245189E-5,20.129711134306376,-5.9171503947652582E-4,-10.537777956675498,null,null,null,null,-4.4211846855546355E-5,6.7406192074912497E-3,-4.1395742618164775,5.1194975323561209E-2,3.7973487799547456E-5,-4.081644905644481,null,-14.619422862319979]
[null,null,null,"-A1",29,null,{"$f":"B190/B189","v":-1.9921083570143123},null,null,null,null,null,null,null,null,null,null,17.410242061739279,{"$f":"2*PI()*R144/B56","v":5.6974883914979308E-4},3.2461373093136352E-7,1.6292750848379001E-4,-30.321376897050783,-2.6591095810601928E-5,20.109594207791176,-6.1581103452112984E-4,-10.212262163881455,null,null,null,null,-4.5999120310113994E-5,7.0128907353748104E-3,-4.1379489535063243,5.1195365335750864E-2,3.9507891550272234E-5,-4.0797471886639585,null,-14.292009352545413]
[null,null,null,"-A2",30,null,{"$f":"B191/B189","v":0.99312979766533704},null,null,null,null,null,null,null,null,null,null,17.758446902974065,{"$f":"2*PI()*R145/B56","v":5.8114381593278889E-4},3.377281252918989E-7,1.6950886185185254E-4,-29.975671184813507,-2.7665372913432407E-5,20.086631412164891,-6.4089632547847941E-4,-9.889538825485154,null,null,null,null,-4.7858691537783216E-5,7.2961579570431923E-3,-4.136258913165058,5.1195771104538323E-2,4.110430787562791E-5,-4.0777737384871386,null,-13.967312563972293]
["LPF B0",{"$f":"B138^2*(1 - B141)/2","v":3.2891490945498216E-4},"post2","B0",31,null,{"$f":"B196","v":1.0336448821075817},null,null,null,null,null,null,null,null,null,null,18.113615841033546,{"$f":"2*PI()*R146/B56","v":5.9276669225144464E-4},3.5137234115417484E-7,1.7635602623045088E-4,-29.629910119016074,-2.878305055808994E-5,20.060571378907682,-6.6701219616049912E-4,-9.5698581793288824,null,null,null,null,-4.9793488955174325E-5,7.5908647630527071E-3,-4.1345016013319125,5.1196193266477508E-2,4.2765243954079324E-5,-4.0757215715473833,null,-13.645579750876266]
["LPF B1",{"$f":"B138^2*(1 - B141)","v":6.5782981890996433E-4},"PA EQ","B1",32,null,{"$f":"B197","v":-1.9939780491282826},null,null,null,null,null,null,null,null,null,null,18.475888157854218,{"$f":"2*PI()*R147/B56","v":6.046220260964737E-4},3.6556778330435399E-7,1.8347973412602414E-4,-29.284092575783788,-2.9945882094040144E-5,20.031148494009258,-6.9420170827072525E-4,-9.2534847496307684,null,null,null,null,-5.1806559937972452E-5,7.897472949402129E-3,-4.1326743820706042,5.1196632483872406E-2,4.4493308422488553E-5,-4.0735875898888452,null,-13.327072339519614]
["LPF B2",{"$f":"B138^2*((1 - B141)/2)","v":3.2891490945498216E-4},null,"B2",33,null,{"$f":"B198","v":0.96135556634424124},null,null,null,null,null,null,null,null,null,null,18.845405921011302,{"$f":"2*PI()*R148/B56","v":6.1671446661840307E-4},3.8033672128175237E-7,1.9089115116344146E-4,-28.938217479635355,-3.1155691717188461E-5,19.99808321896019,-7.2250978257670795E-4,-8.9406970349982942,null,null,null,null,-5.3901075595774728E-5,8.2164629388685739E-3,-4.1307745195609726,5.1197089445778943E-2,4.6291215454630219E-5,-4.0713685770364663,null,-13.01206561203476]
["LPF A0",{"$f":"1+B143","v":1.0025056069539247},null,"-A1",34,null,{"$f":"B199","v":-1.9939780491282826},null,null,null,null,null,null,null,null,null,null,19.222314039431527,{"$f":"2*PI()*R149/B56","v":6.2904875595077116E-4},3.9570232431485135E-7,1.9860189348008817E-4,-28.592283813409793,-3.2414377322709242E-5,19.961082646994058,-7.5198328403303094E-4,-8.631786962183611,null,null,null,null,-5.6080335916419699E-5,8.5483345309356196E-3,-4.1287991745912862,5.1197564869070789E-2,4.8161789045764181E-5,-4.0690611937381505,null,-12.700848155921761]
["LPF A1",{"$f":"-2*B141","v":-1.9989750385025389},null,"-A2",35,null,{"$f":"B200","v":0.99500044845182289},null,null,null,null,null,null,null,null,null,null,19.606760320220157,{"$f":"2*PI()*R150/B56","v":6.4162973106978653E-4},4.1168869766872048E-7,2.066240458944435E-4,-28.246290629278363,-3.3723913468008959E-5,19.919841325381242,-7.8267111128127453E-4,-8.3270590748759759,null,null,null,null,-5.8347775024003568E-5,8.8936076820331778E-3,-4.1267454009503268,5.1198059499611759E-2,5.0107967510371054E-5,-4.0666619735761955,null,-12.393721048452171]
["LPF A2",{"$f":"1-B143","v":0.99749439304607534},"post3","B0",36,null,1.029078483581543,null,null,null,null,null,null,null,null,null,null,19.998895526624562,{"$f":"2*PI()*R151/B56","v":6.5446232569118222E-4},4.2832092046087599E-7,2.1497018083493913E-4,-27.900237060942644,-3.5086354484903381E-5,19.874042373178142,-8.1462429065481956E-4,-8.0268294282288082,null,null,null,null,-6.0706966586110411E-5,9.2528233169275609E-3,-4.1246101417181791,5.1198574113382023E-2,5.2132808050942003E-5,-4.0641673184464047,null,-12.090996746675213]
[null,null,null,"B1",37,null,-1.0814294815063477,null,null,null,null,null,null,null,null,null,null,20.398873437157054,{"$f":"2*PI()*R152/B56","v":6.6755157220500588E-4},4.4562508500489782E-7,2.236533778869898E-4,-27.554122337131503,-3.6503837698376174E-5,19.823358920933529,-8.4789607497270936E-4,-7.7314241627327576,null,null,null,null,-6.3161629640262618E-5,9.6265441728533574E-3,-4.1223902254552343,5.1199109517707342E-2,5.4239491618091051E-5,-4.0615734939026957,null,-11.792997656635453]
[null,null,null,"B2",38,null,5.7410240173339844E-2,null,null,null,null,null,null,null,null,null,null,20.806850905900195,{"$f":"2*PI()*R153/B56","v":6.8090260364910612E-4},4.6362833774352756E-7,2.3268724434899468E-4,-27.207945796518061,-3.7978586782116963E-5,19.767455894186355,-8.8254204752047372E-4,-7.4411777357216593,null,null,null,null,-6.5715634413265889E-5,1.0015355677218452E-2,-4.1200823622886134,5.1199666552555811E-2,5.6431327934092224E-5,-4.0588766243653183,null,-11.500054360086978]
["HPF B0",{"$f":"B138^2*(1 + B141)/2","v":1.2832896805976777},null,"-A1",39,null,-1.3199930191040039,null,null,null,null,null,null,null,null,null,null,21.222987924018199,{"$f":"2*PI()*R154/B56","v":6.9452065572208818E-4},4.8235892183546067E-7,2.4208593640651088E-4,-26.861706904189759,-3.9512915238404389E-5,19.705992155958782,-9.1862023133160164E-4,-7.156430795441139,null,null,null,null,-6.8373008630828735E-5,1.0419866860800653E-2,-4.1176831398961795,5.1200246091802626E-2,5.87117607011578E-5,-4.0560726881915059,null,-11.212503483632645]
["HPF B1",{"$f":"B138^2*-(1 + B141)","v":-2.5665793611953553},null,"-A2",40,null,0.32817935943603516,null,null,null,null,null,null,null,null,null,null,21.647447682498562,{"$f":"2*PI()*R155/B56","v":7.0841106883653005E-4},5.0184622146264438E-7,2.518641812443434E-4,-26.515405269814934,-4.1109230027203125E-5,19.638623014726775,-9.5619120422441028E-4,-6.8775276913411645,null,null,null,null,-7.1137943912447099E-5,1.084071130726727E-2,-4.1151890193877207,5.1200849044647612E-2,6.1084373008668535E-5,-4.0531575126067096,null,-10.930685203947874]
["HPF B2",{"$f":"B138^2*(1 + B141)/2","v":1.2832896805976777},"post4","B0",41,null,0.84765434265136719,null,null,null,null,null,null,null,null,null,null,22.080396636148535,{"$f":"2*PI()*R156/B56","v":7.2257929021326064E-4},5.2212080792758645E-7,2.6203730008234061E-4,-26.169040667663509,-4.2770035362238445E-5,19.565003093519863,-9.9531821997800307E-4,-6.604813625098906,null,null,null,null,-7.4014802464716922E-5,1.1278548140893463E-2,-4.1125963310840206,5.1201476357018549E-2,6.3552893060148108E-5,-4.0501267684955131,null,-10.654940393594419]
["HPF A0",{"$f":"1+B143","v":1.0025056069539247},null,"B1",42,null,-1.3982982635498047,null,null,null,null,null,null,null,null,null,null,22.522004568871505,{"$f":"2*PI()*R157/B56","v":7.3703087601752573E-4},5.4321448761299465E-7,2.7262123203541933E-4,-25.822613058651683,-4.449793660832313E-5,19.484789542999636,-1.0360673356899497E-3,-6.3386314596923086,null,null,null,null,-7.7008124158339797E-5,1.1734063053829402E-2,-4.109901270194193,5.1202129013056208E-2,6.6121199978397271E-5,-4.0469759650514874,null,-10.385607424743796]
["HPF A1",{"$f":"-2*B141","v":-1.9989750385025389},null,"B2",43,null,0.64283657073974609,null,null,null,null,null,null,null,null,null,null,22.972444660248936,{"$f":"2*PI()*R158/B56","v":7.517714935378764E-4},5.6516035187898204E-7,2.8363255906072027E-4,-25.476122614596562,-4.6295644390070834E-5,19.397645566903279,-1.0785075464241345E-3,-6.0793182183250352]
["HPF A2",{"$f":"1-B143","v":0.99749439304607534},null,"-A1",44,null,-1.7774972915649414,null,null,null,null,null,null,null,null,null,null,23.431893553453914,{"$f":"2*PI()*R159/B56","v":7.6680692340863393E-4},5.87992828976115E-7,2.9508853177162564E-4,-25.129569744881508,-4.8165978839165291E-5,19.303244212625671,-1.1227109265234958E-3,-5.8272013206294275]
[null,null,null,"-A2",45,null,0.86914825439453125,null,null,null,null,null,null,null,null,null,null,23.900531424522992,{"$f":"2*PI()*R160/B56","v":7.8214306187680653E-4},6.1174773805574881E-7,3.0700709637443424E-4,-24.782955125751272,-5.0111874006830703E-5,19.201272363670881,-1.1687527791934826E-3,-5.5825946196372165]
[null,null,"post 5","B0",46,null,1.0084399188751516,null,null,null,null,null,null,null,null,null,null,24.378542053013451,{"$f":"2*PI()*R161/B56","v":7.9778592311434264E-4},6.3646234536237462E-7,3.1940692268506155E-4,-24.436279732473636,-5.2136382485912236E-5,19.091434855135219,-1.2167117940009575E-3,-5.345794318592219]
["HShelf B0",{"$f":"B138^2*(B139*( (B139+1) + (B139-1)*B141 + 2*SQRT(B139)*B143 ))","v":1.3606302508904577},null,"B1",47,null,-1.994599000969469,null,null,null,null,null,null,null,null,null,null,24.866112894073719,{"$f":"2*PI()*R162/B56","v":8.1374164157662938E-4},6.6217542269613348E-7,3.3230743319023759E-4,-24.089544874625233,-5.4242680178617775E-5,18.973458619343631,-1.2666702129422447E-3,-5.1170748607415319]
["HShelf B1",{"$f":"B138^2*(-2*B139*( (B139-1) + (B139+1)*B141 ))","v":-2.7113746725770249},null,"B2",48,null,0.98968454359703684,null,null,null,null,null,null,null,null,null,null,25.363435151955194,{"$f":"2*PI()*R163/B56","v":8.30016474408162E-4},6.8892730823721501E-7,3.4572883337347093E-4,-23.742752234779843,-5.6434071298738786E-5,18.847096757377599,-1.3187140061745595E-3,-4.8966848966463417]
["HShelf B2",{"$f":"B138^2*(B139*( (B139+1) + (B139-1)*B141 - 2*SQRT(B139)*B143 ))","v":1.3526571467432063},null,"-A1",49,null,-1.9945990009694701,null,null,null,null,null,null,null,null,null,null,25.8707038549943,{"$f":"2*PI()*R164/B56","v":8.4661680389632539E-4},7.1675996982755385E-7,3.5969214320630272E-4,-23.395903910900927,-5.8713993533743292E-5,18.712132424617195,-1.3729330574392407E-3,-4.6848434411914965]
["HShelf A0",{"$f":"(B139+1) - (B139-1)*B141 + 2*SQRT(B139)*B143","v":2.0041325488623092},null,"-A2",50,null,0.998124462472188,null,null,null,null,null,null,null,null,null,null,26.388117932094186,{"$f":"2*PI()*R165/B56","v":8.6354913997425183E-4},7.4571707080910291E-7,3.7421922985458878E-4,-23.049002462765046,-6.1086023455558802E-5,18.568382415557252,-1.4294213598873284E-3,-4.4817363353612834]
["HShelf A1",{"$f":"2*((B139-1)-(B139+1)*B141)","v":-3.9982299865597986},null,null,null,null,null,null,null,null,null,null,null,null,null,null,null,26.915880290736069,{"$f":"2*PI()*R166/B56","v":8.8082012277373686E-4},7.7584403852197127E-7,3.8933284181297267E-4,-22.702050962768197,-6.3553882114320004E-5,18.415700335781139,-1.4882772234727781E-3,-4.2875131252508325]
["HShelf A2",{"$f":"(B139+1) - (B139-1)*B141 - 2*SQRT(B139)*B143","v":1.9955875415829696},null,null,null,null,null,null,null,null,null,null,null,null,null,null,null,27.454197896550792,{"$f":"2*PI()*R167/B56","v":8.9843652522921165E-4},8.0718813556987691E-7,4.0505664428991395E-4,-22.355053051496526,-6.6121440884359117E-5,18.253979257471443,-1.5496034940127856E-3,-4.1022844623156907]
[null,null,null,null,null,null,null,null,null,null,null,null,null,null,null,null,null,28.003281854481809,{"$f":"2*PI()*R168/B56","v":9.1640525573379592E-4},8.3979853396471924E-7,4.2141525602090724E-4,-22.008012998471045,-6.8792727544675358E-5,18.083153769148112,-1.6135077853505209E-3,-3.9261201145798097]
[null,null,null,null,null,null,null,null,null,null,null,null,null,null,null,null,null,28.563347491571445,{"$f":"2*PI()*R169/B56","v":9.3473336084847185E-4},8.7372639226658797E-7,4.3843428768752801E-4,-21.660935768508836,-7.1571932569014507E-5,17.903201349929589,-1.680102724847643E-3,-3.7590476589489761]
["LShelf B0",{"$f":"B138^2*(B139*( (B139+1) - (B139-1)*B141 + 2*SQRT(B139)*B143 ))","v":1.8699992890129757},null,null,null,null,null,null,null,null,null,null,null,null,null,null,null,29.134614441402874,{"$f":"2*PI()*R170/B56","v":9.5342802806544123E-4},9.0902493584021966E-7,4.5614038165808779E-4,-21.313827094174897,-7.4463415735692706E-5,17.714143022515358,-1.7495062139971651E-3,-3.6010519009076134]
["LShelf B1",{"$f":"B138^2*(2*B139*( (B139-1) - (B139+1)*B141 ))","v":-3.730635100169144},null,null,null,null,null,null,null,null,null,null,null,null,null,null,null,29.717306730230931,{"$f":"2*PI()*R171/B56","v":9.7249658862674998E-4},9.457495403538075E-7,4.7456125348332989E-4,-20.966693554835317,-7.7471712931043157E-5,17.516043265913012,-1.8218417042277224E-3,-3.4520750410859797]
["LShelf B2",{"$f":"B138^2*(B139*( (B139+1) - (B139-1)*B141 - 2*SQRT(B139)*B143 ))","v":1.8620261848657242},null,null,null,null,null,null,null,null,null,null,null,null,null,null,null,30.311652864835551,{"$f":"2*PI()*R172/B56","v":9.9194652039928514E-4},9.8395781865115648E-7,4.9372573498374095E-4,-20.619542662856304,-8.0601543288594257E-5,17.309009197014021,-1.8972384897608663E-3,-3.3120175801403491]
["LShelf A0",{"$f":"(B139+1) + (B139-1)*B141 + 2*SQRT(B139)*B143","v":1.4582269569821933},null,null,null,null,null,null,null,null,null,null,null,null,null,null,null,30.917885922132264,{"$f":"2*PI()*R173/B56","v":1.0117854508072709E-3},1.0237097111334625E-6,5.1366381904216496E-4,-20.27238295753348,-8.3857816582266764E-5,17.093189057685805,-1.9758320182745592E-3,-3.1807399258634916]
["LShelf A1",{"$f":"-2*((B139-1)+(B139+1)*B141)","v":-2.9058589836901252},null,null,null,null,null,null,null,null,null,null,null,null,null,null,null,31.536243640574909,{"$f":"2*PI()*R174/B56","v":1.0320211598234164E-3},1.0650675797925103E-6,5.3440670625803932E-4,-19.925224107372316,-8.7245640921551626E-5,16.86877006935832,-2.0577642209502756E-3,-3.058064641169608]
["LShelf A2",{"$f":"(B139+1) +(B139-1)*B141 - 2*SQRT(B139)*B143","v":1.4496819497028537},null,null,null,null,null,null,null,null,null,null,null,null,null,null,null,32.166968513386408,{"$f":"2*PI()*R175/B56","v":1.0526615830198846E-3},1.1080963060427957E-6,5.5598685330693343E-4,-19.578077021380992,-9.0770330768208396E-5,16.635975738629625,-2.1431838630405764E-3,-2.9437792500918682]
[null,null,null,null,null,null,null,null,null,null,null,null,null,null,null,null,null,32.81030788365414,{"$f":"2*PI()*R176/B56","v":1.0737148146802826E-3},1.152863392506063E-6,5.7843802343882089E-4,-19.230953970075561,-9.4437415279813308E-5,16.395062714026608,-2.2322469168329917E-3,-2.8376395023576251]
[null,null,null,null,null,null,null,null,null,null,null,null,null,null,null,null,null,33.466514041327223,{"$f":"2*PI()*R177/B56","v":1.0951891109738882E-3},1.1994390689079164E-6,6.0179533878823577E-4,-18.883868716936348,-9.8252646973051583E-5,16.146317305010783,-2.3251169580760234E-3,-2.7393729861918246]
["Notch B0",1,null,null,null,null,null,null,null,null,null,null,null,null,null,null,null,34.135844322153766,{"$f":"2*PI()*R178/B56","v":1.1170928931933659E-3},1.2478964022526509E-6,6.260953349084275E-4,-18.53683666109248,-1.0222201073517567E-4,15.890051779360192,-2.4219655884110125E-3,-2.6486829739965252]
["Notch B1",{"$f":"-2*B141","v":-1.9989750385025389},null,null,null,null,null,null,null,null,null,null,null,null,null,null,null,34.81856120859684,{"$f":"2*PI()*R179/B56","v":1.1394347510572333E-3},1.2983114114491249E-6,6.5137601738740614E-4,-18.189874992046413,-1.0635173323336744E-4,15.626600554396049,-2.5229728853020106E-3,-2.5652523862515118]
["Notch B2",{"$f":"1","v":1},null,null,null,null,null,null,null,null,null,null,null,null,null,null,null,35.514932432768781,{"$f":"2*PI()*R180/B56","v":1.162223446078378E-3},1.3507631865675073E-6,6.7767692070930252E-4,{"$f":"10*LOG10(($G$121+$G$122+$G$123)^2 + ( $G$121*$G$123*$T180 - ($G$122*($G$121+$G$123) + 4*$G$121*$G$123) )*$T180 )  - 10*LOG10( (1+$G$124+$G$125)^2 + ( 1*$G$125*$T180 - ($G$124*(1+$G$125) + 4*1*$G$125) )*$T180)","v":-17.843002857282968},{"$f":"10*LOG10(($G$126+$G$127+$G$128)^2 + ( $G$126*$G$128*$T180 - ($G$127*($G$126+$G$128) + 4*$G$126*$G$128) )*$T180 )  - 10*LOG10( (1+$G$129+$G$130)^2 + ( 1*$G$130*$T180 - ($G$129*(1+$G$130) + 4*1*$G$130) )*$T180)","v":-1.1064829266693721E-4},{"$f":"10*LOG10(($G$131+$G$132+$G$133)^2 + ( $G$131*$G$133*$T180 - ($G$132*($G$131+$G$133) + 4*$G$131*$G$133) )*$T180 )  - 10*LOG10( (1+$G$134+$G$135)^2 + ( 1*$G$135*$T180 - ($G$134*(1+$G$135) + 4*1*$G$135) )*$T180)","v":15.356316391750994},{"$f":"10*LOG10(($G$136+$G$137+$G$138)^2 + ( $G$136*$G$138*$T180 - ($G$137*($G$136+$G$138) + 4*$G$136*$G$138) )*$T180 )  - 10*LOG10( (1+$G$139+$G$140)^2 + ( 1*$G$140*$T180 - ($G$139*(1+$G$140) + 4*1*$G$140) )*$T180)","v":-2.6283278812826438E-3},{"$f":"U180+V180+W180+X180+Y180","v":-2.4887477647852165}]
["Notch A0",{"$f":"1+B143","v":1.0025056069539247},null,null,null,null,null,null,null,null,null,null,null,null,null,null,null,36.225231081424155,{"$f":"2*PI()*R181/B56","v":1.1854679149999455E-3},{"$f":"4*(SIN(S181/2))^2","v":1.4053340129139799E-6},{"$f":"10*LOG10(($G$116+$G$117+$G$118)^2 + ( $G$116*$G$118*T181 - ($G$117*($G$116+$G$118) + 4*$G$116*$G$118) )*T181 )  - 10*LOG10( (1+$G$119+$G$120)^2 + ( 1*$G$120*T181 - ($G$119*(1+$G$120) + 4*1*$G$120) )*T181)","v":7.0503916958841728E-4},-17.496241543634312,-1.1511842892986124E-4,15.079566695383377,-2.738229075745835E-3,-2.4188231565860221]
["Notch A1",{"$f":"-2*B141","v":-1.9989750385025389},null,null,null,null,null,null,null,null,null,null,null,null,null,null,null,36.949735703052639,{"$f":"2*PI()*R182/B56","v":1.2091772732999444E-3},1.462109500118038E-6,7.3350554252016309E-4,-17.149614673293584,-1.1976915418721035E-4,14.796729999401308,-2.8528849808253653E-3,-2.3551238224847708]
["Notch A2",{"$f":"1-B143","v":0.99749439304607534},null,null,null,null,null,null,null,null,null,null,null,null,null,null,null,37.688730417113689,{"$f":"2*PI()*R183/B56","v":1.233360818765943E-3},1.521178716434901E-6,7.6312053803917479E-4,-16.803148415381145,-1.2460776385836425E-4,14.508192717090012,-2.9725147046235634E-3,-2.297289700221576]
[null,null,null,null,null,null,null,null,null,null,null,null,null,null,null,null,null,38.442505025455965,{"$f":"2*PI()*R184/B56","v":1.2580280351412621E-3},1.5826343284737221E-6,7.9393044350695163E-4,-16.456871713969022,-1.2964184807096046E-4,14.214346206433007,-3.0973485748830853E-3,-2.2449585675154609]
[null,null,null,null,null,null,null,null,null,null,null,null,null,null,null,null,null,39.211355125965085,{"$f":"2*PI()*R185/B56","v":1.2831885958440874E-3},1.6465727465707868E-6,8.2598340663508907E-4,-16.11081653345434,-1.3487930356070876E-4,13.915584191341267,-3.2276288056891644E-3,-2.1977688668156858]
["Peaking B0",{"$f":"1+(B143*B139)","v":1.0018213438586607},null,null,null,null,null,null,null,null,null,null,null,null,null,null,null,39.995582228484388,{"$f":"2*PI()*R186/B56","v":1.3088523677609691E-3},1.7130942760357725E-6,8.5932950985778689E-4,-15.765018122142138,-1.4032834605615108E-4,13.612300562545244,-3.3636102116361144E-3,-2.1553621686447286]
["Peaking B1",{"$f":"-2*B141","v":-1.9989750385025389},null,null,null,null,null,null,null,null,null,null,null,null,null,null,null,40.795493873054077,{"$f":"2*PI()*R187/B56","v":1.3350294151161888E-3},1.78230327450833E-6,8.940208476673206E-4,-15.419515294842654,-1.4599752315724857E-4,13.304887568252838,-3.5055609727123738E-3,-2.1173852642380186]
["Peaking B2",{"$f":"1-(B143*B139)","v":0.99817865614133938},null,null,null,null,null,null,null,null,null,null,null,null,null,null,null,41.611403750515159,{"$f":"2*PI()*R188/B56","v":1.3617300034185122E-3},1.8543083156718328E-6,9.3011160690537054E-4,-15.07435073520935,-1.5189572775575755E-4,12.993734392608488,-3.6537634545084074E-3,-2.0834918901762212]
["Peaking A0",{"$f":"1 + (B143/B139)","v":1.0034469417609984},null,null,null,null,null,null,null,null,null,null,null,null,null,null,null,42.443631825525465,{"$f":"2*PI()*R189/B56","v":1.3889646034868826E-3},1.9292223595811506E-6,9.6765815030153135E-4,-14.729571318427418,-1.5803221196186712E-4,12.679226109899517,-3.8085150881386198E-3,-2.0533440976776998]
["Peaking A1",{"$f":"-2*B141","v":-1.9989750385025389},null,null,null,null,null,null,null,null,null,null,null,null,null,null,null,43.292504462035971,{"$f":"2*PI()*R190/B56","v":1.4167438955566202E-3},2.0071629298716055E-6,1.0067191033442668E-3,-14.385228454712674,-1.6441660161881089E-4,12.361742994370189,-3.9701293153200368E-3,-2.0266132871560796]
["Peaking A2",{"$f":"1-(B143/B139)","v":0.99655305823900153},null,null,null,null,null,null,null,null,null,null,null,null,null,null,null,44.158354551276695,{"$f":"2*PI()*R191/B56","v":1.445078773467753E-3},2.0882522981271591E-6,1.0473554444061506E-3,-14.041378453879503,-1.7105891141078189E-4,12.041660159322575,-4.1389366042068332E-3,-2.0029809346281393]
[null,null,null,null,null,null,null,null,null,null,null,null,null,null,null,null,null,45.041521642302229,{"$f":"2*PI()*R192/B56","v":1.4739803489371077E-3},2.1726176756970133E-6,1.089630598634983E-3,-13.698082910983189,-1.779695605517162E-4,11.719347494712252,-4.3152855415939939E-3,-1.982139040774447]
[null,null,null,null,null,null,null,null,null,null,null,null,null,null,null,null,null,45.942352075148271,{"$f":"2*PI()*R193/B56","v":1.5034599559158499E-3},2.2603914132615825E-6,1.1336105353478843E-3,-13.355409112724331,-1.8515938912422314E-4,11.395169869432181,-4.499544009391343E-3,-1.9637903361553182]
["Planet Analog 2nd order EQ filter",null,null,"Fc",{"$f":"D109","v":978.34872897125581},null,null,null,null,null,null,null,null,null,null,null,null,46.861199116651235,{"$f":"2*PI()*R194/B56","v":1.5335291550341668E-3},2.3517112084608603E-6,1.1793638693262665E-3,-13.013430463912499,-1.9263967509530744E-4,11.069487562645108,-4.6921004516633502E-3,-1.9476482775248236]
[null,null,null,"g",{"$f":"D111+20","v":14.459160000000001},null,"d",{"$f":"-COS(2*PI()*E194/B56)","v":-0.99948751925126944},null,null,null,null,null,null,null,null,null,47.798423098984259,{"$f":"2*PI()*R195/B56","v":1.5641997381348502E-3},2.4467203219109434E-6,1.2269619660756348E-3,-12.672226932810034,-2.0042215197868529E-4,10.742656887582953,-4.893365241358083E-3,-1.9334368706543419]
["PA EQ B0",{"$f":" 1 + (1+E202)*E197/2","v":1.0336448821075817},null,"b",{"$f":"E194/D110","v":153.15758148174822},null,null,null,null,null,null,null,null,null,null,null,null,48.754391560963946,{"$f":"2*PI()*R196/B56","v":1.5954837328975471E-3},2.5455678019475552E-6,1.2764790511710089E-3,-12.331885513608881,-2.0851902724317029E-4,10.415030970917257,-5.1037721555786675E-3,-1.9208903548232747]
["PA EQ B1",{"$f":" H195*(1-E202)","v":-1.9939780491282826},null,"H",{"$f":"E195-1","v":13.459160000000001},null,null,null,null,null,null,null,null,null,null,null,null,49.729479392183222,{"$f":"2*PI()*R197/B56","v":1.627393407555498E-3},2.6484087184491604E-6,1.3279923239437608E-3,-11.992500703615022,-2.1694300145469469E-4,10.086960650876634,-5.3237799692169574E-3,-1.909752783385116]
["PA EQ B2",{"$f":"-E202-(1+E202)*E197/2","v":0.96135556634424124},null,null,null,null,null,null,null,null,null,null,null,null,null,null,null,50.724068980026885,{"$f":"2*PI()*R198/B56","v":1.659941275706608E-3},2.7554044061064619E-6,1.3815820755596064E-3,-11.654174991925089,-2.2570728819104602E-4,9.758795457541396,-5.5538741784744161E-3,-1.8997775337747989]
["PA EQ A1",{"$f":"B197","v":-1.9939780491282826},null,null,null,null,null,null,null,null,null,null,null,null,null,null,null,51.738550359627425,{"$f":"2*PI()*R199/B56","v":1.6931401012207402E-3},2.8667227175199217E-6,1.4373318116156497E-3,-11.317019355457703,-2.3482563475774043E-4,9.4308846390254075,-5.7945688663636474E-3,-1.8907267791218008]
["PA EQ A2",{"$f":"-E202","v":0.99500044845182289},null,"a1 g<1",{"$f":" (TAN(PI()*E196/B56)-E195)/(TAN(PI()*E196/B56)+E195)","v":-0.99965342301419968},null,null,null,null,null,null,null,null,null,null,null,null,52.773321366819971,{"$f":"2*PI()*R200/B56","v":1.7270029032451552E-3},2.9825382865223474E-6,1.4953283797112249E-3,-10.981153757149642,-2.4431234373523125E-4,9.1035781974502754,-6.0464087239608943E-3,-1.8823709523873511]
[null,null,null,"a2 g>=1",{"$f":" (TAN(PI()*E196/B56)-1)/(TAN(PI()*E196/B56)+1)","v":-0.99500044845182289},null,null,null,null,null,null,null,null,null,null,null,null,53.828787794156369,{"$f":"2*PI()*R201/B56","v":1.7615429613100581E-3},3.1030328021396295E-6,1.5556621017225325E-3,-10.646707639930781,-2.5418229542495396E-4,8.7772278986609393,-6.3099712423877463E-3,-1.8744882327059322]
[null,null,null,"a",{"$f":"IF(E195<1, E200,E201)","v":-0.99500044845182289},null,null,null,null,null,null,null,null,null,null,null,null,54.905363550039496,{"$f":"2*PI()*R202/B56","v":1.7967738205362594E-3},3.2283952936194107E-6,1.6184269114560834E-3,-10.313820408755973,-2.6445097114802252E-4,8.45218821951417,-6.5858690927456109E-3,-1.8668640823942404]
[null,null,null,null,null,null,null,null,null,null,null,null,null,null,null,null,null,56.003470821040288,{"$f":"2*PI()*R203/B56","v":1.8327092969469844E-3},3.3588224269748144E-6,1.6837204973896291E-3,-9.9826418914975505,-2.7513447754223819E-4,8.1288171963278728,-6.8747527122638985E-3,-1.8592908618620942]
[null,null,null,null,null,null,null,null,null,null,null,null,null,null,null,null,null,57.123540237461093,{"$f":"2*PI()*R204/B56","v":1.8693634828859239E-3},3.4945188135084397E-6,1.7516444511187501E-3,-9.6533327679018015,-2.8624957180589661E-4,7.8074771377933416,-7.1773131178503036E-3,-1.8515675483469973]
[null,null,null,null,null,null,null,null,null,null,null,null,null,null,null,null,null,58.266011042210316,{"$f":"2*PI()*R205/B56","v":1.9067507525436424E-3},3.6356973308006228E-6,1.8223044214735751E-3,-9.3260649541082472,-2.9781368796300001E-4,7.4885351654591119,-7.4942849702210879E-3,-1.8434995828858458]
[null,null,null,null,null,null,null,null,null,null,null,null,null,null,null,null,null,59.431331263054524,{"$f":"2*PI()*R206/B56","v":1.9448857675945157E-3},3.7825794566654947E-6,1.8958102744335292E-3,-9.0010219284530422,-3.0984496418717811E-4,7.1723635449728107,-7.8264499145319633E-3,-1.8348988680845171]
[null,null,null,null,null,null,null,null,null,null,null,null,null,null,null,null,null,60.619957888315618,{"$f":"2*PI()*R207/B56","v":1.9837834829464058E-3},3.9353956165987395E-6,1.9722762593659127E-3,-8.6783989824776739,-3.2236227126425376E-4,6.8593397718358489,-8.1746402266844598E-3,-1.8255839368804079]
[null,null,null,null,null,null,null,null,null,null,null,null,null,null,null,null,null,61.832357046081931,{"$f":"2*PI()*R208/B56","v":2.0234591526053342E-3},4.0943855452621191E-6,2.0518211815598875E-3,-8.3584033793011088,-3.3538524213483356E-4,6.5498463767401347,-8.5397427976516838E-3,-1.8153803094192007]
[null,null,null,null,null,null,null,null,null,null,null,null,null,null,null,null,null,63.069004187003571,{"$f":"2*PI()*R209/B56","v":2.0639283356574407E-3},4.259798662571781E-6,2.1345685813543014E-3,-8.0412543998744468,-3.4893430270521719E-4,6.2442704178933894,-8.9227034923879955E-3,-1.8041210511947963]
[null,null,null,null,null,null,null,null,null,null,null,null,null,null,null,null,null,64.33038427074365,{"$f":"2*PI()*R210/B56","v":2.1052069023705898E-3},4.431894464980428E-6,2.2206469200298784E-3,-7.7271832562208118,-3.6303070383425506E-4,5.943002631384914,-9.3245319243777658E-3,-1.7916475405440799]
[null,null,null,null,null,null,null,null,null,null,null,null,null,null,null,null,null,65.616991956158529,{"$f":"2*PI()*R211/B56","v":2.1473110404180017E-3},4.6109429325670569E-6,2.3101897729205234E-3,-7.4164328496953402,-3.7769655466135532E-4,5.6464362158683912,-9.7463066914968977E-3,-1.7778104473001868]
[null,null,null,null,null,null,null,null,null,null,null,null,null,null,null,null,null,66.929331795281698,{"$f":"2*PI()*R212/B56","v":2.1902572612263619E-3},4.7972249525729723E-6,2.403336029658476E-3,-7.1092573517218085,-3.9295485724721857E-4,5.3549652348684731,-1.0189181125525693E-2,-1.7624709168064498]
[null,null,null,null,null,null,null,null,null,null,null,null,null,null,null,null,null,68.26791843118734,{"$f":"2*PI()*R213/B56","v":2.2340624064508892E-3},4.9910327600484219E-6,2.5002301021785911E-3,-6.8059215845340901,-4.0882954263743443E-4,5.0689826290144566,-1.0654389613250714E-2,-1.7455019445733431]
[null,null,null,null,null,null,null,null,null,null,null,null,null,null,null,null,null,69.633276799811085,{"$f":"2*PI()*R214/B56","v":2.2787436545799069E-3},5.1926703963011482E-6,2.6010221404675349E-3,-6.5067001803398057,-4.2534550836137441E-4,4.7888778415080822,-1.1143254555832982E-2,-1.7267899167554503]
[null,null,null,null,null,null,null,null,null,null,null,null,null,null,null,null,null,71.025942335807315,{"$f":"2*PI()*R215/B56","v":2.3243185276715056E-3},5.4024541858660138E-6,2.7058682563563252E-3,-6.2118764992070226,-4.425286574463172E-4,4.5150340730504155,-1.165719404056631E-2,-1.7062362805982634]
[null,null,null,null,null,null,null,null,null,null,null,null,null,null,null,null,null,72.446461182523464,{"$f":"2*PI()*R216/B56","v":2.3708048982249356E-3},5.620713232743938E-6,2.8149307558749115E-3,-5.9217412890100718,-4.6040593901075511E-4,4.2478251970071454,-1.2197730310418819E-2,-1.683759297496481]
[null,null,null,null,null,null,null,null,null,null,null,null,null,null,null,null,null,73.895390406173931,{"$f":"2*PI()*R217/B56","v":2.4182209961894343E-3},5.8477899366886031E-6,2.9283783801119512E-3,-5.6365910751016202,-4.7900539051504154E-4,3.9876123813081108,-1.276649912703931E-2,-1.6592958199309518]
[null,null,null,null,null,null,null,null,null,null,null,null,null,null,null,null,null,75.373298214297407,{"$f":"2*PI()*R218/B56","v":2.4665854161132227E-3},6.084040530350841E-6,3.0463865551624281E-3,-5.3567262730949636,-4.9835618165516848E-4,3.7347404797771731,-1.336526013717787E-2,-1.6328030230814612]
[null,null,null,null,null,null,null,null,null,null,null,null,null,null,null,null,null,76.880764178583362,{"$f":"2*PI()*R219/B56","v":2.5159171244354878E-3},6.3298356381233151E-6,3.1691376511915337E-3,-5.0824490252788763,-5.184886601128369E-4,3.4895342713921309,-1.3995908367192555E-2,-1.6042600132628593]
[null,null,null,null,null,null,null,null,null,null,null,null,null,null,null,null,null,78.418379462155031,{"$f":"2*PI()*R220/B56","v":2.5662354669241977E-3},6.5855608575621629E-6,3.2968212512685113E-3,-4.8140607696924889,-5.3943439907122581E-4,3.2522946403592101,-1.4660486988006483E-2,-1.5736692294690879]
[null,null,null,null,null,null,null,null,null,null,null,null,null,null,null,null,null,79.986747051398126,{"$f":"2*PI()*R221/B56","v":2.6175601762626812E-3},6.8516173642977038E-6,3.4296344298496706E-3,-4.5518595606036456,-5.6122624669718846E-4,3.0232948017275589,-1.5361201513726996E-2,-1.5410575522066612]
[null,null,null,null,null,null,null,null,null,null,null,null,null,null,null,null,null,81.586481992426087,{"$f":"2*PI()*R222/B56","v":2.6699113797879347E-3},7.1284225413830941E-6,3.5677820416495365E-3,-4.2961371697867463,-5.8389837760941532E-4,2.8027766854598184,-1.6100435621154929E-2,-1.5064770362840427]
[null,null,null,null,null,null,null,null,null,null,null,null,null,null,null,null,null,83.218211632274617,{"$f":"2*PI()*R223/B56","v":2.7233096073836938E-3},7.4164106340682388E-6,3.7114770209356607E-3,-4.0471760091802338,-6.0748634639296029E-4,2.5909475954078687,-1.6880768804313107E-2,-1.4700051919021355]
[null,null,null,null,null,null,null,null,null,null,null,null,null,null,null,null,null,84.882575864920113,{"$f":"2*PI()*R224/B56","v":2.7777757995313679E-3},7.7160334310260329E-6,3.8609406916521039E-3,-3.8052459267028382,-6.3202714330934384E-4,2.387977257754315,-1.7704996112001936E-2,-1.4317447515121824]
[null,null,null,null,null,null,null,null,null,null,null,null,null,null,null,null,null,86.580227382218524,{"$f":"2*PI()*R225/B56","v":2.8333313155219954E-3},8.0277609730996664E-6,4.0164030887837043E-3,-3.5706009375823129,-6.5755925225019496E-4,2.1939953657373081,-1.8576150253409196E-2,-1.3918228782618804]
[null,null,null,null,null,null,null,null,null,null,null,null,null,null,null,null,null,88.31183192986289,{"$f":"2*PI()*R226/B56","v":2.8899979418324354E-3},8.3520822906826899E-6,4.1781032912737714E-3,-3.3434759628072754,-6.8412271098594601E-4,2.0090897138797459,-1.9497526402020071E-2,-1.3503897947492618]
[null,null,null,null,null,null,null,null,null,null,null,null,null,null,null,null,null,90.078068568460154,{"$f":"2*PI()*R227/B56","v":2.9477979006690843E-3},8.6895061708886448E-6,4.3462897666799449E-3,-3.1240836535168484,-7.1175917389076915E-4,1.8333049959603329,-2.0472710080213119E-2,-1.3076168370439394]
[null,null,null,null,null,null,null,null,null,null,null,null,null,null,null,null,null,91.879629939829357,{"$f":"2*PI()*R228/B56","v":3.0067538586824659E-3},9.0405619557136503E-6,4.521220728193498E-3,-2.9126113846035082,-7.4051197717572848E-4,1.6666423175296501,-2.1505608569455603E-2,-1.263693966892296]
[null,null,null,null,null,null,null,null,null,null,null,null,null,null,null,null,null,93.717222538625947,{"$f":"2*PI()*R229/B56","v":3.0668889358561151E-3},9.4058003724440213E-6,4.703164504142876E-3,-2.7092185019262303,-7.7042620674561135E-4,1.5090594472317349,-2.260048636442491E-2,-1.218826802761523]
[null,null,null,null,null,null,null,null,null,null,null,null,null,null,null,null,null,95.591566989398473,{"$f":"2*PI()*R230/B56","v":3.1282267145732378E-3},9.7857943976115945E-6,4.8923999204575352E-3,-2.5140339048937648,-8.0154876880023096E-4,1.3604718031683944,-2.3762005275756337E-2,-1.1732332558494694]
[null,null,null,null,null,null,null,null,null,null,null,null,null,null,null,null,null,97.503398329186439,{"$f":"2*PI()*R231/B56","v":3.190791248864702E-3},1.0181140155851932E-5,5.0892166963691921E-3,-2.327154039586631,-8.3392846328500525E-4,1.2207541428195867,-2.4995269890737859E-2,-1.127139878424698]
[null,null,null,null,null,null,null,null,null,null,null,null,null,null,null,null,null,99.45346629577017,{"$f":"2*PI()*R232/B56","v":3.2546070738419964E-3},1.0592457855075538E-5,5.2939158538123365E-3,-2.1486413671254354,-8.6761606027607741E-4,1.0897428993498721,-2.6305879224452156E-2,-1.0807780472064792]
[null,null,null,null,null,null,null,null,null,null,null,null,null,null,null,null,null,101.44253562168558,{"$f":"2*PI()*R233/B56","v":3.3196992153188363E-3},1.1020392759418912E-5,5.5068101407584891E-3,-1.9785233580336978,-9.0266437947406075E-4,0.96723908504014844,-2.7699985542326999E-2,-1.034380112774592]
[null,null,null,null,null,null,null,null,null,null,null,null,null,null,null,null,null,103.47138633411929,{"$f":"2*PI()*R234/B56","v":3.3860931996252132E-3},1.1465616201501794E-5,5.7282244689247364E-3,-1.8167920465450322,-9.3912837287746243E-4,0.85301166529990269,-2.9184361512875512E-2,-0.98817564666195778]
[null,null,null,null,null,null,null,null,null,null,null,null,null,null,null,null,null,105.54081406080168,{"$f":"2*PI()*R235/B56","v":3.4538150636177177E-3},1.1928826635578392E-5,5.9584963661407642E-3,-1.6634041600574392,-9.7706521081519782E-4,0.74680129502419845,-3.0766477063963293E-2,-0.94238791094187846]
[null,null,null,null,null,null,null,null,null,null,null,null,null,null,null,null,null,107.65163034201771,{"$f":"2*PI()*R236/B56","v":3.5228913648900719E-3},1.2410750733234648E-5,6.1979764438078178E-3,-1.518281819309351,-1.0165343713808284E-3,0.64832430326480051,-3.2454587576452809E-2,-0.89723066154857634]
[null,null,null,null,null,null,null,null,null,null,null,null,null,null,null,null,null,109.80466294885807,{"$f":"2*PI()*R237/B56","v":3.5933491921878733E-3},1.2912144523350304E-5,6.4470288796769637E-3,-1.3813137854800175,-1.0575977335491871E-3,0.55727681213859626,-3.4257835362652145E-2,-0.8529053775579456]
[null,null,null,null,null,null,null,null,null,null,null,null,null,null,null,null,null,112.00075620783522,{"$f":"2*PI()*R238/B56","v":3.6652161760316305E-3},1.3433794578113926E-5,6.7060319163871895E-3,-1.2523572124222113,-1.1003196739984844E-3,0.4733388810381598,-3.6186366763075739E-2,-0.80959898590473856]
[null,null,null,null,null,null,null,null,null,null,null,null,null,null,null,null,null,114.24077133199194,{"$f":"2*PI()*R239/B56","v":3.7385204995522637E-3},1.3976519246951317E-5,6.9753783759765042E-3,-1.1312398466134823,-1.1447671677977667E-3,0.39617857667789735,-3.8251467663599215E-2,-0.76748212639100544]
[null,null,null,null,null,null,null,null,null,null,null,null,null,null,null,null,null,116.52558675863177,{"$f":"2*PI()*R240/B56","v":3.8132909095433092E-3},1.4541169940302873E-5,7.2554761907070997E-3,-1.0177626049587616,-1.1910098932421675E-3,0.32545588224758148,-4.0465720813614325E-2,-0.72670797722732949]
[null,null,null,null,null,null,null,null,null,null,null,null,null,null,null,null,null,118.85609849380441,{"$f":"2*PI()*R241/B56","v":3.8895567277341752E-3},1.5128632465263689E-5,7.5467489506237939E-3,-0.91170245182615872,-1.2391203407950968E-3,0.26082637382063467,-4.2843189038009655E-2,-0.68741163843370501]
[null,null,null,null,null,null,null,null,null,null,null,null,null,null,null,null,null,121.2332204636805,{"$f":"2*PI()*R242/B56","v":3.9673478622888588E-3},1.573982841518144E-5,7.8496364677960173E-3,-0.81281549188730651,-1.289173926501519E-3,0.20194460807348946,-4.5399629318495727E-2,-0.64971005059101827]
[null,null,null,null,null,null,null,null,null,null,null,null,null,null,null,null,null,123.65788487295411,{"$f":"2*PI()*R243/B56","v":4.0466948195346363E-3},1.6375716615391778E-5,8.1645953578615149E-3,-0.72084019442534952,-1.3412491099167312E-3,0.14846718131988723,-4.8152743820423893E-2,-0.6137024106779414]
[null,null,null,null,null,null,null,null,null,null,null,null,null,null,null,null,null,126.1310425704132,{"$f":"2*PI()*R244/B56","v":4.1276287159253289E-3},1.7037294627359076E-5,8.4920996388291314E-3,{"$f":"10*LOG10(($G$121+$G$122+$G$123)^2 + ( $G$121*$G$123*$T244 - ($G$122*($G$121+$G$123) + 4*$G$121*$G$123) )*$T244 )  - 10*LOG10( (1+$G$124+$G$125)^2 + ( 1*$G$125*$T244 - ($G$124*(1+$G$125) + 4*1*$G$125) )*$T244)","v":-0.63550066745681022},{"$f":"10*LOG10(($G$126+$G$127+$G$128)^2 + ( $G$126*$G$128*$T244 - ($G$127*($G$126+$G$128) + 4*$G$126*$G$128) )*$T244 )  - 10*LOG10( (1+$G$129+$G$130)^2 + ( 1*$G$130*$T244 - ($G$129*(1+$G$130) + 4*1*$G$130) )*$T244)","v":-1.3954275167868957E-3},{"$f":"10*LOG10(($G$131+$G$132+$G$133)^2 + ( $G$131*$G$133*$T244 - ($G$132*($G$131+$G$133) + 4*$G$131*$G$133) )*$T244 )  - 10*LOG10( (1+$G$134+$G$135)^2 + ( 1*$G$135*$T244 - ($G$134*(1+$G$135) + 4*1*$G$135) )*$T244)","v":0.10005543502866487},{"$f":"10*LOG10(($G$136+$G$137+$G$138)^2 + ( $G$136*$G$138*$T244 - ($G$137*($G$136+$G$138) + 4*$G$136*$G$138) )*$T244 )  - 10*LOG10( (1+$G$139+$G$140)^2 + ( 1*$G$140*$T244 - ($G$139*(1+$G$140) + 4*1*$G$140) )*$T244)","v":-5.112247531560854E-2},{"$f":"U244+V244+W244+X244+Y244","v":-0.57947103562171165}]
[null,null,null,null,null,null,null,null,null,null,null,null,null,null,null,null,null,128.65366342182148,{"$f":"2*PI()*R245/B56","v":4.2101812902438362E-3},{"$f":"4*(SIN(S245/2))^2","v":1.7725600313581831E-5},{"$f":"10*LOG10(($G$116+$G$117+$G$118)^2 + ( $G$116*$G$118*T245 - ($G$117*($G$116+$G$118) + 4*$G$116*$G$118) )*T245 )  - 10*LOG10( (1+$G$119+$G$120)^2 + ( 1*$G$120*T245 - ($G$119*(1+$G$120) + 4*1*$G$120) )*T245)","v":8.8326413474462129E-3},-0.55650990578878634,-1.4517940666856077E-3,5.6377796750780362E-2,-5.4331356181563706E-2,-0.54708261793880908]
[null,null,null,null,null,null,null,null,null,null,null,null,null,null,null,null,null,131.22673669025792,{"$f":"2*PI()*R246/B56","v":4.2943849160487135E-3},1.8441713465717395E-5,9.1867311731874679E-3,-0.48357294534694972,-1.5104371057486077E-3,1.7111757308370557E-2,-5.7804922344558918E-2,-0.51658981631569922]
[null,null,null,null,null,null,null,null,null,null,null,null,null,null,null,null,null,133.85127142406307,{"$f":"2*PI()*R247/B56","v":4.3802726143696864E-3},1.918675749847996E-5,9.5548991100855574E-3,-0.41638986604947092,-1.5714485447730908E-3,-1.8054505024522882E-2,-6.157220631071425E-2,-0.48803312681939559]
[null,null,null,null,null,null,null,null,null,null,null,null,null,null,null,null,null,136.52829685254434,{"$f":"2*PI()*R248/B56","v":4.4678780666570815E-3},1.9961901211968706E-5,9.9376951264673608E-3,-0.35465859643971953,-1.6349240028397105E-3,-4.9420834864179142E-2,-6.5666326982920964E-2,-0.46144298716319199]
[null,null,null,null,null,null,null,null,null,null,null,null,null,null,null,null,null,139.25886278959524,{"$f":"2*PI()*R249/B56","v":4.5572356279902229E-3},2.0768360625190319E-5,1.0335689852418284E-2,-0.29807748455496608,-1.700962956746821E-3,-7.7274120383904688E-2,-7.0125198528018018E-2,-0.43684207657121732]
[null,null,null,null,null,null,null,null,null,null,null,null,null,null,null,null,null,142.04404004538713,{"$f":"2*PI()*R250/B56","v":4.6483803405500271E-3},2.1607400883652153E-5,1.074947528517356E-2,-0.24634761051244425,-1.7696688964061735E-3,-0.10188759627349953,-7.4992386470569272E-2,-0.41424778686774566]
[null,null,null,null,null,null,null,null,null,null,null,null,null,null,null,null,null,144.88492084629488,{"$f":"2*PI()*R251/B56","v":4.7413479473610272E-3},2.2480338244017764E-5,1.1179665512202064E-2,-0.19917482656659047,-1.8411494864896127E-3,-0.12352039877855248,-8.0318146891471542E-2,-0.39367485621090204]
[null,null,null,null,null,null,null,null,null,null,null,null,null,null,null,null,null,147.78261926322077,{"$f":"2*PI()*R252/B56","v":4.8361749063082476E-3},2.338854213893815E-5,1.162689745176948E-2,-0.15627151959182584,-1.9155167346038837E-3,-0.1424173418124326,-8.6160694714109809E-2,-0.37513817540120264]
[null,null,null,null,null,null,null,null,null,null,null,null,null,null,null,null,null,150.73827164848518,{"$f":"2*PI()*R253/B56","v":4.9328984044344128E-3},2.4333437325297146E-5,1.209183161074634E-2,-0.11735809884812909,-1.9928871661676339E-3,-0.1588088834621999,-9.2587760415682396E-2,-0.35865579828143268]
[null,null,null,null,null,null,null,null,null,null,null,null,null,null,null,null,null,153.75303708145489,{"$f":"2*PI()*R254/B56","v":5.0315563725231013E-3},2.5316506119240701E-5,1.2575152859277239E-2,-8.2164218388200538E-2,-2.0733820063227881E-3,-0.17291125339669122,-9.9678512288093657E-2,-0.34425221322003097]
[null,null,null,null,null,null,null,null,null,null,null,null,null,null,null,null,null,156.82809782308399,{"$f":"2*PI()*R255/B56","v":5.1321874999735633E-3},2.6339290721495549E-5,1.3077571221842277E-2,-5.0429748551437115E-2,-2.1571273691716186E-3,-0.18492671349765999,-0.10752594525897052,-0.33196196345539697]
[null,null,null,null,null,null,null,null,null,null,null,null,null,null,null,null,null,159.96465977954568,{"$f":"2*PI()*R256/B56","v":5.234831249973035E-3},2.7403395636624561E-5,1.3599822684199125E-2,-2.19055147239402E-2,-2.2442544545651089E-3,-0.19504392626316758,-0.11623986963596167,-0.32183374239343543]
[null,null,null,null,null,null,null,null,null,null,null,null,null,null,null,null,null,163.1639529751366,{"$f":"2*PI()*R257/B56","v":5.3395278749724957E-3},2.8510490190013227E-5,1.4142670015218073E-2,3.6461759569306196E-3,-2.3348997528120918E-3,-0.20343840800252622,-0.12595067736003784,-0.31393513914322746]
[null,null,null,null,null,null,null,null,null,null,null,null,null,null,null,null,null,166.42723203463933,{"$f":"2*PI()*R258/B56","v":5.4463184324719457E-3},2.9662311146535144E-5,1.4706903603162402E-2,2.6451197859159947E-2,-2.4292052575862755E-3,-0.21027304641536659,-0.13681412438860718,-0.3083582745992377]
[null,null,null,null,null,null,null,null,null,null,null,null,null,null,null,null,null,169.75577667533213,{"$f":"2*PI()*R259/B56","v":5.5552448011213854E-3},3.0860665435003689E-5,1.5293342304907753E-2,4.6723437478945584E-2,-2.5273186873491227E-3,-0.21569866470953514,-0.14901745293471436,-0.30522665654774528]
[null,null,null,null,null,null,null,null,null,null,null,null,null,null,null,null,null,173.15089220883877,{"$f":"2*PI()*R260/B56","v":5.6663496971438125E-3},3.210743298268294E-5,1.5902834307340186E-2,6.4664769075022832E-2,-2.6293937156900427E-3,-0.21985461688768737,-0.16278729725461005,-0.30470370447562445]
[null,null,null,null,null,null,null,null,null,null,null,null,null,null,null,null,null,176.61391005301556,{"$f":"2*PI()*R261/B56","v":5.7796766910866897E-3},3.3404569664303746E-5,1.6536257999192117E-2,8.04651537782064E-2,-2.7355902108183727E-3,-0.22286940115881748,-0.17839998775043853,-0.30700356734267586]
[null,null,null,null,null,null,null,null,null,null,null,null,null,null,null,null,null,180.14618825407587,{"$f":"2*PI()*R262/B56","v":5.8952702249084228E-3},3.475411037020975E-5,1.7194522851873728E-2,9.4302841878743493E-2,-2.8460744847258468E-3,-0.22486128057482802,-0.19619511512797772,-0.31240510545691436]
[null,null,null,null,null,null,null,null,null,null,null,null,null,null,null,null,null,183.74911201915739,{"$f":"2*PI()*R263/B56","v":6.0131756294065919E-3},3.6158172198446029E-5,1.7878570307424013E-2,0.10634465952578864,-2.9610195522593585E-3,-0.22593890193196842,-0.21659357760931641,-0.32127026926033153]
[null,null,null,null,null,null,null,null,null,null,null,null,null,null,null,null,null,187.42409425954054,{"$f":"2*PI()*R264/B56","v":6.1334391419947233E-3},3.761895777579609E-5,1.858937467132904E-2,0.11674636277965078,-3.0806054005836359E-3,-0.22620190570417265,-0.24012187007787134,-0.3340686437316478]
[null,null,null,null,null,null,null,null,null,null,null,null,null,null,null,null,null,191.17257614473135,{"$f":"2*PI()*R265/B56","v":6.2561079248346181E-3},3.9138758712976211E-5,1.9327944007947906E-2,0.12565304374479069,-3.205019269429954E-3,-0.22574152129347169,-0.26744518092492342,-0.35141073373508647]
[null,null,null,null,null,null,null,null,null,null,null,null,null,null,null,null,null,194.99602766762598,{"$f":"2*PI()*R266/B56","v":6.3812300833313105E-3},4.0719959199405885E-5,2.0095321035711322E-2,0.13319957531003013,-3.3344559425003695E-3,-0.22464114319716089,-0.29941309693748508,-0.37409379973140489]
[null,null,null,null,null,null,null,null,null,null,null,null,null,null,null,null,null,198.89594822097851,{"$f":"2*PI()*R267/B56","v":6.5088546849979374E-3},4.2365039743192032E-5,2.0892584018994853E-2,0.13951108277117896,-3.4691180505674879E-3,-0.22297688481913269,-0.33712363817592461,-0.40316597425545098]
[null,null,null,null,null,null,null,null,null,null,null,null,null,null,null,null,null,202.8738671853981,{"$f":"2*PI()*R268/B56","v":6.6390317786978962E-3},4.40765810621926E-5,2.172084765318516E-2,0.14470343227253579,-3.6092163866729976E-3,-0.22081810760369081,-0.38201439122198622,-0.44001743528662907]
[null,null,null,null,null,null,null,null,null,null,null,null,null,null,null,null,null,206.93134452910607,{"$f":"2*PI()*R269/B56","v":6.771812414271855E-3},4.5857268132261543E-5,2.258126393903126E-2,0.14888372754955981,-3.7549702338512958E-3,-0.21822792396882562,-0.43599443493143042,-0.48651233764551627]
[null,null,null,null,null,null,null,null,null,null,null,null,null,null,null,null,null,211.06997141968819,{"$f":"2*PI()*R270/B56","v":6.9072486625572915E-3},4.7709894399024196E-5,2.3475023041918064E-2,0.15215080786805402,-3.9066077060034843E-3,-0.21526367317080997,-0.50163888713936444,-0.54518333710620581]
[null,null,null,null,null,null,null,null,null,null,null,null,null,null,null,null,null,215.29137084808195,{"$f":"2*PI()*R271/B56","v":7.0453936358084376E-3},4.9637366159787867E-5,2.4403354130932087E-2,0.15459574132862031,-4.0643661023036515E-3,-0.2119773697689169,-0.58248164090909427,-0.61952428132076243]
[null,null,null,null,null,null,null,null,null,null,null,null,null,null,null,null,null,219.5971982650436,{"$f":"2*PI()*R272/B56","v":7.1863015085246061E-3},5.1642707122459441E-5,2.5367526192667356E-2,0.15630230883643037,-4.2284922757680476E-3,-0.2084161247862113,-0.68346563687813955,-0.71444041891102117]
[null,null,null,null,null,null,null,null,null,null,null,null,null,null,null,null,null,223.98914223034447,{"$f":"2*PI()*R273/B56","v":7.3300275386950983E-3},5.3729063148619539E-5,2.6368848813099532E-2,0.15734747502865787,-4.3992430164863094E-3,-0.20462254000266,-0.81165224666979441,-0.83695770584718332]
[null,null,null,null,null,null,null,null,null,null,null,null,null,null,null,null,null,228.46892507495136,{"$f":"2*PI()*R274/B56","v":7.4766280894690007E-3},5.5899707188190726E-5,2.7408672921261257E-2,0.15780184331453029,-4.5768854500973788E-3,-0.20063507607460451,-0.97736844762442843,-0.99736989291333877]
[null,null,null,null,null,null,null,null,null,null,null,null,null,null,null,null,null,233.0383035764504,{"$f":"2*PI()*R275/B56","v":7.6261606512583813E-3},5.815804441343845E-5,2.848839148670379E-2,0.15773009292051654,-4.7616974521513811E-3,-0.1964883953729526,-1.196115540906959,-1.2111471493248427]
[null,null,null,null,null,null,null,null,null,null,null,null,null,null,null,null,null,237.69906964797943,{"$f":"2*PI()*R276/B56","v":7.778683864283549E-3},6.0507617560355232E-5,2.9609440162730039E-2,0.1571913964615419,-4.9539680788903695E-3,-0.19221368057182531,-1.4918453582620259,-1.5022121702884697]
[null,null,null,null,null,null,null,null,null,null,null,null,null,null,null,null,null,242.45305104093902,{"$f":"2*PI()*R277/B56","v":7.9342575415692201E-3},6.2952112485803837E-5,3.0773297865728466E-2,0.15623981708384349,-5.1539980151993348E-3,-0.18783893011703867,-1.9027810906327574,-1.9087609038154234]
[null,null,null,null,null,null,null,null,null,null,null,null,null,null,null,null,null,247.30211206175781,{"$f":"2*PI()*R278/B56","v":8.0929426924006044E-3},6.5495363949133725E-5,3.1981487280809517E-2,0.15492468466165121,-5.3621000403030195E-3,-0.18338923176315802,-2.4921811645348271,-2.4940263243958274]
[null,null,null,null,null,null,null,null,null,null,null,null,null,null,null,null,null,252.24815430299296,{"$f":"2*PI()*R279/B56","v":8.2548015462486166E-3},6.8141361627335943E-5,3.3235575281750585E-2,0.15329095088641509,-5.5785995119492782E-3,-0.17888701539882845,-3.3693057364486521,-3.3672448251912641]
[null,null,null,null,null,null,null,null,null,null,null,null,null,null,null,null,null,257.29311738905284,{"$f":"2*PI()*R280/B56","v":8.4198975771735893E-3},7.0894256373169035E-5,3.4537173253184505E-2,0.15137952337578042,-5.8038348697628805E-3,-0.17435228638669287,-4.7337922761004165,-4.7280317007279073]
[null,null,null,null,null,null,null,null,null,null,null,null,null,null,null,null,null,262.43897973683391,{"$f":"2*PI()*R281/B56","v":8.5882955287170624E-3},7.3758366726067734E-5,3.5887937300948636E-2,0.14922757915637419,-6.0381581585797761E-3,-0.16980284063346573,-6.9862896925979072,-6.9770151749326299]
[null,null,null,null,null,null,null,null,null,null,null,null,null,null,null,null,null,267.68775933157059,{"$f":"2*PI()*R282/B56","v":8.7600614392914049E-3},7.6738185686043916E-5,3.7289568335033607E-2,0.14686885805389238,-6.2819355724492709E-3,-0.16525446257944054,-11.118757123392868,-11.106135095155832]
[null,null,null,null,null,null,null,null,null,null,null,null,null,null,null,null,null,273.04151451820201,{"$f":"2*PI()*R283/B56","v":8.9352626680772318E-3},7.9838387761200079E-5,3.874381200885324E-2,0.14433393665647998,-6.5355480201407801E-3,-0.1607211072608834,-21.69565245633558,-21.679831362951269]
[null,null,null,null,null,null,null,null,null,null,null,null,null,null,null,null,null,278.50234480856608,{"$f":"2*PI()*R284/B56","v":9.1139679214387766E-3},8.3063836299905372E-5,4.0252458495338317E-2,0.14165048361697075,-6.7993917130149129E-3,-0.15621506755476844,-17.23339169532845,-17.214503212483926]
[null,null,null,null,null,null,null,null,null,null,null,null,null,null,null,null,null,284.07239170473741,{"$f":"2*PI()*R285/B56","v":9.2962472798675533E-3},8.6419591119129462E-5,4.1817342080342712E-2,0.13884349712684241,-7.0738787760813437E-3,-0.15174712766602738,-9.663014242238134,-9.6411744094730576]
[null,null,null,null,null,null,null,null,null,null,null,null,null,null,null,null,null,289.75383953883215,{"$f":"2*PI()*R286/B56","v":9.4821722254649042E-3},8.9910916440894036E-5,4.3440340549906864E-2,0.13593552543848375,-7.3594378831192131E-3,-0.14732670386430868,-6.2310012159820189,-6.2063114917410562]
[null,null,null,null,null,null,null,null,null,null,null,null,null,null,null,null,null,295.5489163296088,{"$f":"2*PI()*R287/B56","v":9.6718156699742014E-3},9.3543289149284779E-5,4.5123374347141976E-2,0.13294687133512184,-7.6565149168441593E-3,-0.14296197342289929,-4.2869732130623106,-4.2595214557197902]
[null,null,null,null,null,null,null,null,null,null,null,null,null,null,null,null,null,301.45989465620096,{"$f":"2*PI()*R288/B56","v":9.8652519833736865E-3},9.7322407380967841E-5,4.6868405471279573E-2,0.12989578145491976,-7.9655736550154899E-3,-0.13865999265672713,-3.0867254378493385,-3.0565868172348818]
[null,null,null,null,null,null,null,null,null,null,null,null,null,null,null,null,null,307.48909254932499,{"$f":"2*PI()*R289/B56","v":1.0062557023041161E-2},1.0125419946267796E-4,4.8677436088837567E-2,0.12679862136944564,-8.2870964834889094E-3,-0.13442680490133796,-2.3047955299925604,-2.2720333739191041]
[null,null,null,null,null,null,null,null,null,null,null,null,null,null,null,null,null,313.63887440031152,{"$f":"2*PI()*R290/B56","v":1.0263808163501984E-2},1.0534483320968976E-4,5.0552506824004695E-2,0.12367003730034298,-8.621585137268184E-3,-0.13026753922039802,-1.773610964755477,-1.7382775449887955]
[null,null,null,null,null,null,null,null,null,null,null,null,null,null,null,null,null,319.91165188831775,{"$f":"2*PI()*R291/B56","v":1.0469084326772024E-2},1.0960072559984728E-4,5.249569469223303E-2,0.12052310533461252,-8.9695614705931348E-3,-0.12618650057633829,-1.3998036841592096,-1.3619409461792955]
[null,null,null,null,null,null,null,null,null,null,null,null,null,null,null,null,null,326.30988492608412,{"$f":"2*PI()*R292/B56","v":1.0678466013307466E-2},1.1402855283831651E-4,5.450911063707764E-2,0.11736946896864708,-9.331568257138656E-3,-0.12218725214850679,-1.1286199008567905,-1.0882601416567113]
[null,null,null,null,null,null,null,null,null,null,null,null,null,null,null,null,null,332.83608262460581,{"$f":"2*PI()*R293/B56","v":1.0892035333573614E-2},1.1863526082883737E-4,5.6594896627004232E-2,0.11421946577742403,-9.7081700215042588E-3,-0.11827269043374145,-0.92662143052740475,-0.88378792857822219]
[null,null,null,null,null,null,null,null,null,null,null,null,null,null,null,null,null,339.49280427709795,{"$f":"2*PI()*R294/B56","v":1.1109876040245088E-2},1.234280760678884E-4,5.8755222264181839E-2,0.11108224396929245,-1.0099953903150549E-2,-0.11444511371901456,-0.77265775770827361,-0.72736535909696443]
[null,null,null,null,null,null,null,null,null,null,null,null,null,null,null,null,null,346.28266036263989,{"$f":"2*PI()*R295/B56","v":1.1332073561049988E-2},1.2841451697883795E-4,6.0992280852971703E-2,0.10796586954731424,-1.0507530553962141E-2,-0.11070628447106401,-0.65292530720647335,-0.60518097183121355]
[null,null,null,null,null,null,null,null,null,null,null,null,null,null,null,null,null,353.20831356989271,{"$f":"2*PI()*R296/B56","v":1.1558715032270989E-2},1.3360240570384869E-4,6.330828487079998E-2,0.10487742476020401,-1.0931535070737297E-2,-0.10705748614742561,-0.5581585474334787,-0.50796185902063762]
[null,null,null,null,null,null,null,null,null,null,null,null,null,null,null,null,null,360.27247984129059,{"$f":"2*PI()*R297/B56","v":1.1789889332916409E-2},1.3899988037201338E-4,6.5705460778225699E-2,0.10182309848558191,-1.1372627963892157E-2,-0.10349957489432882,-0.48197878042755349,-0.42932242402196685]
[null,null,null,null,null,null,null,null,null,null,null,null,null,null,null,null,null,367.4779294381164,{"$f":"2*PI()*R298/B56","v":1.2025687119574739E-2},1.4461540786295094E-4,6.8186043099466076E-2,9.8808269150353567E-2,-1.183149616368695E-2,-0.10003302656038215,-0.41989357761566737,-0.36476378808991683]
[null,null,null,null,null,null,null,null,null,null,null,null,null,null,null,null,null,374.82748802687871,{"$f":"2*PI()*R299/B56","v":1.2266200861966232E-2},1.5045779708586387E-4,7.0752267697820059E-2,9.5837580753965312E-2,-1.2308854065370411E-2,-9.6657979421962636E-2,-0.36867339433234747,-0.31105037936789515]
[null,null,null,null,null,null,null,null,null,null,null,null,null,null,null,null,null,382.32403778741627,{"$f":"2*PI()*R300/B56","v":1.2511524879205557E-2},1.5653621279486664E-4,7.3406364163204785E-2,9.291501252442913E-2,-1.2805444614686579E-2,-9.3374272983623996E-2,-0.32595314855331026,-0.26581148946398692]
[null,null,null,null,null,null,null,null,null,null,null,null,null,null,null,null,null,389.97051854316459,{"$f":"2*PI()*R301/B56","v":1.2761755376789667E-2},1.6286018996223347E-4,7.6150547221374154E-2,9.004394270056082E-2,-1.3322040435188143E-2,-9.0181483188885636E-2,-0.28997155275673947,-0.22728058645887828]
[null,null,null,null,null,null,null,null,null,null,null,null,null,null,null,null,null,397.7699289140279,{"$f":"2*PI()*R302/B56","v":1.3016990484325461E-2},1.6943964873208705E-4,7.8987007065698833E-2,8.7227206900479359E-2,-1.385944499886449E-2,-8.7078954348569937E-2,-0.25939687200134642,-0.19412105738260266]
[null,null,null,null,null,null,null,null,null,null,null,null,null,null,null,null,null,405.72532749230845,{"$f":"2*PI()*R303/B56","v":1.327733029401197E-2},1.7628490997795914E-4,8.1917898503022002E-2,8.4467151503957894E-2,-1.4418493841674263E-2,-8.4065828069427084E-2,-0.23320813694097353,-0.16530740884509498]
[null,null,null,null,null,null,null,null,null,null,null,null,null,null,null,null,null,413.83983404215462,{"$f":"2*PI()*R304/B56","v":1.3542876899892208E-2},1.8340671148859772E-4,8.4945328795093644E-2,8.1765682445123389E-2,-1.5000055825579395E-2,-8.1141069442310254E-2,-0.21061268463064664,-0.14004279865831926]
[null,null,null,null,null,null,null,null,null,null,null,null,null,null,null,null,null,422.11663072299774,{"$f":"2*PI()*R305/B56","v":1.3813734437890055E-2},1.9081622480737899E-4,8.8071344065816959E-2,7.9124309783779267E-2,-1.5605034448684663E-2,-7.8303490727748226E-2,-0.1909879572808677,-0.11770082860770437]
[null,null,null,null,null,null,null,null,null,null,null,null,null,null,null,null,null,430.55896333745773,{"$f":"2*PI()*R306/B56","v":1.4090009126647858E-2},1.9852507275170441E-4,9.1297914132574931E-2,7.6544188395644142E-2,-1.6234369205289312E-2,-7.5551772757165736E-2,-0.17383978853455062,-9.7783827968786596E-2]
[null,null,null,null,null,null,null,null,null,null,null,null,null,null,null,null,null,439.17014260420689,{"$f":"2*PI()*R307/B56","v":1.4371809309180814E-2},2.0654534763982899E-4,9.4626915606511375E-2,7.4026155096845514E-2,-1.6889036997470797E-2,-7.2884484249854609E-2,-0.15877208091470152,-7.9892531458670035E-2]
[null,null,null,null,null,null,null,null,null,null,null,null,null,null,null,null,null,447.95354545629101,{"$f":"2*PI()*R308/B56","v":1.4659245495364431E-2},2.148896302536696E-4,9.8060113092657275E-2,{"$f":"10*LOG10(($G$121+$G$122+$G$123)^2 + ( $G$121*$G$123*$T308 - ($G$122*($G$121+$G$123) + 4*$G$121*$G$123) )*$T308 )  - 10*LOG10( (1+$G$124+$G$125)^2 + ( 1*$G$125*$T308 - ($G$124*(1+$G$125) + 4*1*$G$125) )*$T308)","v":7.1570762493522011E-2},{"$f":"10*LOG10(($G$126+$G$127+$G$128)^2 + ( $G$126*$G$128*$T308 - ($G$127*($G$126+$G$128) + 4*$G$126*$G$128) )*$T308 )  - 10*LOG10( (1+$G$129+$G$130)^2 + ( 1*$G$130*$T308 - ($G$129*(1+$G$130) + 4*1*$G$130) )*$T308)","v":-1.7570053600096003E-2},{"$f":"10*LOG10(($G$131+$G$132+$G$133)^2 + ( $G$131*$G$133*$T308 - ($G$132*($G$131+$G$133) + 4*$G$131*$G$133) )*$T308 )  - 10*LOG10( (1+$G$134+$G$135)^2 + ( 1*$G$135*$T308 - ($G$134*(1+$G$135) + 4*1*$G$135) )*$T308)","v":-7.0300099228433055E-2},{"$f":"10*LOG10(($G$136+$G$137+$G$138)^2 + ( $G$136*$G$138*$T308 - ($G$137*($G$136+$G$138) + 4*$G$136*$G$138) )*$T308 )  - 10*LOG10( (1+$G$139+$G$140)^2 + ( 1*$G$140*$T308 - ($G$139*(1+$G$140) + 4*1*$G$140) )*$T308)","v":-0.14546447370018711},{"$f":"U308+V308+W308+X308+Y308","v":-6.3703750942536885E-2}]
[null,null,null,null,null,null,null,null,null,null,null,null,null,null,null,null,null,456.91261636541685,{"$f":"2*PI()*R309/B56","v":1.495243040527172E-2},{"$f":"4*(SIN(S309/2))^2","v":2.2357100956729682E-4},{"$f":"10*LOG10(($G$116+$G$117+$G$118)^2 + ( $G$116*$G$118*T309 - ($G$117*($G$116+$G$118) + 4*$G$116*$G$118) )*T309 )  - 10*LOG10( (1+$G$119+$G$120)^2 + ( 1*$G$120*T309 - ($G$119*(1+$G$120) + 4*1*$G$120) )*T309)","v":0.10159913830482736},6.9178309825829842E-2,-1.8278475181045195E-2,-6.7797012701149129E-2,-0.13365569521229759,-4.8953734963834705E-2]
[null,null,null,null,null,null,null,null,null,null,null,null,null,null,null,null,null,466.0508686927252,{"$f":"2*PI()*R310/B56","v":1.5251479013377155E-2},2.3260310327200977E-4,0.10524546689339331,6.6848871053821313E-2,-1.9015399878561823E-2,-6.537355476433504E-2,-0.12313101226412471,-3.5425628959806943E-2]
[null,null,null,null,null,null,null,null,null,null,null,null,null,null,null,null,null,475.37188606657969,{"$f":"2*PI()*R311/B56","v":1.5556508593644696E-2},2.4200007913013802E-4,0.10900039276563689,6.4582320414274363E-2,-1.9781969437644875E-2,-6.3028003265756638E-2,-0.11371266892410858,-2.2939928447598845E-2]
[null,null,null,null,null,null,null,null,null,null,null,null,null,null,null,null,null,484.87932378791129,{"$f":"2*PI()*R312/B56","v":1.586763876551759E-2},2.5177667719101241E-4,0.11286499965824248,6.2378355659035378E-2,-2.0579370907451988E-2,-6.0758595157437867E-2,-0.10525253122200695,-1.1347141969618946E-2]
[null,null,null,null,null,null,null,null,null,null,null,null,null,null,null,null,null,494.5769102636695,{"$f":"2*PI()*R313/B56","v":1.6184991540827941E-2},2.6194823290389156E-4,0.11684012969993063,6.02365191686971E-2,-2.1408838401793417E-2,-5.8563536655924509E-2,-9.7626377086498906E-2,-5.2210327558910308E-4]
[null,null,null,null,null,null,null,null,null,null,null,null,null,null,null,null,null,504.46844846894288,{"$f":"2*PI()*R314/B56","v":1.6508691371644499E-2},2.7253070116403584E-4,0.12092634867854457,5.8156217120568954E-2,-2.2271654924686857E-2,-5.6441012317350214E-2,-9.0729425577535494E-2,9.6404729795409594E-3]
[null,null,null,null,null,null,null,null,null,null,null,null,null,null,null,null,null,514.55781743832176,{"$f":"2*PI()*R315/B56","v":1.6838865199077391E-2},2.8354068132957586E-4,0.12512390770162796,5.6136736874719873E-2,-2.3169154263142033E-2,-5.438919312594237E-2,-8.447280837211224E-2,1.9229488815151186E-2]
[null,null,null,null,null,null,null,null,null,null,null,null,null,null,null,null,null,524.8489737870882,{"$f":"2*PI()*R316/B56","v":1.717564250305894E-2},2.9499544324834102E-4,0.12943270091189163,5.4177262729481868E-2,-2.4102722949297828E-2,-5.2406243686050402E-2,-7.8780763951328936E-2,2.8320233054696331E-2]
[null,null,null,null,null,null,null,null,null,null,null,null,null,null,null,null,null,535.34595326282999,{"$f":"2*PI()*R317/B56","v":1.7519155353120118E-2},3.0691295433539278E-4,0.13385221888952969,5.2276890184984381E-2,-2.5073802294086178E-2,-5.0490328599607892E-2,-7.3588390673805293E-2,3.6976587507014713E-2]
[null,null,null,null,null,null,null,null,null,null,null,null,null,null,null,null,null,546.05287232808655,{"$f":"2*PI()*R318/B56","v":1.7869538460182521E-2},3.1931190774364286E-4,0.13838149734104377,5.0434638842531854E-2,-2.6083890494584594E-2,-4.8639618104601823E-2,-6.8839835415118955E-2,4.5252792169270251E-2]
[null,null,null,null,null,null,null,null,null,null,null,null,null,null,null,null,null,556.97392977464824,{"$f":"2*PI()*R319/B56","v":1.8226929229386169E-2},3.322117516716518E-4,0.14301906064060432,4.864946405670878E-2,-2.7134544817382533E-2,-4.6852293042789483E-2,-6.4486824154414535E-2,5.3194862682726551E-2]
[null,null,null,null,null,null,null,null,null,null,null,null,null,null,null,null,null,568.1134083701412,{"$f":"2*PI()*R320/B56","v":1.8591467813973892E-2},3.456327198544714E-4,0.14776285975232639,4.6920267447788433E-2,-2.8227383860096822E-2,-4.5126549219887124E-2,-6.048746287306983E-2,6.0841731247061048E-2]
[null,null,null,null,null,null,null,null,null,null,null,null,null,null,null,null,null,579.47567653754402,{"$f":"2*PI()*R321/B56","v":1.8963297170253371E-2},3.595958632852459E-4,0.15261020402371628,4.524590637342385E-2,-2.9364089893409329E-2,-4.3460601214889039E-2,-5.680525353798771E-2,6.8226165750854051E-2]
[null,null,null,null,null,null,null,null,null,null,null,null,null,null,null,null,null,591.0651900682949,{"$f":"2*PI()*R322/B56","v":1.9342563113658437E-2},3.7412308321720539E-4,0.15755768629745148,4.3625202449916856E-2,-3.0546411285813591E-2,-4.1852685691210922E-2,-5.3408282288856412E-2,7.5375509481487413E-2]
[null,null,null,null,null,null,null,null,null,null,null,null,null,null,null,null,null,602.88649386966085,{"$f":"2*PI()*R323/B56","v":1.9729414375931609E-2},3.8923716549768545E-4,0.16260110074538403,4.20569492062981E-2,-3.1776165013424063E-2,-4.030106425719282E-2,-5.0268546309510498E-2,8.231227437155475E-2]
[null,null,null,null,null,null,null,null,null,null,null,null,null,null,null,null,null,614.94422374705402,{"$f":"2*PI()*R324/B56","v":2.0124002663450238E-2},4.0496181628787959E-4,0.16773535278110074,4.0539918947473552E-2,-3.3055239257059554E-2,-3.8804025919631613E-2,-4.7361393013417796E-2,8.9054613538465333E-2]
[null,null,null,null,null,null,null,null,null,null,null,null,null,null,null,null,null,627.24310822199516,{"$f":"2*PI()*R325/B56","v":2.0526482716719245E-2},4.2132169922420176E-4,0.17295436035813339,3.9072868896226964E-2,-3.438559608891012E-2,-3.7359889169664484E-2,-4.4665050670914752E-2,9.5616693324870994E-2]
[null,null,null,null,null,null,null,null,null,null,null,null,null,null,null,null,null,639.78797038643506,{"$f":"2*PI()*R326/B56","v":2.093701237105363E-2},4.3834247407937237E-4,0.17825094590963886,3.7654546678055567E-2,-3.576927425097054E-2,-3.5967003737724212E-2,-4.216023386167933E-2,0.10200898073732034]
[null,null,null,null,null,null,null,null,null,null,null,null,null,null,null,null,null,652.58372979416379,{"$f":"2*PI()*R327/B56","v":2.1355752618474704E-2},4.5605083698369096E-4,0.18361671813151048,3.6283695207913524E-2,-3.7208392027430648E-2,-3.4623752050279677E-2,-3.9829810450939362E-2,0.10823845881077432]
[null,null,null,null,null,null,null,null,null,null,null,null,null,null,null,null,null,665.63540439004703,{"$f":"2*PI()*R328/B56","v":2.1782867670844197E-2},4.7447456226938075E-4,0.18904194275613406,3.4959057032082796E-2,-3.8705150213212747E-2,-3.3328550418218583E-2,-3.7658519384820011E-2,0.11430877977196552]
[null,null,null,null,null,null,null,null,null,null,null,null,null,null,null,null,null,678.94811247784799,{"$f":"2*PI()*R329/B56","v":2.2218525024261079E-2},4.936425460034268E-4,0.19451540140780565,3.3679378174895191E-2,-4.0261835180613659E-2,-3.2079849984867792E-2,-3.5632730647975563E-2,0.12022036376924383]
[null,null,null,null,null,null,null,null,null,null,null,null,null,null,null,null,null,692.52707472740497,{"$f":"2*PI()*R330/B56","v":2.2662895524746304E-2},5.1358485127695375E-4,0.20002423757475896,3.2443411535155064E-2,-4.188082204613508E-2,-3.0876137458022868E-2,-3.3740240347043482E-2,0.12597044925871259]
[null,null,null,null,null,null,null,null,null,null,null,null,null,null,null,null,null,706.37761622195308,{"$f":"2*PI()*R331/B56","v":2.3116153435241229E-2},5.3433275532192804E-4,0.2055537886770793,3.1249919873687304E-2,-4.3564577939266158E-2,-2.9715935648951586E-2,-3.1970095176703239E-2,0.13155309978584562]
[null,null,null,null,null,null,null,null,null,null,null,null,null,null,null,null,null,720.50516854639216,{"$f":"2*PI()*R332/B56","v":2.3578476503946056E-2},5.5591879852881563E-4,0.21108740315618491,3.0097678429669372E-2,-4.5315665374996428E-2,-2.8597803839048197E-2,-3.0312441557555303E-2,0.13695917081425435]
[null,null,null,null,null,null,null,null,null,null,null,null,null,null,null,null,null,734.91527191731996,{"$f":"2*PI()*R333/B56","v":2.4050046034024972E-2},5.7837683544177828E-4,0.21660624146183949,2.8985477200521359E-2,-4.7136745731620522E-2,-2.7520337992910981E-2,-2.8758395567223261E-2,0.14217623937060608]
[null,null,null,null,null,null,null,null,null,null,null,null,null,null,null,null,null,749.61357735566639,{"$f":"2*PI()*R334/B56","v":2.4531046954705475E-2},6.017420878110778E-4,0.22208905976775384,2.7912122916717408E-2,-4.9030582835182912E-2,-2.6482170834796648E-2,-2.7299930457871824E-2,0.14718849855661986]
[null,null,null,null,null,null,null,null,null,null,null,null,null,null,null,null,null,764.60584890277971,{"$f":"2*PI()*R335/B56","v":2.5021667893799584E-2},6.2605119978554637E-4,0.22751197521051836,2.6876440740693397E-2,-5.10000466517333E-2,-2.548197180418299E-2,-2.5929779098177619E-2,0.15197661839711785]
[null,null,null,null,null,null,null,null,null,null,null,null,null,null,null,null,null,779.89796588083527,{"$f":"2*PI()*R336/B56","v":2.5522101251675575E-2},6.5134229533131936E-4,0.23284821142039647,2.5877275716190695E-2,-5.3048117088282609E-2,-2.4518446904380653E-2,-2.4641349121736766E-2,0.15651757402218713]
[null,null,null,null,null,null,null,null,null,null,null,null,null,null,null,null,null,795.49592519845203,{"$f":"2*PI()*R337/B56","v":2.6032543276709088E-2},6.7765503796647847E-4,0.23806782310169439,2.4913493992087865E-2,-5.5177887903017364E-2,-2.3590338456997983E-2,-2.3428648928430107E-2,0.1607844418053368]
[null,null,null,null,null,null,null,null,null,null,null,null,null,null,null,null,null,811.40584370242107,{"$f":"2*PI()*R338/B56","v":2.6553194142243271E-2},7.0503069290485528E-4,0.24313739842731508,2.3983983843038459E-2,-5.7392570725037118E-2,-2.2696424773840818E-2,-2.2286222982145887E-2,0.16474616378932971]
[null,null,null,null,null,null,null,null,null,null,null,null,null,null,null,null,null,827.63396057646946,{"$f":"2*PI()*R339/B56","v":2.7084258025088133E-2},7.3351219170598547E-4,0.24801973804319744,2.3087656506831422E-2,-5.9695499183426648E-2,-2.1835519756947974E-2,-2.1209095096132558E-2,0.16836728051352168]
[null,null,null,null,null,null,null,null,null,null,null,null,null,null,null,null,null,844.18663978799884,{"$f":"2*PI()*R340/B56","v":2.7625943185589898E-2},7.631441995320969E-4,0.252673509540422,2.2223446856997953E-2,-6.2090133145010995E-2,-2.1006472435828982E-2,-2.0192718599652437E-2,0.17160763221692754]
[null,null,null,null,null,null,null,null,null,null,null,null,null,null,null,null,null,861.07037258375885,{"$f":"2*PI()*R341/B56","v":2.8178462049301696E-2},7.9397318511705277E-4,0.25705287634990981,2.13903139275331E-2,-6.4580063059676007E-2,-2.0208166451048726E-2,-1.9232932448943529E-2,0.17442202831777465]
[null,null,null,null,null,null,null,null,null,null,null,null,null,null,null,null,null,878.29178003543404,{"$f":"2*PI()*R342/B56","v":2.8742031290287733E-2},8.260474935563889E-4,0.26110710015908012,2.0587241304781401E-2,-6.7169014411399885E-2,-1.9439519491513124E-2,-1.8325922487235857E-2,0.17675988507371265]
[null,null,null,null,null,null,null,null,null,null,null,null,null,null,null,null,null,895.85761563614278,{"$f":"2*PI()*R343/B56","v":2.9316871916093484E-2},8.5941742203194608E-4,0.26478011614893404,1.9813237400740036E-2,-6.9860852272647378E-2,-1.8699482692625224E-2,-1.7468187174962679E-2,0.1785648314094388]
[null,null,null,null,null,null,null,null,null,null,null,null,null,null,null,null,null,913.7747679488657,{"$f":"2*PI()*R344/B56","v":2.9903209354415358E-2},8.9413529858915471E-4,0.26801008061402598,1.9067335620341908E-2,-7.2659585958763984E-2,-1.7987040001699484E-2,-1.6656507211386895E-2,0.17977428306251753]
[null,null,null,null,null,null,null,null,null,null,null,null,null,null,null,null,null,932.05026330784301,{"$f":"2*PI()*R345/B56","v":3.0501273541503664E-2},9.3025556408974741E-4,0.27072889087243368,1.8348594434385745E-2,-7.5569373778334281E-2,-1.7301207516226214E-2,-1.5887918550632207E-2,0.18031898546162672]
[null,null,null,null,null,null,null,null,null,null,null,null,null,null,null,null,null,950.69126857399988,{"$f":"2*PI()*R346/B56","v":3.111129901233374E-2},9.6783485746760407E-4,0.27286167780722792,1.7656097368465851E-2,-7.8594527874301434E-2,-1.6641032800116307E-2,-1.5159688386447101E-2,0.18012252611482893]
[null,null,null,null,null,null,null,null,null,null,null,null,null,null,null,null,null,969.70509394547992,{"$f":"2*PI()*R347/B56","v":3.1733524992580413E-2},1.0069321044205268E-3,0.2743262719253039,1.698895291790592E-2,-8.1739519149643058E-2,-1.600559418263714E-2,-1.4469293737832345E-2,0.17910081777309728]
[null,null,null,null,null,null,null,null,null,null,null,null,null,null,null,null,null,989.09919582438954,{"$f":"2*PI()*R348/B56","v":3.2368195492432021E-2},1.0476086096760731E-3,0.27503264448528597,1.6346294396853978E-2,-8.5008982269972222E-2,-1.5394000044011591E-2,-1.3814402319432872E-2,0.17716155424872326]
[null,null,null,null,null,null,null,null,null,null,null,null,null,null,null,null,null,1008.8811797408773,{"$f":"2*PI()*R349/B56","v":3.301555940228066E-2},1.0899281529750825E-3,0.27488232605462315,1.5727279730022303E-2,-8.8407720734146267E-2,-1.4805388091467364E-2,-1.3192855421877425E-2,0.1742036415371544]
[null,null,null,null,null,null,null,null,null,null,null,null,null,null,null,null,null,1029.0588033356948,{"$f":"2*PI()*R350/B56","v":3.3675870590326278E-2},1.1339570889222831E-3,0.27376780582174121,1.5131091193779866E-2,-9.1940712002188008E-2,-1.4238924629033534E-2,-1.2602652564723371E-2,0.17011660781957616]
[null,null,null,null,null,null,null,null,null,null,null,null,null,null,null,null,null,1049.6399794024087,{"$f":"2*PI()*R351/B56","v":3.4349388002132802E-2},1.1797644508593315E-3,0.27157191613016352,1.4556935113567704E-2,-9.5613112668086586E-2,-1.3693803823954909E-2,-1.204193771523876E-2,0.16477999703645096]
[null,null,null,null,null,null,null,null,null,null,null,null,null,null,null,null,null,1070.6327789904569,{"$f":"2*PI()*R352/B56","v":3.5036375762175456E-2},1.2274220589218411E-3,0.26816720803420679,1.4004041523072885E-2,-9.9430263662918961E-2,-1.3169246972367432E-2,-1.1508986893169038E-2,0.15806275202882425]
[null,null,null,null,null,null,null,null,null,null,null,null,null,null,null,null,null,1092.045434570266,{"$f":"2*PI()*R353/B56","v":3.5737103277418969E-2},1.2770046324484009E-3,0.26341532521017541,1.3471663791008837E-2,-0.1033976954714646,-1.2664501766600722E-2,-1.1002197004359004E-2,0.14982259475875992]
[null,null,null,null,null,null,null,null,null,null,null,null,null,null,null,null,null,1113.8863432616713,{"$f":"2*PI()*R354/B56","v":3.6451845342967346E-2},1.328589906916293E-3,0.25716638530483493,1.2959078219850539E-2,-0.10752113334278235,-1.2178841566054643E-2,-1.0520075766017101E-2,0.13990541284983138]
[null,null,null,null,null,null,null,null,null,null,null,null,null,null,null,null,null,1136.1640701269048,{"$f":"2*PI()*R355/B56","v":3.7180882249826692E-2},1.3822587555855871E-3,0.24925837976049081,1.2465583621334986E-2,-0.11180650247239221,-1.1711564673440478E-2,-1.0061232603135295E-2,0.12814466363285781]
[null,null,null,null,null,null,null,null,null,null,null,null,null,null,null,null,null,1158.8873515294429,{"$f":"2*PI()*R356/B56","v":3.792449989482323E-2},1.4380953160405172E-3,0.23951660531905361,1.1990500872315124E-2,-0.11625993313029426,-1.1261993618148836E-2,-9.6243704107550343E-3,0.11436080903217061]
[null,null,null,null,null,null,null,null,null,null,null,null,null,null,null,null,null,1182.0650985600319,{"$f":"2*PI()*R357/B56","v":3.8682989892719691E-2},1.4961871218245827E-3,0.22775314275076397,1.153317245471186E-2,-0.12088776570539217,-1.0829474447845655E-2,-9.208278088792099E-3,9.8360796963445907E-2]
[null,null,null,null,null,null,null,null,null,null,null,null,null,null,null,null,null,1205.7064005312325,{"$f":"2*PI()*R358/B56","v":3.9456649690574094E-2},1.5566252393736408E-3,0.21376640083995113,1.1092961982811289E-2,-0.12569655563277848,-1.0413376029688948E-2,-8.811823767921112E-3,7.9937607392373877E-2]
[null,null,null,null,null,null,null,null,null,null,null,null,null,null,null,null,null,1229.8205285418571,{"$f":"2*PI()*R359/B56","v":4.024578268438557E-2},1.6195044104593513E-3,0.19734074623116271,1.0669253720529071E-2,-0.13069307816552822,-1.0013089362054473E-2,-8.4339486540017106E-3,5.8869883770107378E-2]
[null,null,null,null,null,null,null,null,null,null,null,null,null,null,null,null,null,1254.4169391126943,{"$f":"2*PI()*R360/B56","v":4.1050698338073281E-2},1.6849232003638354E-3,0.17824624230928521,1.0261452091484102E-2,-0.13588433294751745,-9.6280268978432559E-3,-8.0736614276233354E-3,3.4921673127785269E-2]
[null,null,null,null,null,null,null,null,null,null,null,null,null,null,null,null,null,1279.5052778949482,{"$f":"2*PI()*R361/B56","v":4.1871712304834746E-2},1.752984152015117E-3,0.1562385227447507,9.8689811839776098E-3,-0.14127754833781303,-9.2576218798328114E-3,-7.7300331415841583E-3,7.8423005694983061E-3]
[null,null,null,null,null,null,null,null,null,null,null,null,null,null,null,null,null,1305.0953834528473,{"$f":"2*PI()*R362/B56","v":4.270914655093145E-2},1.8237939463220914E-3,0.13105882753573894,9.4912842531158503E-3,-0.14688018543060366,-8.9013276888820769E-3,-7.4021925668930066E-3,-2.2633593897523951E-2]
[null,null,null,null,null,null,null,null,null,null,null,null,null,null,null,null,null,1331.1972911219043,{"$f":"2*PI()*R363/B56","v":4.3563329481950082E-2},1.8974635689571913E-3,0.10243423114358308,9.1278232217604227E-3,-0.15269994170716394,-8.5586172055656107E-3,-7.0893219420824494E-3,-5.6785826489468505E-2]
[null,null,null,null,null,null,null,null,null,null,null,null,null,null,null,null,null,1357.8212369443424,{"$f":"2*PI()*R364/B56","v":4.4434596071589082E-2},1.9741084838447989E-3,7.0078093436109157E-2,8.7780781819475351E-3,-0.15874475424804935,-8.2289821853791523E-3,-6.790653086710563E-3,-9.490821790208237E-2]
[null,null,null,null,null,null,null,null,null,null,null,null,null,null,null,null,null,1384.9776616832294,{"$f":"2*PI()*R365/B56","v":4.5323287993020871E-2},2.0538488136236429E-3,3.3690764385333694E-2,8.4415468983394248E-3,-0.16502280242430167,-7.9119326481205121E-3,-6.505463843431869E-3,-0.13730788763218094]
[null,null,null,null,null,null,null,null,null,null,null,null,null,null,null,null,null,1412.6772149168939,{"$f":"2*PI()*R366/B56","v":4.6229753752881284E-2},2.1368095273620455E-3,-7.0394274527600942E-3,8.1177443148305883E-3,-0.17154250997597487,-7.6069962814671044E-3,-6.2330748172172434E-3,-0.18430426421258872]
[null,null,null,null,null,null,null,null,null,null,null,null,null,null,null,null,null,1440.9307592152318,{"$f":"2*PI()*R367/B56","v":4.7154348827938911E-2},2.2231206358159466E-3,-5.2434874985863189E-2,7.8062020655025322E-3,-0.17831254637444971,-7.3137178592048713E-3,-5.9728463836563606E-3,-0.2362277835376716]
[null,null,null,null,null,null,null,null,null,null,null,null,null,null,null,null,null,1469.7493743995365,{"$f":"2*PI()*R368/B56","v":4.8097435804497685E-2},2.3129173945310179E-3,-0.10282705748900156,7.5064679908649623E-3,-0.18534182735174554,-7.0316586738243814E-3,-5.7241759410047166E-3,-0.29341825146471123]
[null,null,null,null,null,null,null,null,null,null,null,null,null,null,null,null,null,1499.1443618875271,{"$f":"2*PI()*R369/B56","v":4.905938452058764E-2},2.4063405151021578E-3,-0.15855455261858964,7.2181056603000116E-3,-0.19263951446516714,-6.7603959838180572E-3,-5.4864953835789265E-3,-0.35622285279085375]
[null,null,null,null,null,null,null,null,null,null,null,null,null,null,null,null,null,1529.1272491252778,{"$f":"2*PI()*R370/B56","v":5.0040572210999397E-2},2.5035363849159466E-3,-0.21996068578383188,6.9406939013632041E-3,-0.2002150135488634,-6.4995224757993242E-3,-5.2592687761006118E-3,-0.42499379668323201]
[null,null,null,null,null,null,null,null,null,null,null,null,null,null,null,null,null,1559.7097941077834,{"$f":"2*PI()*R371/B56","v":5.1041383655219388E-2},2.6046572957145126E-3,-0.28739081724471305,6.6738263366090678E-3,-0.20807797188508381,-6.248645740889458E-3,-5.0419902108771453E-3,-0.5000855987449544]
[null,null,null,null,null,null,null,null,null,null,null,null,null,null,null,null,null,1590.9039899899392,{"$f":"2*PI()*R372/B56","v":5.2062211328323782E-2},2.709861681332556E-3,-0.36118927947939738,6.4171109284671957E-3,-0.21623827390684092,-6.0073877659405639E-3,-4.834181831455453E-3,{"$f":"U372+V372+W372+X372+Y372","v":-0.58185201205516712}]
[null,null,null,null,null,null,null,null,null,null,null,null,null,null,null,null,null,1622.722069789738,{"$f":"2*PI()*R373/B56","v":5.3103455554890253E-2},{"$f":"4*(SIN(S373/2))^2","v":2.8193143649731202E-3},{"$f":"10*LOG10(($G$116+$G$117+$G$118)^2 + ( $G$116*$G$118*T373 - ($G$117*($G$116+$G$118) + 4*$G$116*$G$118) )*T373 )  - 10*LOG10( (1+$G$119+$G$120)^2 + ( 1*$G$120*T373 - ($G$119*(1+$G$120) + 4*1*$G$120) )*T373)","v":-0.44169599134836091},{"$f":"10*LOG10(($G$121+$G$122+$G$123)^2 + ( $G$121*$G$123*$T373 - ($G$122*($G$121+$G$123) + 4*$G$121*$G$123) )*$T373 )  - 10*LOG10( (1+$G$124+$G$125)^2 + ( 1*$G$125*$T373 - ($G$124*(1+$G$125) + 4*1*$G$125) )*$T373)","v":6.170169532673242E-3},{"$f":"10*LOG10(($G$126+$G$127+$G$128)^2 + ( $G$126*$G$128*$T373 - ($G$127*($G$126+$G$128) + 4*$G$126*$G$128) )*$T373 )  - 10*LOG10( (1+$G$129+$G$130)^2 + ( 1*$G$130*$T373 - ($G$129*(1+$G$130) + 4*1*$G$130) )*$T373)","v":-0.22470603521986554},{"$f":"10*LOG10(($G$131+$G$132+$G$133)^2 + ( $G$131*$G$133*$T373 - ($G$132*($G$131+$G$133) + 4*$G$131*$G$133) )*$T373 )  - 10*LOG10( (1+$G$134+$G$135)^2 + ( 1*$G$135*$T373 - ($G$134*(1+$G$135) + 4*1*$G$135) )*$T373)","v":-5.775384438905462E-3},{"$f":"10*LOG10(($G$136+$G$137+$G$138)^2 + ( $G$136*$G$138*$T373 - ($G$137*($G$136+$G$138) + 4*$G$136*$G$138) )*$T373 )  - 10*LOG10( (1+$G$139+$G$140)^2 + ( 1*$G$140*$T373 - ($G$139*(1+$G$140) + 4*1*$G$140) )*$T373)","v":-4.6353920081045885E-3},-0.67064263348256326]
[null,null,null,null,null,null,null,null,null,null,null,null,null,null,null,null,null,1655.1765111855329,{"$f":"2*PI()*R374/B56","v":5.4165524665988063E-2},2.9331868164020531E-3,-0.52924279093539184,5.9326374605248589E-3,-0.23349159470516589,-5.5522850686102743E-3,-4.4451936516765045E-3,-0.76679922690031965]
[null,null,null,null,null,null,null,null,null,null,null,null,null,null,null,null,null,1688.2800414092437,{"$f":"2*PI()*R375/B56","v":5.5248835159307834E-2},3.0516574194560035E-3,-0.62414954502274611,5.7041630503888996E-3,-0.2426055044334543,-5.3377519185886513E-3,-4.2631826539931694E-3,-0.87065182097839333]
[null,null,null,null,null,null,null,null,null,null,null,null,null,null,null,null,null,1722.0456422374286,{"$f":"2*PI()*R376/B56","v":5.6353811862493997E-2},3.1749117502742593E-3,-0.72672010911415441,5.4844072486091022E-3,-0.25205851708903637,-5.1314597546934237E-3,-4.0889764438958309E-3,-0.98251465515317093]
[null,null,null,null,null,null,null,null,null,null,null,null,null,null,null,null,null,1756.4865550821773,{"$f":"2*PI()*R377/B56","v":5.7480888099743867E-2},3.3031428666808155E-3,-0.83723822674409121,5.2730431999847838E-3,-0.261861570562818,-4.9330954066277855E-3,-3.9222126492788334E-3,-1.102682062162831]
[null,null,null,null,null,null,null,null,null,null,null,null,null,null,null,null,null,1791.6162861838209,{"$f":"2*PI()*R378/B56","v":5.8630505861738756E-2},3.4365516091596797E-3,-0.95596346938894783,5.0697558481473948E-3,-0.27202576933158618,-4.7423573425717791E-3,-3.7625478558709347E-3,-1.2314243880708293]
[null,null,null,null,null,null,null,null,null,null,null,null,null,null,null,null,null,1827.4486119074973,{"$f":"2*PI()*R379/B56","v":5.9803115978973524E-2},3.5753469138837218E-3,-1.0831273274875315,4.8742415456857202E-3,-0.28256236219265674,-4.5589552572948833E-3,-3.609656455324739E-3,-1.3689840598471221]
[null,null,null,null,null,null,null,null,null,null,null,null,null,null,null,null,null,1863.9975841456471,{"$f":"2*PI()*R380/B56","v":6.0999178298552996E-2},3.7197461382753511E-3,-1.218929567838309,4.686207674140519E-3,-0.29348271586932029,-4.382609673065474E-3,-3.463229574620641E-3,-1.5155719152811749]
[null,null,null,null,null,null,null,null,null,null,null,null,null,null,null,null,null,1901.2775358285601,{"$f":"2*PI()*R381/B56","v":6.2219161864524052E-2},3.8699753995958203E-3,-1.3635349721221957,4.5053722740533431E-3,-0.30479828394175179,-4.2130515532790014E-3,-3.3229740808451425E-3,-1.6713639094240182]
[null,null,null,null,null,null,null,null,null,null,null,null,null,null,null,null,null,1939.3030865451312,{"$f":"2*PI()*R382/B56","v":6.3463545101814525E-2},4.0262699270793437E-3,-1.5170705649794556,4.3314636848421628E-3,-0.31652057049024229,-4.0500219284282934E-3,-3.1886116547070742E-3,-1.8364983053679911]
[null,null,null,null,null,null,null,null,null,null,null,null,null,null,null,null,null,1978.0891482760339,{"$f":"2*PI()*R383/B56","v":6.4732816003850821E-2},4.1888744281481562E-3,-1.6796234278321904,4.1642201944895874E-3,-0.32866108776079273,-3.8932715342667734E-3,-3.0598779278108168E-3,-2.0110734448605712]
[null,null,null,null,null,null,null,null,null,null,null,null,null,null,null,null,null,2017.6509312415546,{"$f":"2*PI()*R384/B56","v":6.6027472323927833E-2},4.3580434692654466E-3,-1.8512391768466543,4.0033896991999995E-3,-0.34123130707743066,-3.7425604617311592E-3,-2.9365216782935022E-3,-2.1951461763649096]
[null,null,null,null,null,null,null,null,null,null,null,null,null,null,null,null,null,2058.0039498663859,{"$f":"2*PI()*R385/B56","v":6.7348021770406399E-2},4.5340418720045744E-3,-2.0319211609011489,3.8487293725708582E-3,-0.35424260212881897,-3.5976578184246932E-3,-2.8183040805203063E-3,-2.3887309955563421]
[null,null,null,null,null,null,null,null,null,null,null,null,null,null,null,null,null,2099.1640288637136,{"$f":"2*PI()*R386/B56","v":6.8694982205814534E-2},4.7171451249352781E-3,-2.2216304094241792,3.7000053444771197E-3,-0.36770618364841035,-3.4583414013908964E-3,-2.7049980046172095E-3,-2.5917999271341206]
[null,null,null,null,null,null,null,null,null,null,null,null,null,null,null,null,null,2141.147309440988,{"$f":"2*PI()*R387/B56","v":7.0068881849930834E-2},4.9076398119507654E-3,-2.4202863320775165,3.5569923894342992E-3,-0.38163302438558588,-3.3243973807799421E-3,-2.5963873619403444E-3,-2.8042831488163884]
[null,null,null,null,null,null,null,null,null,null,null,null,null,null,null,null,null,2183.970255629808,{"$f":"2*PI()*R388/B56","v":7.1470259486929449E-2},5.1058240576834311E-3,-2.6277681442423315,3.4194736242483259E-3,-0.39603377312883659,-3.1956199942086982E-3,-2.492266493192119E-3,-3.0260703302343206]
[null,null,null,null,null,null,null,null,null,null,null,null,null,null,null,null,null,2227.6496607424042,{"$f":"2*PI()*R389/B56","v":7.2899664676668044E-2},5.3120079906818513E-3,-2.8439169659008599,3.2872402149521918E-3,-0.41091865638899527,-3.0718112515373264E-3,-2.3924395958232481E-3,-3.2570126329222635]
[null,null,null,null,null,null,null,null,null,null,null,null,null,null,null,null,null,2272.2026539572521,{"$f":"2*PI()*R390/B56","v":7.4357657970201399E-2},5.5265142250473555E-3,-3.0685385184085945,3.1600910926172787E-3,-0.42629736617930192,-2.9527806496361109E-3,-2.2967201878500987E-3,-3.4969252943327653]
[null,null,null,null,null,null,null,null,null,null,null,null,null,null,null,null,null,2317.6467070363974,{"$f":"2*PI()*R391/B56","v":7.5844811129605436E-2},5.749678361255184E-3,-3.3014063251332146,3.0378326781175247E-3,-0.4421789321376437,-2.8383448970785707E-3,-2.2049306056146634E-3,-3.745590700095434]
[null,null,null,null,null,null,null,null,null,null,null,null,null,null,null,null,null,2363.9996411771253,{"$f":"2*PI()*R392/B56","v":7.7361707352197537E-2},5.9818495069127028E-3,-3.5422653088901868,2.9202786156261595E-3,-0.45857157602254617,-2.7283276482563679E-3,-2.1169015326236718E-3,-4.0027618354779868]
[null,null,null,null,null,null,null,null,null,null,null,null,null,null,null,null,null,2411.279634000668,{"$f":"2*PI()*R393/B56","v":7.8908941499241492E-2},6.2233908182358242E-3,-3.7908356719553282,2.8072495144826348E-3,-0.47548254637613319,-2.6225592467596925E-3,-2.0324715577686447E-3,-4.2681659996215071]
[null,null,null,null,null,null,null,null,null,null,null,null,null,null,null,null,null,2459.5052266806815,{"$f":"2*PI()*R394/B56","v":8.0487120329226336E-2},6.4746800630542303E-3,-4.0468169431284835,2.698572699436852E-3,-0.49291793088235991,-2.5208764777602255E-3,-1.9514867602552499E-3,-4.541508664549422]
[null,null,null,null,null,null,null,null,null,null,null,null,null,null,null,null,null,2508.695331214295,{"$f":"2*PI()*R395/B56","v":8.2096862735810849E-2},6.7361102061866285E-3,-4.3098920803895879,2.594081969029105E-3,-0.51088244365466551,-2.4231223290200887E-3,-1.873800319820873E-3,-4.8224773647240653]
[null,null,null,null,null,null,null,null,null,null,null,null,null,null,null,null,null,2558.8692378385808,{"$f":"2*PI()*R396/B56","v":8.3738799990527066E-2},7.0080900180589153E-3,-4.5797315263210194,2.4936173618499424E-3,-0.52937918436195019,-2.3291457603562549E-3,-1.7992721503006237E-3,-5.1107455112317766]
[null,null,null,null,null,null,null,null,null,null,null,null,null,null,null,null,null,2610.0466225953523,{"$f":"2*PI()*R397/B56","v":8.5413575990337595E-2},7.2910447074707868E-3,-4.8559971256419772,2.3970249305307334E-3,-0.54840936574314014,-2.238801481325936E-3,-1.7277685548151567E-3,-5.4059760364907277]
[null,null,null,null,null,null,null,null,null,null,null,null,null,null,null,null,null,2662.2475550472595,{"$f":"2*PI()*R398/B56","v":8.7121847510144373E-2},7.5854165794502692E-3,-5.1383458287801886,2.304156523287304E-3,-0.56797200566695949,-2.1519497366710993E-3,-1.6591619013794912E-3,-5.7078247895619114]
[null,null,null,null,null,null,null,null,null,null,null,null,null,null,null,null,null,2715.4925061482049,{"$f":"2*PI()*R399/B56","v":8.8864284460347262E-2},7.8916657191704757E-3,-5.4264331212678627,2.2148695728105849E-3,-0.58806357946369126,-2.0684560996144796E-3,-1.5933303172914748E-3,-6.0159436175756493]
[null,null,null,null,null,null,null,null,null,null,null,null,null,null,null,null,null,2769.8023562711692,{"$f":"2*PI()*R400/B56","v":9.0641570149554207E-2},8.2102707029392454E-3,-5.7199161348651373,2.1290268922129485E-3,-0.60867762778904577,-1.988191272367601E-3,-1.530157401134602E-3,-6.3299830844354723]
[null,null,null,null,null,null,null,null,null,null,null,null,null,null,null,null,null,2825.1984033965928,{"$f":"2*PI()*R401/B56","v":9.2454401552545293E-2},8.5417293373094491E-3,-6.0184564118112291,2.0464964780231298E-3,-0.62980431477780741,-1.9110308939644938E-3,-1.4695319512796345E-3,-6.6495947929562575]
[null,null,null,null,null,null,null,null,null,null,null,null,null,null,null,null,null,2881.7023714645247,{"$f":"2*PI()*R402/B56","v":9.4303489583596203E-2},8.886559427396452E-3,-6.321722307809857,1.9671513198389334E-3,-0.65142993070880983,-1.8368553549450439E-3,-1.4113477097197347E-3,-6.9744332902634927]
[null,null,null,null,null,null,null,null,null,null,null,null,null,null,null,null,null,2939.3364188938153,{"$f":"2*PI()*R403/B56","v":9.6189559375268144E-2},9.2452995755290049E-3,-6.6293910318022924,1.8908692165737762E-3,-0.67353633283753211,-1.7655496187671815E-3,-1.3555031202798773E-3,-7.3041575481622978]
[null,null,null,null,null,null,null,null,null,null,null,null,null,null,null,null,null,2998.1231472716918,{"$f":"2*PI()*R404/B56","v":9.8113350562773496E-2},9.6185100114008701E-3,-6.9411503309966136,1.8175325990839042E-3,-0.69610031746612933,-1.6970030496992194E-3,-1.3019011002413095E-3,-7.6384320200135996]
[null,null,null,null,null,null,null,null,null,null,null,null,null,null,null,null,null,3058.0856102171256,{"$f":"2*PI()*R405/B56","v":0.10007561757402897},1.000677345493302E-2,-7.2566998379124072,1.7470283589204882E-3,-0.71909291572401557,-1.6311092469791788E-3,-1.250448824592354E-3,-7.9769272833490739]
[null,null,null,null,null,null,null,null,null,null,null,null,null,null,null,null,null,3119.2473224214682,{"$f":"2*PI()*R406/B56","v":0.10207712992550955},1.0410696013099701E-2,-7.5757521024059926,1.679247683085805E-3,-0.74247860494259044,-1.5677658850563603E-3,-1.2010575219889574E-3,-8.3193202830725426]
[null,null,null,null,null,null,null,null,null,null,null,null,null,null,null,null,null,3181.6322688698974,{"$f":"2*PI()*R407/B56","v":0.10411867252401974},1.0830908112017005E-2,-7.8980333359146684,1.6140858946585013E-3,-0.76621442694842479,-1.5068745595883115E-3,-1.1536422818281267E-3,-8.6652941938098511]
[null,null,null,null,null,null,null,null,null,null,null,null,null,null,null,null,null,3245.2649142472956,{"$f":"2*PI()*R408/B56","v":0.10620104597450014},1.1268065465638778E-2,-8.2232838977155396,1.5514422989326704E-3,-0.79024900410254695,-1.4483406392571396E-3,-1.1081218715887076E-3,-9.0145379220299997]
[null,null,null,null,null,null,null,null,null,null,null,null,null,null,null,null,null,3310.1702125322417,{"$f":"2*PI()*R409/B56","v":0.10832506689399016},1.1722850082452564E-2,-8.5512585540950923,1.491220035113372E-3,-0.81452144352271283,-1.3920731228083127E-3,-1.0644185640344972E-3,-9.3667452692695345]
[null,null,null,null,null,null,null,null,null,null,null,null,null,null,null,null,null,3376.3736167828865,{"$f":"2*PI()*R410/B56","v":0.11049156823186997},1.2195971311617496E-2,-8.8817265412384714,1.4333259332488524E-3,-0.83896011969687478,-1.3379845016103786E-3,-1.0224579733346673E-3,-9.7216137774770424]
[null,null,null,null,null,null,null,null,null,null,null,null,null,null,null,null,null,3443.9010891185444,{"$f":"2*PI()*R411/B56","v":0.11270139959650735},1.2688166930036592E-2,-9.2144714616382402,1.3776703762431453E-3,-0.86348132570383029,-1.2859906270890065E-3,-9.8216889997360113E-4,-10.07884327649289]
[null,null,null,null,null,null,null,null,null,null,null,null,null,null,null,null,null,3512.7791109009154,{"$f":"2*PI()*R412/B56","v":0.11495542758843751},1.3200204271907956E-2,-9.5492910421344632,1.3241671669135258E-3,-0.88798778359412545,-1.2360105831419332E-3,-9.4348318354064986E-4,-10.438134152328358]
[null,null,null,null,null,null,null,null,null,null,null,null,null,null,null,null,null,3583.0346931189338,{"$f":"2*PI()*R413/B56","v":0.11725453614020626},1.3732881402352756E-2,-9.8859967795471348,1.2727333997020196E-3,-0.91236700526987846,-1.1879665633856007E-3,-9.063355632079606E-4,-10.799185353543905]
[null,null,null,null,null,null,null,null,null,null,null,null,null,null,null,null,null,3654.6953869813124,{"$f":"2*PI()*R414/B56","v":0.11959962686301039},1.4287028336772818E-2,-10.224413497431037,1.2232893371546538E-3,-0.93648949658174629,-1.1417837527574193E-3,-8.706635452995215E-4,-11.161692151973686]
[null,null,null,null,null,null,null,null,null,null,null,null,null,null,null,null,null,3727.7892947209389,{"$f":"2*PI()*R415/B56","v":0.1219916194002706},1.4863508307646859E-2,-10.564378834920767,1.1757582907421238E-3,-0.96020679951454468,-1.0973902137081382E-3,-8.364072776103626E-4,-11.525343673635888]
[null,null,null,null,null,null,null,null,null,null,null,null,null,null,null,null,null,3802.3450806153578,{"$f":"2*PI()*R416/B56","v":0.12443145178827601},1.5463219080532076E-2,-10.905742686057884,1.1300665061284576E-3,-0.98334937047320636,-1.0547167765579957E-3,-8.0350942998563823E-4,-11.889820216231506]
[null,null,null,null,null,null,null,null,null,null,null,null,null,null,null,null,null,3878.3919822276648,{"$f":"2*PI()*R417/B56","v":0.12692008082404155},1.6087094321097031E-2,-11.248366605489394,1.0861430525395122E-3,-1.0057242970599258,-1.013696933981123E-3,-7.7191508093932271E-4,-12.254790371511701]
[null,null,null,null,null,null,null,null,null,null,null,null,null,null,null,null,null,3955.9598218722181,{"$f":"2*PI()*R418/B56","v":0.12945848244052235},1.6736105015072032E-2,-11.59212319406074,1.043919716202879E-3,-1.0271128616382583,-9.7426673940503861E-4,-7.4157160990040438E-4,-12.619907974332101]
[null,null,null,null,null,null,null,null,null,null,null,null,null,null,null,null,null,4035.0790183096624,{"$f":"2*PI()*R419/B56","v":0.13204765208933281},1.7411260943065353E-2,-11.936895475637108,1.003330897702881E-3,-1.0472679677287342,-9.3636470921154569E-4,-7.1242859468156894E-4,-12.984808905772033]
[null,null,null,null,null,null,null,null,null,null,null,null,null,null,null,null,null,4115.7805986758558,{"$f":"2*PI()*R420/B56","v":0.13468860513111947},1.8113612212256391E-2,-12.282576274499462,9.6431351308723379E-4,-1.0659114552096938,-8.9993172871061233E-4,-6.8443771404957943E-4,-13.349107785638829]
[null,null,null,null,null,null,null,null,null,null,null,null,null,null,null,null,null,4198.0962106493726,{"$f":"2*PI()*R421/B56","v":0.13738237723374183},1.8844250847041836E-2,-12.629067600885442,9.2680689859037102E-4,-1.0827313427405034,-8.6491096148222368E-4,-6.5755265504918725E-4,-13.712394600343886]
[null,null,null,null,null,null,null,null,null,null,null,null,null,null,null,null,null,4282.05813486236,{"$f":"2*PI()*R422/B56","v":0.14013002477841668},1.9604312440776064E-2,-12.976280050680415,8.9075271891658758E-4,-1.0973790510784607,-8.3124776227094799E-4,-6.317290247039864E-4,-14.074231325826934]
[null,null,null,null,null,null,null,null,null,null,null,null,null,null,null,null,null,4367.6992975596077,{"$f":"2*PI()*R423/B56","v":0.14293262527398504},2.03949778708142E-2,-13.324132223905188,8.5609487893378855E-4,-1.1094666792355596,-7.9888959310636665E-4,-6.0692426600184035E-4,-14.434148622120922]
[null,null,null,null,null,null,null,null,null,null,null,null,null,null,null,null,null,4455.0532835107997,{"$f":"2*PI()*R424/B56","v":0.14579127777946474},2.1217475079134095E-2,-13.672550165479436,8.2277943851494229E-4,-1.1185644267679802,-7.6778594256410315E-4,-5.830975779517189E-4,-14.791642696329417]
[null,null,null,null,null,null,null,null,null,null,null,null,null,null,null,null,null,4544.1543491810162,{"$f":"2*PI()*R425/B56","v":0.14870710333505405},2.2073080920882431E-2,-14.021466830750995,7.907545306906627E-4,-1.1241982797099137,-7.3788824816745091E-4,-5.6020983928561918E-4,-15.146172454017671]
[null,null,null,null,null,null,null,null,null,null,null,null,null,null,null,null,null,4635.0374361646363,{"$f":"2*PI()*R426/B56","v":0.15168124540175512},2.296312308326004E-2,-14.370821577452176,7.5997028276475476E-4,-1.12584810418792,-7.0914982156722317E-4,-5.382235359050469E-4,-15.497157084714804]
[null,null,null,null,null,null,null,null,null,null,null,null,null,null,null,null,null,4727.7381848879295,{"$f":"2*PI()*R427/B56","v":0.15471487030979023},2.3888982077232154E-2,-14.720559685059612,7.3037874037140682E-4,-1.122946319513682,-6.8152577672719872E-4,-5.1710269161731048E-4,-15.843974254301267]
[null,null,null,null,null,null,null,null,null,null,null,null,null,null,null,null,null,4822.2929485856885,{"$f":"2*PI()*R428/B56","v":0.15780916771598605},2.4852093304620831E-2,-15.070631901974416,7.0193379437455405E-4,-1.1148773498395936,-6.5497296073857569E-4,-4.9681280211189005E-4,-16.185959103782487]
[null,null,null,null,null,null,null,null,null,null,null,null,null,null,null,null,null,4918.7388075574027,{"$f":"2*PI()*R429/B56","v":0.16096535107030577},2.5853949203208226E-2,-15.420994020490063,6.7459111053125298E-4,-1.1009780777867242,-6.2944988725988082E-4,-4.7732077204543089E-4,-16.522404277825562]
[null,null,null,null,null,null,null,null,null,null,null,null,null,null,null,null,null,5017.1135837085512,{"$f":"2*PI()*R430/B56","v":0.16418465809171193},2.6896101472552177E-2,-15.771606479160518,6.4830806172722077E-4,-1.0805395414754067,-6.049166724899635E-4,-4.5859485494759156E-4,-16.852561224101635]
[null,null,null,null,null,null,null,null,null,null,null,null,null,null,null,null,null,5117.4558553827219,{"$f":"2*PI()*R431/B56","v":0.16746835125354614},2.7980163383287241E-2,-16.122433991905908,6.2304366281296097E-4,-1.0528101239123977,-5.8133497358170416E-4,-4.4060459595840484E-4,-17.175643011725032]
[null,null,null,null,null,null,null,null,null,null,null,null,null,null,null,null,null,5219.8049724903767,{"$f":"2*PI()*R432/B56","v":0.17081771827861708},2.910781217275725E-2,-16.47344520298611,5.9875850782731277E-4,-1.017000475833699,-5.5866792942538268E-4,-4.233207770703018E-4,-17.490828909018479]
[null,null,null,null,null,null,null,null,null,null,null,null,null,null,null,null,null,5324.2010719401842,{"$f":"2*PI()*R433/B56","v":0.17423407264418941},3.0280791529896801E-2,-16.824612366822272,5.7541470966526731E-4,-0.97229038466631046,-5.3688010364183469E-4,-4.0671536496006411E-4,-17.797270932247518]
[null,null,null,null,null,null,null,null,null,null,null,null,null,null,null,null,null,5430.6850933789883,{"$f":"2*PI()*R434/B56","v":0.17771875409707324},3.1500914172351152E-2,-17.175911051542037,5.5297584188807036E-4,-0.91783774836501131,-5.1593742974276324E-4,-3.9076146109096044E-4,-18.094102522955996]
[null,null,null,null,null,null,null,null,null,null,null,null,null,null,null,null,null,5539.2987952465683,{"$f":"2*PI()*R435/B56","v":0.1812731291790147},3.2770064518893721E-2,-17.527319865059006,5.3140688289943228E-4,-0.85278972983130075,-4.9580715846175849E-4,-3.7543325410993589E-4,-18.380449428419979]
[null,null,null,null,null,null,null,null,null,null,null,null,null,null,null,null,null,5650.0847711514998,{"$f":"2*PI()*R436/B56","v":0.18489859176259499},3.4090201460270635E-2,-17.87882020246235,5.1067416204730876E-4,-0.77629605412050751,-4.7645780696825568E-4,-3.6070597427695361E-4,{"$f":"U436+V436+W436+X436+Y436","v":-18.655442746202056}]
[null,null,null,null,null,null,null,null,null,null,null,null,null,null,null,null,null,5763.0864665745303,{"$f":"2*PI()*R437/B56","v":0.18859656359784688},{"$f":"4*(SIN(S437/2))^2","v":3.5463361231668385E-2},{"$f":"10*LOG10(($G$116+$G$117+$G$118)^2 + ( $G$116*$G$118*T437 - ($G$117*($G$116+$G$118) + 4*$G$116*$G$118) )*T437 )  - 10*LOG10( (1+$G$119+$G$120)^2 + ( 1*$G$120*T437 - ($G$119*(1+$G$120) + 4*1*$G$120) )*T437)","v":-18.23039601348221},{"$f":"10*LOG10(($G$121+$G$122+$G$123)^2 + ( $G$121*$G$123*$T437 - ($G$122*($G$121+$G$123) + 4*$G$121*$G$123) )*$T437 )  - 10*LOG10( (1+$G$124+$G$125)^2 + ( 1*$G$125*$T437 - ($G$124*(1+$G$125) + 4*1*$G$125) )*$T437)","v":4.907453078963897E-4},{"$f":"10*LOG10(($G$126+$G$127+$G$128)^2 + ( $G$126*$G$128*$T437 - ($G$127*($G$126+$G$128) + 4*$G$126*$G$128) )*$T437 )  - 10*LOG10( (1+$G$129+$G$130)^2 + ( 1*$G$130*$T437 - ($G$129*(1+$G$130) + 4*1*$G$130) )*$T437)","v":-0.68752426896879903},{"$f":"10*LOG10(($G$131+$G$132+$G$133)^2 + ( $G$131*$G$133*$T437 - ($G$132*($G$131+$G$133) + 4*$G$131*$G$133) )*$T437 )  - 10*LOG10( (1+$G$134+$G$135)^2 + ( 1*$G$135*$T437 - ($G$134*(1+$G$135) + 4*1*$G$135) )*$T437)","v":-4.5785911014206704E-4},{"$f":"10*LOG10(($G$136+$G$137+$G$138)^2 + ( $G$136*$G$138*$T437 - ($G$137*($G$136+$G$138) + 4*$G$136*$G$138) )*$T437 )  - 10*LOG10( (1+$G$139+$G$140)^2 + ( 1*$G$140*$T437 - ($G$139*(1+$G$140) + 4*1*$G$140) )*$T437)","v":-3.4655585008991352E-4},-18.918233952103346]
[null,null,null,null,null,null,null,null,null,null,null,null,null,null,null,null,null,5878.3481959060209,{"$f":"2*PI()*R438/B56","v":0.19236849486980384},3.6891660390067325E-2,-18.582033588806336,4.7158919840484259E-4,-0.58567662627153005,-4.3998197361361235E-4,-3.3296006662197897E-4,-19.168011567919699]
[null,null,null,null,null,null,null,null,null,null,null,null,null,null,null,null,null,5995.9151598241415,{"$f":"2*PI()*R439/B56","v":0.19621586476719993},3.837729889980613E-2,-18.933721364047486,4.5317591296267778E-4,-0.47000807022262414,-4.227984287048514E-4,-3.1989672585552853E-4,-19.404018953511706]
[null,null,null,null,null,null,null,null,null,null,null,null,null,null,null,null,null,6115.8334630206245,{"$f":"2*PI()*R440/B56","v":0.20014018206254391},3.9922563329743192E-2,-19.285449740197343,4.3547668632371028E-4,-0.33984465407714204,-4.0628158896183209E-4,-3.0734480866811964E-4,-19.625572543985793]
[null,null,null,null,null,null,null,null,null,null,null,null,null,null,null,null,null,6238.1501322810373,{"$f":"2*PI()*R441/B56","v":0.2041429857037948},4.1529830165457179E-2,-19.637210919446378,4.1846386421084958E-4,-0.19460157269894651,-3.9040560847070083E-4,-2.9528413852375479E-4,-19.832079718028108]
[null,null,null,null,null,null,null,null,null,null,null,null,null,null,null,null,null,6362.9131349266581,{"$f":"2*PI()*R442/B56","v":0.20822584541787073},4.3201569239981502E-2,-19.98899875529915,4.0211086061248125E-4,-3.3799913903489909E-2,-3.7514564169427445E-4,-2.8369534672023633E-4,-20.023055399330442]
[null,null,null,null,null,null,null,null,null,null,null,null,null,null,null,null,null,6490.1713976251913,{"$f":"2*PI()*R443/B56","v":0.21239036232622815},4.4940347286615404E-2,-20.340808615968246,3.8639211679836194E-4,0.14291878290482707,-3.6047780489667502E-4,-2.7255983912510828E-4,-20.198136478590641]
[null,null,null,null,null,null,null,null,null,null,null,null,null,null,null,null,null,6619.9748255776949,{"$f":"2*PI()*R444/B56","v":0.21663816957275267},4.6748831617395979E-2,-20.692637260085913,3.7128306173528358E-4,0.33578100488359297,-3.4637913900681383E-4,-2.6185976442860692E-4,-20.35709321104402]
[null,null,null,null,null,null,null,null,null,null,null,null,null,null,null,null,null,6752.3743220892493,{"$f":"2*PI()*R445/B56","v":0.22097093296420778},4.8629793930851602E-2,-21.044482723829297,3.5676007416540756E-4,0.54487347328956659,-3.328275739313824E-4,-2.5157798364006112E-4,-20.499836896023137]
[null,null,null,null,null,null,null,null,null,null,null,null,null,null,null,null,null,6887.421808531034,{"$f":"2*PI()*R446/B56","v":0.22539035162349191},5.0586114252684534E-2,-21.396344218611915,3.428004460062084E-4,0.77013954734566781,-3.1980189423919114E-4,-2.4169804100893089E-4,-20.626423370755489]
[null,null,null,null,null,null,null,null,null,null,null,null,null,null,null,null,null,7025.1702447016551,{"$f":"2*PI()*R447/B56","v":0.22989815865596178},5.2620785013052104E-2,-21.748222038549727,3.2938234725321536E-4,1.011380013085212,-3.0728170613159023E-4,-2.3220413609692514E-4,-20.73705212895949]
[null,null,null,null,null,null,null,null,null,null,null,null,null,null,null,null,null,7165.6736495956884,{"$f":"2*PI()*R448/B56","v":0.234496121829081},5.4736915264124421E-2,-22.100117476965085,3.1648479212265102E-4,1.2682581451364836,-2.9524740573450003E-4,-2.2308109711843827E-4,-20.832061175539334]
[null,null,null,null,null,null,null,null,null,null,null,null,null,null,null,null,null,7308.9871225876022,{"$f":"2*PI()*R449/B56","v":0.23918604426566262},5.693773504159836E-2,-22.452032751243735,3.0408760656541745E-4,1.5403086404138779,-2.8368014855217893E-4,-2.1431435533969534E-4,-20.911918017727185]
[null,null,null,null,null,null,null,null,null,null,null,null,null,null,null,null,null,7455.166865039354,{"$f":"2*PI()*R450/B56","v":0.24396976515097588},5.9226599873834419E-2,-22.803970935411318,2.9217139698189953E-4,1.8269497774610386,-2.7256182015023001E-4,-2.0588992061476574E-4,-20.977207438294062]
[null,null,null,null,null,null,null,null,null,null,null,null,null,null,null,null,null,7604.2702023401416,{"$f":"2*PI()*R451/B56","v":0.24884916045399541},6.1606995442258471E-2,-23.155935899843097,2.8071752012692741E-4,2.12749797851564,-2.6187500790797458E-4,-1.9779435792344202E-4,-21.028616873173164]
[null,null,null,null,null,null,null,null,null,null,null,null,null,null,null,null,null,7756.3556063869446,{"$f":"2*PI()*R452/B56","v":0.25382614366307532},6.4082542396630443E-2,-23.507932257567177,2.6970805420489796E-4,2.4411838570587019,-2.5160297391835229E-4,-1.9001476492519487E-4,-21.066920310193112]
[null,null,null,null,null,null,null,null,null,null,null,null,null,null,null,null,null,7911.4827185146833,{"$f":"2*PI()*R453/B56","v":0.25890266653633681},6.6657001328725055E-2,-23.859965316663782,2.5912577103071044E-4,2.7671688233417093,-2.4172962888258098E-4,-1.8253875040485923E-4,-21.09296163593033]
[null,null,null,null,null,null,null,null,null,null,null,null,null,null,null,null,null,8069.7123728849774,{"$f":"2*PI()*R454/B56","v":0.26408071986706355},6.9334277907895203E-2,-24.212041038304545,2.4895410929914874E-4,3.1045613848860363,-2.3223950703865626E-4,-1.7535441366334226E-4,-21.107638293229911]
[null,null,null,null,null,null,null,null,null,null,null,null,null,null,null,null,null,8231.1066203426763,{"$f":"2*PI()*R455/B56","v":0.26936233426440481},7.2118428181893401E-2,-24.564166000013422,2.3917714880283825E-4,3.4524324010749119,-2.2311774201710932E-4,-1.6845032477519339E-4,-21.1118859898565]
[null,null,null,null,null,null,null,null,null,null,null,null,null,null,null,null,null,8395.72875274953,{"$f":"2*PI()*R456/B56","v":0.27474958094969293},7.5013664046208683E-2,-24.916347363766931,2.2977958574799118E-4,3.8098287096160774,-2.1435004370573552E-4,-1.6181550564198233E-4,-21.106665040114454]
[null,null,null,null,null,null,null,null,null,null,null,null,null,null,null,null,null,8563.6433278045206,{"$f":"2*PI()*R457/B56","v":0.28024457256868679},7.8024358885034589E-2,-25.268592848584877,2.2074670894767223E-4,4.17578471664884,-2.0592267591368341E-4,-1.5543941179174681E-4,-21.092948747314797]
[null,null,null,null,null,null,null,null,null,null,null,null,null,null,null,null,null,8734.9161943606105,{"$f":"2*PI()*R458/B56","v":0.28584946402006051},8.1155053386812975E-2,-25.620910707293774,2.1206437689258451E-4,4.5493317133157927,-1.9782243496280216E-4,-1.4931191504530261E-4,-21.071714063951099]
[null,null,null,null,null,null,null,null,null,null,null,null,null,null,null,null,null,8909.6145182478231,{"$f":"2*PI()*R459/B56","v":0.29156645330046171},8.4410461537099454E-2,-25.973309707174835,2.0371899581306252E-4,4.9295048361568234,-1.900366290499278E-4,-1.4342328680783112E-4,-21.043934611938056]
[null,null,null,null,null,null,null,null,null,null,null,null,null,null,null,null,null,9087.8068086127805,{"$f":"2*PI()*R460/B56","v":0.29739778236647096},8.7795476791261831E-2,-26.32579911423505,1.9569749848002971E-4,5.3153477184827498,-1.8255305848313697E-4,-1.3776418203903518E-4,-21.010576015494344]
[null,null,null,null,null,null,null,null,null,null,null,null,null,null,null,null,null,9269.562944785037,{"$f":"2*PI()*R461/B56","v":0.30334573801380044},9.1315178429254684E-2,-26.678388680865794,1.8798732387281802E-4,5.7059149816914339,-1.7535999658946366E-4,-1.3232562398357572E-4,-20.972593397471062]
[null,null,null,null,null,null,null,null,null,null,null,null,null,null,null,null,null,9454.9542036807379,{"$f":"2*PI()*R462/B56","v":0.30941265277407648},9.4974838094402381E-2,-27.031088636676806,1.8057639763569E-4,6.1002727900407407,-1.6844617142908191E-4,-1.2709898938467745E-4,-20.930930815399243]
[null,null,null,null,null,null,null,null,null,null,null,null,null,null,null,null,null,9644.0532877543537,{"$f":"2*PI()*R463/B56","v":0.31560090582955802},9.8779926517770636E-2,-27.383909682315533,1.7345311325200896E-4,6.4974977431898466,-1.6180074815963508E-4,-1.2207599446867334E-4,-20.886522362755063]
[null,null,null,null,null,null,null,null,null,null,null,null,null,null,null,null,null,9836.9343535094413,{"$f":"2*PI()*R464/B56","v":0.32191292394614918},0.10273612042930436,-27.736862986102434,1.6660631394316283E-4,6.8966744128903468,-1.5541331216439858E-4,-1.1724868132390043E-4,-20.84029462889163]
[null,null,null,null,null,null,null,null,null,null,null,null,null,null,null,null,null,10033.67304057963,{"$f":"2*PI()*R465/B56","v":0.32835118242507216},0.10684930965645741,-28.08996018333233,1.6002527531355781E-4,7.2968918490553278,-1.4927385272400784E-4,-1.126094049972437E-4,-20.79317019225941]
[null,null,null,null,null,null,null,null,null,null,null,null,null,null,null,null,null,10234.346501391223,{"$f":"2*PI()*R466/B56","v":0.33491820607357364},0.1111256044105278,-28.443213378109554,1.5369968861023153E-4,7.6972393912225279,-1.4337274740583439E-4,-1.0815082100279483E-4,-20.746071810766825]
[null,null,null,null,null,null,null,null,null,null,null,null,null,null,null,null,null,10439.033431419048,{"$f":"2*PI()*R467/B56","v":0.34161657019504504},0.11557134276033973,-28.79663514760195,1.476196446610345E-4,8.0968021284152716,-1.3770074701113799E-4,-1.0386587340249775E-4,-20.699926966162433]
[null,null,null,null,null,null,null,null,null,null,null,null,null,null,null,null,null,10647.81410004743,{"$f":"2*PI()*R468/B56","v":0.34844890159894604},0.12019309829227325,-29.150238548614695,1.417756183954566E-4,8.4946563565660433,-1.3224896112973283E-4,-9.9747783345094376E-5,-20.655672413174731]
[null,null,null,null,null,null,null,null,null,null,null,null,null,null,null,null,null,10860.770382048378,{"$f":"2*PI()*R469/B56","v":0.35541787963092497},0.12499768795492462,-29.50403712639952,1.3615845401560023E-4,8.8898653894583859,-1.2700884423466619E-4,-9.5790038066922989E-5,-20.614258377369421]
[null,null,null,null,null,null,null,null,null,null,null,null,null,null,null,null,null,11077.985789689346,{"$f":"2*PI()*R470/B56","v":0.36252623722354343},0.12999218008588972,-29.858044925629873,1.3075935068584954E-4,9.2814760863656325,-1.2197218231335683E-4,-9.1986380347464092E-5,-20.576652038476215]
[null,null,null,null,null,null,null,null,null,null,null,null,null,null,null,null,null,11299.545505483133,{"$f":"2*PI()*R471/B56","v":0.36977676196801434},0.13518390261727437,-30.212276503485263,1.2556984880163213E-4,9.6685164652955358,-1.1713108003519324E-4,-8.8330798384106401E-5,-20.543839930219345]
[null,null,null,null,null,null,null,null,null,null,null,null,null,null,null,null,null,11525.536415592796,{"$f":"2*PI()*R472/B56","v":0.37717229720737466},0.14058045145556022,-30.566746944801658,1.2058181679819313E-4,10.049994771361778,-1.1247794839874814E-4,-8.4817516107449364E-5,-20.516828887087588]
[null,null,null,null,null,null,null,null,null,null,null,null,null,null,null,null,null,11756.047143904652,{"$f":"2*PI()*R473/B56","v":0.38471574315152218},0.14618969903037374,-30.921471879256803,1.1578743843543293E-4,10.424900360099826,-1.0800549285860939E-4,-8.1440983802139044E-5,-20.496645178195202]
[null,null,null,null,null,null,null,null,null,null,null,null,null,null,null,null,null,11991.168086782745,{"$f":"2*PI()*R474/B56","v":0.39241005801455259},0.15201980300550894,-31.276467500571137,1.1117920060144115E-4,10.792206729097735,-1.0370670192472176E-4,-7.8195869225083925E-5,-20.48433149484395]
[null,null,null,null,null,null,null,null,null,null,null,null,null,null,null,null,null,12230.9914485184,{"$f":"2*PI()*R475/B56","v":0.40025825917484364},0.15807921514424403,-31.631750587717164,1.0674988158143606E-4,11.150876981075641,-9.9574836173843551E-5,-7.5077048961702531E-5,-20.480941508645078]
[null,null,null,null,null,null,null,null,null,null,null,null,null,null,null,null,null,12475.611277488768,{"$f":"2*PI()*R476/B56","v":0.40826342435834051},0.16437669031954164,-31.98733852814075,1.0249253975480599E-4,11.499871920819981,-9.5603417726408679E-5,-7.2079600226260254E-5,-20.487531797798965]
[null,null,null,null,null,null,null,null,null,null,null,null,null,null,null,null,null,12725.123503038543,{"$f":"2*PI()*R477/B56","v":0.41642869284550732},0.17092129565813699,-32.343249343009411,9.8400502784201649E-5,11.838160872148933,-9.1786220107081817E-5,-6.9198792928659714E-5,-20.505151055370728]
[null,null,null,null,null,null,null,null,null,null,null,null,null,null,null,null,null,12979.625973099315,{"$f":"2*PI()*R478/B56","v":0.42475726670241748},0.17772241980577377,-32.699501714513559,9.446735715634702E-5,12.16473514767705,-8.811725847479579E-5,-6.6430082084067976E-5,-20.534826646819909]
[null,null,null,null,null,null,null,null,null,null,null,null,null,null,null,null,null,13239.218492561302,{"$f":"2*PI()*R479/B56","v":0.43325241203646586},0.18478978229894036,-33.056115015257433,9.0686938177597654E-5,12.47862391695568,-8.4590780289772738E-5,-6.3769100519195376E-5,-20.577548771244381]
[null,null,null,null,null,null,null,null,null,null,null,null,null,null,null,null,null,13504.002862412528,{"$f":"2*PI()*R480/B56","v":0.44191746027719514},0.19213344302637139,-33.413109339787965,8.7053320330099382E-5,12.778912007517395,-8.1201256289631374E-5,-6.1211651864567784E-5,-20.634252691858396]
[null,null,null,null,null,null,null,null,null,null,null,null,null,null,null,null,null,13774.082919660779,{"$f":"2*PI()*R481/B56","v":0.45075580948273908},0.19976381176129715,-33.770505538320229,8.356080801164012E-5,13.064758955576973,-7.7943371842081888E-5,-5.8753703861214035E-5,-20.705799719010944]
[null,null,null,null,null,null,null,null,null,null,null,null,null,null,null,null,null,14049.564578053994,{"$f":"2*PI()*R482/B56","v":0.45977092567239386},0.20769165774293527,-34.128325252730406,8.0203926625443955E-5,13.335418422332795,-7.4812018624470511E-5,-5.6391381875187108E-5,-20.792957829871483]
[null,null,null,null,null,null,null,null,null,null,null,null,null,null,null,null,null,14330.555869615075,{"$f":"2*PI()*R483/B56","v":0.46896634418584177},0.21592811928300434,-34.486590954897885,7.6977414027012969E-5,13.590256935881541,-7.1802286610633814E-5,-5.4120962719395038E-5,-20.89638296485165]
[null,null,null,null,null,null,null,null,null,null,null,null,null,null,null,null,null,14617.166987007377,{"$f":"2*PI()*R484/B56","v":0.47834567106955855},0.22448471337008272,-34.845325987491066,7.3876212288936927E-5,13.82877083576046,-6.8909456414800729E-5,-5.193886869570008E-5,-21.016602123843427]
[null,null,null,null,null,null,null,null,null,null,null,null,null,null,null,null,null,14909.510326747524,{"$f":"2*PI()*R485/B56","v":0.48791258449094976},0.23337334524142189,-35.20455460730313,7.0895459783670844E-5,14.050600309946411,-6.6128991873526388E-5,-4.9841661896365963E-5,-21.153999372550707]
[null,null,null,null,null,null,null,null,null,null,null,null,null,null,null,null,null,15207.700533282476,{"$f":"2*PI()*R486/B56","v":0.49767083618076885},0.24260631788832676,-35.564302031257895,6.803048359671493E-5,14.255539534990916,-6.3456532947370192E-5,-4.7826038702680762E-5,-21.308805748355034]
[null,null,null,null,null,null,null,null,null,null,null,null,null,null,null,null,null,15511.854543948126,{"$f":"2*PI()*R487/B56","v":0.50762425290438418},0.25219634145742287,-35.924594485218918,6.5276792195589906E-5,14.443542156175452,-6.0887888915672761E-5,-4.5888824525164296E-5,-21.481093828964703]
[null,null,null,null,null,null,null,null,null,null,null,null,null,null,null,null,null,15822.091634827089,{"$f":"2*PI()*R488/B56","v":0.51777673796247192},0.26215654250601539,-36.285459255750141,6.2630068418556561E-5,14.614721656955517,-5.8419031772061203E-5,-4.402696873739842E-5,-21.670777414726714]
[null,null,null,null,null,null,null,null,null,null,null,null,null,null,null,null,null,16138.533467523632,{"$f":"2*PI()*R489/B56","v":0.52813227272172136},0.27250047306528236,-36.646924744991445,6.0086162712025271E-5,14.769346531757058,-5.6046089959238543E-5,-4.223753983012557E-5,-21.877616410701464]
[null,null,null,null,null,null,null,null,null,null,null,null,null,null,null,null,null,16461.304136874103,{"$f":"2*PI()*R490/B56","v":0.53869491817615578},0.28324211946022021,-37.009020528829318,5.7641086634419025E-5,14.907830550348772,-5.3765342274303407E-5,-4.0517720739430274E-5,-22.101226620456927]
[null,null,null,null,null,null,null,null,null,null,null,null,null,null,null,null,null,16790.530219611584,{"$f":"2*PI()*R491/B56","v":0.54946881653967883},0.29439591083003447,-37.371777418560029,5.5291006619384575E-5,15.030718740816633,-5.1573212052957729E-5,-3.8864804347227278E-5,-22.34109382475318]
[null,null,null,null,null,null,null,null,null,null,null,null,null,null,null,null,null,17126.340824003815,{"$f":"2*PI()*R492/B56","v":0.56045819287047238},0.3059767272870304,-37.735227526262427,5.3032237975259022E-5,15.138669983242027,-4.9466261568653636E-5,-3.7276189221557843E-5,-22.596591253233214]
[null,null,null,null,null,null,null,null,null,null,null,null,null,null,null,null,null,17468.867640483892,{"$f":"2*PI()*R493/B56","v":0.57166735672788183},0.31799990764595931,-38.099404334117139,5.0861239113686452E-5,15.232437271956623,-4.7441186636021371E-5,-3.5749375427940322E-5,-22.866999391483461]
[null,null,null,null,null,null,null,null,null,null,null,null,null,null,null,null,null,17818.244993293571,{"$f":"2*PI()*R494/B56","v":0.58310070386243951},0.3304812566492159,-38.464342767931932,4.8774606007384591E-5,15.312846761317887,-4.5494811448776318E-5,-3.4281960605397899E-5,-23.151527008780093]
[null,null,null,null,null,null,null,null,null,null,null,null,null,null,null,null,null,18174.609893159442,{"$f":"2*PI()*R495/B56","v":0.59476271793968838},0.34343705160619498,-38.830079275156542,4.6769066869956077E-5,15.380776664886797,-4.3624083595261709E-5,-3.2871636118869674E-5,-23.449332336922591]
[null,null,null,null,null,null,null,null,null,null,null,null,null,null,null,null,null,18538.102091022633,{"$f":"2*PI()*R496/B56","v":0.60665797229848206},0.35688404835749971,-39.19665190769684,4.484147701688812E-5,15.437136949930938,-4.1826069274719657E-5,-3.1516183426560929E-5,-23.759543458541589]
[null,null,null,null,null,null,null,null,null,null,null,null,null,null,null,null,null,18908.864132843086,{"$f":"2*PI()*R497/B56","v":0.61879113174445188},0.37083948646649972,-39.564100409866576,4.2988813957478555E-5,15.482850585073002,-4.009794871429051E-5,-3.0213470527229447E-5,-24.081277147398854]
[null,null,null,null,null,null,null,null,null,null,null,null,null,null,null,null,null,19287.041415499949,{"$f":"2*PI()*R498/B56","v":0.63116695437934089},0.38532109353192617,-39.932466311846369,4.1208172651963082E-5,15.518836887383785,-3.8437011729897108E-5,-2.8961448613529228E-5,-24.413655614750276]
[null,null,null,null,null,null,null,null,null,null,null,null,null,null,null,null,null,19672.782243809947,{"$f":"2*PI()*R499/B56","v":0.64379029346692762},0.40034708850575507,-40.30179302905379,3.9496760971147182E-5,15.545997302307622,-3.6840653504732757E-5,-2.7758148807066618E-5,-24.75582082878751]

{"sheet":"Direct Params","index":4,"n_rows":49,"n_cols":38,"rows_kept":49,"cut":false,"hidden":false,"merged":[]}
[null,null,807389]
[null,null,651716]
[null,null,928760,null,null,null,null,"Fs",48000,"Hz"]
[null,null,659631]
[null,null,939315,null,null,null,null,null,null,null,null,null,null,null,null,null,null,null,null,null,null,null,null,null,null,null,null,null,null,null,"POST-EQ"]
[]
[null,null,null,null,null,null,null,null,null,null,null,null,null,null,null,null,null,"FREQ","w","Phi","CH1",null,null,null,null,null,null,null,null,null,"CH1 Post-EQ1","CH1 Post-EQ2","CH1 Post-EQ3","CH1 Post-EQ4","CH1 Post-EQ5","CH1 Post-EQ",null,"CH1 Pre + Post"]
[null,null,"CH1","B0",1,null,{"$f":"C1/1000000","v":0.80738900000000002},null,null,null,null,null,null,null,null,null,null,10,{"$f":"2*PI()*R8/I3","v":1.308996938995747E-3},{"$f":"4*SIN(S8/2)^2","v":1.7134727416344432E-6},{"$f":"10*LOG10(($G$8+$G$9+$G$10)^2 + ( $G$8*$G$10*T8 - ($G$9*($G$8+$G$10) + 4*$G$8*$G$10) )*T8 )  - 10*LOG10( (1+$G$11+$G$12)^2 + ( 1*$G$12*T8 - ($G$11*(1+$G$12) + 4*1*$G$12) )*T8)","v":4.8185872029549159E-4},null,null,null,null,null,null,null,null,null,{"$f":"10*LOG10((#REF!+#REF!+#REF!)^2 + (#REF! *#REF!*$T8 - (#REF!*(#REF!+#REF!) + 4*#REF!*#REF!) )*$T8 )  - 10*LOG10( (1+#REF!+#REF!)^2 + ( 1*#REF!*$T8 - (#REF!*(1+#REF!) + 4*1*#REF!) )*$T8)","v":{"$error":"#REF!"}},{"$f":"10*LOG10((#REF!+#REF!+#REF!)^2 + (#REF! *#REF!*$T8 - (#REF!*(#REF!+#REF!) + 4*#REF!*#REF!) )*$T8 )  - 10*LOG10( (1+#REF!+#REF!)^2 + ( 1*#REF!*$T8 - (#REF!*(1+#REF!) + 4*1*#REF!) )*$T8)","v":{"$error":"#REF!"}},{"$f":"10*LOG10((#REF!+#REF!+#REF!)^2 + (#REF! *#REF!*$T8 - (#REF!*(#REF!+#REF!) + 4*#REF!*#REF!) )*$T8 )  - 10*LOG10( (1+#REF!+#REF!)^2 + ( 1*#REF!*$T8 - (#REF!*(1+#REF!) + 4*1*#REF!) )*$T8)","v":{"$error":"#REF!"}},{"$f":"10*LOG10((#REF!+#REF!+#REF!)^2 + (#REF! *#REF!*$T8 - (#REF!*(#REF!+#REF!) + 4*#REF!*#REF!) )*$T8 )  - 10*LOG10( (1+#REF!+#REF!)^2 + ( 1*#REF!*$T8 - (#REF!*(1+#REF!) + 4*1*#REF!) )*$T8)","v":{"$error":"#REF!"}},{"$f":"10*LOG10((#REF!+#REF!+#REF!)^2 + (#REF! *#REF!*$T8 - (#REF!*(#REF!+#REF!) + 4*#REF!*#REF!) )*$T8 )  - 10*LOG10( (1+#REF!+#REF!)^2 + ( 1*#REF!*$T8 - (#REF!*(1+#REF!) + 4*1*#REF!) )*$T8)","v":{"$error":"#REF!"}},{"$f":"AE8+AF8+AG8+AH8+AI8","v":{"$error":"#REF!"}},null,{"$f":"AJ8+Z8","v":{"$error":"#REF!"}}]
[null,null,null,"B1",2,null,{"$f":"C2/1000000*-3 +0.1","v":-1.8551479999999998},null,null,null,null,null,null,null,null,null,null,20,{"$f":"2*PI()*R9/I3","v":2.6179938779914941E-3},{"$f":"4*SIN(S9/2)^2","v":6.8538880305489363E-6},{"$f":"10*LOG10(($G$8+$G$9+$G$10)^2 + ( $G$8*$G$10*T9 - ($G$9*($G$8+$G$10) + 4*$G$8*$G$10) )*T9 )  - 10*LOG10( (1+$G$11+$G$12)^2 + ( 1*$G$12*T9 - ($G$11*(1+$G$12) + 4*1*$G$12) )*T9)","v":1.6004100104751728E-3},null,null,null,null,null,null,null,null,null,{"$f":"10*LOG10((#REF!+#REF!+#REF!)^2 + (#REF! *#REF!*$T9 - (#REF!*(#REF!+#REF!) + 4*#REF!*#REF!) )*$T9 )  - 10*LOG10( (1+#REF!+#REF!)^2 + ( 1*#REF!*$T9 - (#REF!*(1+#REF!) + 4*1*#REF!) )*$T9)","v":{"$error":"#REF!"}},{"$f":"10*LOG10((#REF!+#REF!+#REF!)^2 + (#REF! *#REF!*$T9 - (#REF!*(#REF!+#REF!) + 4*#REF!*#REF!) )*$T9 )  - 10*LOG10( (1+#REF!+#REF!)^2 + ( 1*#REF!*$T9 - (#REF!*(1+#REF!) + 4*1*#REF!) )*$T9)","v":{"$error":"#REF!"}},{"$f":"10*LOG10((#REF!+#REF!+#REF!)^2 + (#REF! *#REF!*$T9 - (#REF!*(#REF!+#REF!) + 4*#REF!*#REF!) )*$T9 )  - 10*LOG10( (1+#REF!+#REF!)^2 + ( 1*#REF!*$T9 - (#REF!*(1+#REF!) + 4*1*#REF!) )*$T9)","v":{"$error":"#REF!"}},{"$f":"10*LOG10((#REF!+#REF!+#REF!)^2 + (#REF! *#REF!*$T9 - (#REF!*(#REF!+#REF!) + 4*#REF!*#REF!) )*$T9 )  - 10*LOG10( (1+#REF!+#REF!)^2 + ( 1*#REF!*$T9 - (#REF!*(1+#REF!) + 4*1*#REF!) )*$T9)","v":{"$error":"#REF!"}},{"$f":"10*LOG10((#REF!+#REF!+#REF!)^2 + (#REF! *#REF!*$T9 - (#REF!*(#REF!+#REF!) + 4*#REF!*#REF!) )*$T9 )  - 10*LOG10( (1+#REF!+#REF!)^2 + ( 1*#REF!*$T9 - (#REF!*(1+#REF!) + 4*1*#REF!) )*$T9)","v":{"$error":"#REF!"}},{"$f":"AE9+AF9+AG9+AH9+AI9","v":{"$error":"#REF!"}},null,{"$f":"AJ9+Z9","v":{"$error":"#REF!"}}]
[null,null,null,"B2",3,null,{"$f":"C3*1.15/1000000-0.1","v":0.96807399999999999},null,null,null,null,null,null,null,null,null,null,24,{"$f":"2*PI()*R10/I3","v":3.1415926535897933E-3},{"$f":"4*SIN(S10/2)^2","v":9.8695962836677784E-6},{"$f":"10*LOG10(($G$8+$G$9+$G$10)^2 + ( $G$8*$G$10*T10 - ($G$9*($G$8+$G$10) + 4*$G$8*$G$10) )*T10 )  - 10*LOG10( (1+$G$11+$G$12)^2 + ( 1*$G$12*T10 - ($G$11*(1+$G$12) + 4*1*$G$12) )*T10)","v":2.2566167450044361E-3},null,null,null,null,null,null,null,null,null,{"$f":"10*LOG10((#REF!+#REF!+#REF!)^2 + (#REF! *#REF!*$T10 - (#REF!*(#REF!+#REF!) + 4*#REF!*#REF!) )*$T10 )  - 10*LOG10( (1+#REF!+#REF!)^2 + ( 1*#REF!*$T10 - (#REF!*(1+#REF!) + 4*1*#REF!) )*$T10)","v":{"$error":"#REF!"}},{"$f":"10*LOG10((#REF!+#REF!+#REF!)^2 + (#REF! *#REF!*$T10 - (#REF!*(#REF!+#REF!) + 4*#REF!*#REF!) )*$T10 )  - 10*LOG10( (1+#REF!+#REF!)^2 + ( 1*#REF!*$T10 - (#REF!*(1+#REF!) + 4*1*#REF!) )*$T10)","v":{"$error":"#REF!"}},{"$f":"10*LOG10((#REF!+#REF!+#REF!)^2 + (#REF! *#REF!*$T10 - (#REF!*(#REF!+#REF!) + 4*#REF!*#REF!) )*$T10 )  - 10*LOG10( (1+#REF!+#REF!)^2 + ( 1*#REF!*$T10 - (#REF!*(1+#REF!) + 4*1*#REF!) )*$T10)","v":{"$error":"#REF!"}},{"$f":"10*LOG10((#REF!+#REF!+#REF!)^2 + (#REF! *#REF!*$T10 - (#REF!*(#REF!+#REF!) + 4*#REF!*#REF!) )*$T10 )  - 10*LOG10( (1+#REF!+#REF!)^2 + ( 1*#REF!*$T10 - (#REF!*(1+#REF!) + 4*1*#REF!) )*$T10)","v":{"$error":"#REF!"}},{"$f":"10*LOG10((#REF!+#REF!+#REF!)^2 + (#REF! *#REF!*$T10 - (#REF!*(#REF!+#REF!) + 4*#REF!*#REF!) )*$T10 )  - 10*LOG10( (1+#REF!+#REF!)^2 + ( 1*#REF!*$T10 - (#REF!*(1+#REF!) + 4*1*#REF!) )*$T10)","v":{"$error":"#REF!"}},{"$f":"AE10+AF10+AG10+AH10+AI10","v":{"$error":"#REF!"}},null,{"$error":"#REF!"}]
[null,null,null,"-A1",4,null,{"$f":"C4/1000000*-1-1.2","v":-1.8596309999999998},null,null,null,null,null,null,null,null,null,null,28,{"$f":"2*PI()*R11/I3","v":3.6651914291880921E-3},1.3433613174070002E-5,3.0321242441218033E-3,null,null,null,null,null,null,null,null,null,{"$f":"10*LOG10((#REF!+#REF!+#REF!)^2 + (#REF! *#REF!*$T11 - (#REF!*(#REF!+#REF!) + 4*#REF!*#REF!) )*$T11 )  - 10*LOG10( (1+#REF!+#REF!)^2 + ( 1*#REF!*$T11 - (#REF!*(1+#REF!) + 4*1*#REF!) )*$T11)","v":{"$error":"#REF!"}},{"$f":"10*LOG10((#REF!+#REF!+#REF!)^2 + (#REF! *#REF!*$T11 - (#REF!*(#REF!+#REF!) + 4*#REF!*#REF!) )*$T11 )  - 10*LOG10( (1+#REF!+#REF!)^2 + ( 1*#REF!*$T11 - (#REF!*(1+#REF!) + 4*1*#REF!) )*$T11)","v":{"$error":"#REF!"}},{"$f":"10*LOG10((#REF!+#REF!+#REF!)^2 + (#REF! *#REF!*$T11 - (#REF!*(#REF!+#REF!) + 4*#REF!*#REF!) )*$T11 )  - 10*LOG10( (1+#REF!+#REF!)^2 + ( 1*#REF!*$T11 - (#REF!*(1+#REF!) + 4*1*#REF!) )*$T11)","v":{"$error":"#REF!"}},{"$f":"10*LOG10((#REF!+#REF!+#REF!)^2 + (#REF! *#REF!*$T11 - (#REF!*(#REF!+#REF!) + 4*#REF!*#REF!) )*$T11 )  - 10*LOG10( (1+#REF!+#REF!)^2 + ( 1*#REF!*$T11 - (#REF!*(1+#REF!) + 4*1*#REF!) )*$T11)","v":{"$error":"#REF!"}},{"$f":"10*LOG10((#REF!+#REF!+#REF!)^2 + (#REF! *#REF!*$T11 - (#REF!*(#REF!+#REF!) + 4*#REF!*#REF!) )*$T11 )  - 10*LOG10( (1+#REF!+#REF!)^2 + ( 1*#REF!*$T11 - (#REF!*(1+#REF!) + 4*1*#REF!) )*$T11)","v":{"$error":"#REF!"}},{"$error":"#REF!"},null,{"$error":"#REF!"}]
[null,null,null,"-A2",5,null,{"$f":"C5/1000000","v":0.93931500000000001},null,null,null,null,null,null,null,null,null,null,34,{"$f":"2*PI()*R12/I3","v":4.4505895925855401E-3},1.9807715026079827E-5,4.4190637929979459E-3,null,null,null,null,null,null,null,null,null,{"$f":"10*LOG10((#REF!+#REF!+#REF!)^2 + (#REF! *#REF!*$T12 - (#REF!*(#REF!+#REF!) + 4*#REF!*#REF!) )*$T12 )  - 10*LOG10( (1+#REF!+#REF!)^2 + ( 1*#REF!*$T12 - (#REF!*(1+#REF!) + 4*1*#REF!) )*$T12)","v":{"$error":"#REF!"}},{"$f":"10*LOG10((#REF!+#REF!+#REF!)^2 + (#REF! *#REF!*$T12 - (#REF!*(#REF!+#REF!) + 4*#REF!*#REF!) )*$T12 )  - 10*LOG10( (1+#REF!+#REF!)^2 + ( 1*#REF!*$T12 - (#REF!*(1+#REF!) + 4*1*#REF!) )*$T12)","v":{"$error":"#REF!"}},{"$f":"10*LOG10((#REF!+#REF!+#REF!)^2 + (#REF! *#REF!*$T12 - (#REF!*(#REF!+#REF!) + 4*#REF!*#REF!) )*$T12 )  - 10*LOG10( (1+#REF!+#REF!)^2 + ( 1*#REF!*$T12 - (#REF!*(1+#REF!) + 4*1*#REF!) )*$T12)","v":{"$error":"#REF!"}},{"$f":"10*LOG10((#REF!+#REF!+#REF!)^2 + (#REF! *#REF!*$T12 - (#REF!*(#REF!+#REF!) + 4*#REF!*#REF!) )*$T12 )  - 10*LOG10( (1+#REF!+#REF!)^2 + ( 1*#REF!*$T12 - (#REF!*(1+#REF!) + 4*1*#REF!) )*$T12)","v":{"$error":"#REF!"}},{"$f":"10*LOG10((#REF!+#REF!+#REF!)^2 + (#REF! *#REF!*$T12 - (#REF!*(#REF!+#REF!) + 4*#REF!*#REF!) )*$T12 )  - 10*LOG10( (1+#REF!+#REF!)^2 + ( 1*#REF!*$T12 - (#REF!*(1+#REF!) + 4*1*#REF!) )*$T12)","v":{"$error":"#REF!"}},{"$error":"#REF!"},null,{"$error":"#REF!"}]
[null,null,null,null,null,null,null,null,null,null,null,null,null,null,null,null,null,40,{"$f":"2*PI()*R13/I3","v":5.2359877559829881E-3},2.7415505146414611E-5,6.0743999855503716E-3,null,null,null,null,null,null,null,null,null,{"$f":"10*LOG10((#REF!+#REF!+#REF!)^2 + (#REF! *#REF!*$T13 - (#REF!*(#REF!+#REF!) + 4*#REF!*#REF!) )*$T13 )  - 10*LOG10( (1+#REF!+#REF!)^2 + ( 1*#REF!*$T13 - (#REF!*(1+#REF!) + 4*1*#REF!) )*$T13)","v":{"$error":"#REF!"}},{"$f":"10*LOG10((#REF!+#REF!+#REF!)^2 + (#REF! *#REF!*$T13 - (#REF!*(#REF!+#REF!) + 4*#REF!*#REF!) )*$T13 )  - 10*LOG10( (1+#REF!+#REF!)^2 + ( 1*#REF!*$T13 - (#REF!*(1+#REF!) + 4*1*#REF!) )*$T13)","v":{"$error":"#REF!"}},{"$f":"10*LOG10((#REF!+#REF!+#REF!)^2 + (#REF! *#REF!*$T13 - (#REF!*(#REF!+#REF!) + 4*#REF!*#REF!) )*$T13 )  - 10*LOG10( (1+#REF!+#REF!)^2 + ( 1*#REF!*$T13 - (#REF!*(1+#REF!) + 4*1*#REF!) )*$T13)","v":{"$error":"#REF!"}},{"$f":"10*LOG10((#REF!+#REF!+#REF!)^2 + (#REF! *#REF!*$T13 - (#REF!*(#REF!+#REF!) + 4*#REF!*#REF!) )*$T13 )  - 10*LOG10( (1+#REF!+#REF!)^2 + ( 1*#REF!*$T13 - (#REF!*(1+#REF!) + 4*1*#REF!) )*$T13)","v":{"$error":"#REF!"}},{"$f":"10*LOG10((#REF!+#REF!+#REF!)^2 + (#REF! *#REF!*$T13 - (#REF!*(#REF!+#REF!) + 4*#REF!*#REF!) )*$T13 )  - 10*LOG10( (1+#REF!+#REF!)^2 + ( 1*#REF!*$T13 - (#REF!*(1+#REF!) + 4*1*#REF!) )*$T13)","v":{"$error":"#REF!"}},{"$error":"#REF!"},null,{"$error":"#REF!"}]
[null,null,null,null,null,null,null,null,null,null,null,null,null,null,null,null,null,48,{"$f":"2*PI()*R14/I3","v":6.2831853071795866E-3},3.9478287725740305E-5,8.6989807740422975E-3,null,null,null,null,null,null,null,null,null,{"$f":"10*LOG10((#REF!+#REF!+#REF!)^2 + (#REF! *#REF!*$T14 - (#REF!*(#REF!+#REF!) + 4*#REF!*#REF!) )*$T14 )  - 10*LOG10( (1+#REF!+#REF!)^2 + ( 1*#REF!*$T14 - (#REF!*(1+#REF!) + 4*1*#REF!) )*$T14)","v":{"$error":"#REF!"}},{"$f":"10*LOG10((#REF!+#REF!+#REF!)^2 + (#REF! *#REF!*$T14 - (#REF!*(#REF!+#REF!) + 4*#REF!*#REF!) )*$T14 )  - 10*LOG10( (1+#REF!+#REF!)^2 + ( 1*#REF!*$T14 - (#REF!*(1+#REF!) + 4*1*#REF!) )*$T14)","v":{"$error":"#REF!"}},{"$f":"10*LOG10((#REF!+#REF!+#REF!)^2 + (#REF! *#REF!*$T14 - (#REF!*(#REF!+#REF!) + 4*#REF!*#REF!) )*$T14 )  - 10*LOG10( (1+#REF!+#REF!)^2 + ( 1*#REF!*$T14 - (#REF!*(1+#REF!) + 4*1*#REF!) )*$T14)","v":{"$error":"#REF!"}},{"$f":"10*LOG10((#REF!+#REF!+#REF!)^2 + (#REF! *#REF!*$T14 - (#REF!*(#REF!+#REF!) + 4*#REF!*#REF!) )*$T14 )  - 10*LOG10( (1+#REF!+#REF!)^2 + ( 1*#REF!*$T14 - (#REF!*(1+#REF!) + 4*1*#REF!) )*$T14)","v":{"$error":"#REF!"}},{"$f":"10*LOG10((#REF!+#REF!+#REF!)^2 + (#REF! *#REF!*$T14 - (#REF!*(#REF!+#REF!) + 4*#REF!*#REF!) )*$T14 )  - 10*LOG10( (1+#REF!+#REF!)^2 + ( 1*#REF!*$T14 - (#REF!*(1+#REF!) + 4*1*#REF!) )*$T14)","v":{"$error":"#REF!"}},{"$error":"#REF!"},null,{"$error":"#REF!"}]
[null,null,null,null,null,null,null,null,null,null,null,null,null,null,null,null,null,57,{"$f":"2*PI()*R15/I3","v":7.4612825522757586E-3},5.5670479056124401E-5,1.2221847476400427E-2,null,null,null,null,null,null,null,null,null,{"$f":"10*LOG10((#REF!+#REF!+#REF!)^2 + (#REF! *#REF!*$T15 - (#REF!*(#REF!+#REF!) + 4*#REF!*#REF!) )*$T15 )  - 10*LOG10( (1+#REF!+#REF!)^2 + ( 1*#REF!*$T15 - (#REF!*(1+#REF!) + 4*1*#REF!) )*$T15)","v":{"$error":"#REF!"}},{"$f":"10*LOG10((#REF!+#REF!+#REF!)^2 + (#REF! *#REF!*$T15 - (#REF!*(#REF!+#REF!) + 4*#REF!*#REF!) )*$T15 )  - 10*LOG10( (1+#REF!+#REF!)^2 + ( 1*#REF!*$T15 - (#REF!*(1+#REF!) + 4*1*#REF!) )*$T15)","v":{"$error":"#REF!"}},{"$f":"10*LOG10((#REF!+#REF!+#REF!)^2 + (#REF! *#REF!*$T15 - (#REF!*(#REF!+#REF!) + 4*#REF!*#REF!) )*$T15 )  - 10*LOG10( (1+#REF!+#REF!)^2 + ( 1*#REF!*$T15 - (#REF!*(1+#REF!) + 4*1*#REF!) )*$T15)","v":{"$error":"#REF!"}},{"$f":"10*LOG10((#REF!+#REF!+#REF!)^2 + (#REF! *#REF!*$T15 - (#REF!*(#REF!+#REF!) + 4*#REF!*#REF!) )*$T15 )  - 10*LOG10( (1+#REF!+#REF!)^2 + ( 1*#REF!*$T15 - (#REF!*(1+#REF!) + 4*1*#REF!) )*$T15)","v":{"$error":"#REF!"}},{"$f":"10*LOG10((#REF!+#REF!+#REF!)^2 + (#REF! *#REF!*$T15 - (#REF!*(#REF!+#REF!) + 4*#REF!*#REF!) )*$T15 )  - 10*LOG10( (1+#REF!+#REF!)^2 + ( 1*#REF!*$T15 - (#REF!*(1+#REF!) + 4*1*#REF!) )*$T15)","v":{"$error":"#REF!"}},{"$error":"#REF!"},null,{"$error":"#REF!"}]
[null,null,null,null,null,null,null,null,null,null,null,null,null,null,null,null,null,67,{"$f":"2*PI()*R16/I3","v":8.770279491271505E-3},7.6917309327255049E-5,1.6844122947098583E-2,null,null,null,null,null,null,null,null,null,{"$f":"10*LOG10((#REF!+#REF!+#REF!)^2 + (#REF! *#REF!*$T16 - (#REF!*(#REF!+#REF!) + 4*#REF!*#REF!) )*$T16 )  - 10*LOG10( (1+#REF!+#REF!)^2 + ( 1*#REF!*$T16 - (#REF!*(1+#REF!) + 4*1*#REF!) )*$T16)","v":{"$error":"#REF!"}},{"$f":"10*LOG10((#REF!+#REF!+#REF!)^2 + (#REF! *#REF!*$T16 - (#REF!*(#REF!+#REF!) + 4*#REF!*#REF!) )*$T16 )  - 10*LOG10( (1+#REF!+#REF!)^2 + ( 1*#REF!*$T16 - (#REF!*(1+#REF!) + 4*1*#REF!) )*$T16)","v":{"$error":"#REF!"}},{"$f":"10*LOG10((#REF!+#REF!+#REF!)^2 + (#REF! *#REF!*$T16 - (#REF!*(#REF!+#REF!) + 4*#REF!*#REF!) )*$T16 )  - 10*LOG10( (1+#REF!+#REF!)^2 + ( 1*#REF!*$T16 - (#REF!*(1+#REF!) + 4*1*#REF!) )*$T16)","v":{"$error":"#REF!"}},{"$f":"10*LOG10((#REF!+#REF!+#REF!)^2 + (#REF! *#REF!*$T16 - (#REF!*(#REF!+#REF!) + 4*#REF!*#REF!) )*$T16 )  - 10*LOG10( (1+#REF!+#REF!)^2 + ( 1*#REF!*$T16 - (#REF!*(1+#REF!) + 4*1*#REF!) )*$T16)","v":{"$error":"#REF!"}},{"$f":"10*LOG10((#REF!+#REF!+#REF!)^2 + (#REF! *#REF!*$T16 - (#REF!*(#REF!+#REF!) + 4*#REF!*#REF!) )*$T16 )  - 10*LOG10( (1+#REF!+#REF!)^2 + ( 1*#REF!*$T16 - (#REF!*(1+#REF!) + 4*1*#REF!) )*$T16)","v":{"$error":"#REF!"}},{"$error":"#REF!"},null,{"$error":"#REF!"}]
[null,null,null,null,null,null,null,null,null,null,null,null,null,null,null,null,null,80,{"$f":"2*PI()*R17/I3","v":1.0471975511965976E-2},1.0966126897573602E-4,2.3966932051781242E-2,null,null,null,null,null,null,null,null,null,{"$f":"10*LOG10((#REF!+#REF!+#REF!)^2 + (#REF! *#REF!*$T17 - (#REF!*(#REF!+#REF!) + 4*#REF!*#REF!) )*$T17 )  - 10*LOG10( (1+#REF!+#REF!)^2 + ( 1*#REF!*$T17 - (#REF!*(1+#REF!) + 4*1*#REF!) )*$T17)","v":{"$error":"#REF!"}},{"$f":"10*LOG10((#REF!+#REF!+#REF!)^2 + (#REF! *#REF!*$T17 - (#REF!*(#REF!+#REF!) + 4*#REF!*#REF!) )*$T17 )  - 10*LOG10( (1+#REF!+#REF!)^2 + ( 1*#REF!*$T17 - (#REF!*(1+#REF!) + 4*1*#REF!) )*$T17)","v":{"$error":"#REF!"}},{"$f":"10*LOG10((#REF!+#REF!+#REF!)^2 + (#REF! *#REF!*$T17 - (#REF!*(#REF!+#REF!) + 4*#REF!*#REF!) )*$T17 )  - 10*LOG10( (1+#REF!+#REF!)^2 + ( 1*#REF!*$T17 - (#REF!*(1+#REF!) + 4*1*#REF!) )*$T17)","v":{"$error":"#REF!"}},{"$f":"10*LOG10((#REF!+#REF!+#REF!)^2 + (#REF! *#REF!*$T17 - (#REF!*(#REF!+#REF!) + 4*#REF!*#REF!) )*$T17 )  - 10*LOG10( (1+#REF!+#REF!)^2 + ( 1*#REF!*$T17 - (#REF!*(1+#REF!) + 4*1*#REF!) )*$T17)","v":{"$error":"#REF!"}},{"$f":"10*LOG10((#REF!+#REF!+#REF!)^2 + (#REF! *#REF!*$T17 - (#REF!*(#REF!+#REF!) + 4*#REF!*#REF!) )*$T17 )  - 10*LOG10( (1+#REF!+#REF!)^2 + ( 1*#REF!*$T17 - (#REF!*(1+#REF!) + 4*1*#REF!) )*$T17)","v":{"$error":"#REF!"}},{"$error":"#REF!"},null,{"$error":"#REF!"}]
[null,null,null,null,null,null,null,null,null,null,null,null,null,null,null,null,null,95,{"$f":"2*PI()*R18/I3","v":1.2435470920459598E-2},1.5463894420558524E-4,3.3749604715993087E-2,null,null,null,null,null,null,null,null,null,{"$f":"10*LOG10((#REF!+#REF!+#REF!)^2 + (#REF! *#REF!*$T18 - (#REF!*(#REF!+#REF!) + 4*#REF!*#REF!) )*$T18 )  - 10*LOG10( (1+#REF!+#REF!)^2 + ( 1*#REF!*$T18 - (#REF!*(1+#REF!) + 4*1*#REF!) )*$T18)","v":{"$error":"#REF!"}},{"$f":"10*LOG10((#REF!+#REF!+#REF!)^2 + (#REF! *#REF!*$T18 - (#REF!*(#REF!+#REF!) + 4*#REF!*#REF!) )*$T18 )  - 10*LOG10( (1+#REF!+#REF!)^2 + ( 1*#REF!*$T18 - (#REF!*(1+#REF!) + 4*1*#REF!) )*$T18)","v":{"$error":"#REF!"}},{"$f":"10*LOG10((#REF!+#REF!+#REF!)^2 + (#REF! *#REF!*$T18 - (#REF!*(#REF!+#REF!) + 4*#REF!*#REF!) )*$T18 )  - 10*LOG10( (1+#REF!+#REF!)^2 + ( 1*#REF!*$T18 - (#REF!*(1+#REF!) + 4*1*#REF!) )*$T18)","v":{"$error":"#REF!"}},{"$f":"10*LOG10((#REF!+#REF!+#REF!)^2 + (#REF! *#REF!*$T18 - (#REF!*(#REF!+#REF!) + 4*#REF!*#REF!) )*$T18 )  - 10*LOG10( (1+#REF!+#REF!)^2 + ( 1*#REF!*$T18 - (#REF!*(1+#REF!) + 4*1*#REF!) )*$T18)","v":{"$error":"#REF!"}},{"$f":"10*LOG10((#REF!+#REF!+#REF!)^2 + (#REF! *#REF!*$T18 - (#REF!*(#REF!+#REF!) + 4*#REF!*#REF!) )*$T18 )  - 10*LOG10( (1+#REF!+#REF!)^2 + ( 1*#REF!*$T18 - (#REF!*(1+#REF!) + 4*1*#REF!) )*$T18)","v":{"$error":"#REF!"}},{"$error":"#REF!"},null,{"$error":"#REF!"}]
[null,null,null,null,null,null,null,null,null,null,null,null,null,null,null,null,null,114,{"$f":"2*PI()*R19/I3","v":1.4922565104551517E-2},2.2267881702225925E-4,4.8545385373518712E-2,null,null,null,null,null,null,null,null,null,{"$f":"10*LOG10((#REF!+#REF!+#REF!)^2 + (#REF! *#REF!*$T19 - (#REF!*(#REF!+#REF!) + 4*#REF!*#REF!) )*$T19 )  - 10*LOG10( (1+#REF!+#REF!)^2 + ( 1*#REF!*$T19 - (#REF!*(1+#REF!) + 4*1*#REF!) )*$T19)","v":{"$error":"#REF!"}},{"$f":"10*LOG10((#REF!+#REF!+#REF!)^2 + (#REF! *#REF!*$T19 - (#REF!*(#REF!+#REF!) + 4*#REF!*#REF!) )*$T19 )  - 10*LOG10( (1+#REF!+#REF!)^2 + ( 1*#REF!*$T19 - (#REF!*(1+#REF!) + 4*1*#REF!) )*$T19)","v":{"$error":"#REF!"}},{"$f":"10*LOG10((#REF!+#REF!+#REF!)^2 + (#REF! *#REF!*$T19 - (#REF!*(#REF!+#REF!) + 4*#REF!*#REF!) )*$T19 )  - 10*LOG10( (1+#REF!+#REF!)^2 + ( 1*#REF!*$T19 - (#REF!*(1+#REF!) + 4*1*#REF!) )*$T19)","v":{"$error":"#REF!"}},{"$f":"10*LOG10((#REF!+#REF!+#REF!)^2 + (#REF! *#REF!*$T19 - (#REF!*(#REF!+#REF!) + 4*#REF!*#REF!) )*$T19 )  - 10*LOG10( (1+#REF!+#REF!)^2 + ( 1*#REF!*$T19 - (#REF!*(1+#REF!) + 4*1*#REF!) )*$T19)","v":{"$error":"#REF!"}},{"$f":"10*LOG10((#REF!+#REF!+#REF!)^2 + (#REF! *#REF!*$T19 - (#REF!*(#REF!+#REF!) + 4*#REF!*#REF!) )*$T19 )  - 10*LOG10( (1+#REF!+#REF!)^2 + ( 1*#REF!*$T19 - (#REF!*(1+#REF!) + 4*1*#REF!) )*$T19)","v":{"$error":"#REF!"}},{"$error":"#REF!"},null,{"$error":"#REF!"}]
[null,null,null,null,null,null,null,null,null,null,null,null,null,null,null,null,null,135,{"$f":"2*PI()*R20/I3","v":1.7671458676442587E-2},3.1227232524776448E-4,6.802282318833619E-2,null,null,null,null,null,null,null,null,null,{"$f":"10*LOG10((#REF!+#REF!+#REF!)^2 + (#REF! *#REF!*$T20 - (#REF!*(#REF!+#REF!) + 4*#REF!*#REF!) )*$T20 )  - 10*LOG10( (1+#REF!+#REF!)^2 + ( 1*#REF!*$T20 - (#REF!*(1+#REF!) + 4*1*#REF!) )*$T20)","v":{"$error":"#REF!"}},{"$f":"10*LOG10((#REF!+#REF!+#REF!)^2 + (#REF! *#REF!*$T20 - (#REF!*(#REF!+#REF!) + 4*#REF!*#REF!) )*$T20 )  - 10*LOG10( (1+#REF!+#REF!)^2 + ( 1*#REF!*$T20 - (#REF!*(1+#REF!) + 4*1*#REF!) )*$T20)","v":{"$error":"#REF!"}},{"$f":"10*LOG10((#REF!+#REF!+#REF!)^2 + (#REF! *#REF!*$T20 - (#REF!*(#REF!+#REF!) + 4*#REF!*#REF!) )*$T20 )  - 10*LOG10( (1+#REF!+#REF!)^2 + ( 1*#REF!*$T20 - (#REF!*(1+#REF!) + 4*1*#REF!) )*$T20)","v":{"$error":"#REF!"}},{"$f":"10*LOG10((#REF!+#REF!+#REF!)^2 + (#REF! *#REF!*$T20 - (#REF!*(#REF!+#REF!) + 4*#REF!*#REF!) )*$T20 )  - 10*LOG10( (1+#REF!+#REF!)^2 + ( 1*#REF!*$T20 - (#REF!*(1+#REF!) + 4*1*#REF!) )*$T20)","v":{"$error":"#REF!"}},{"$f":"10*LOG10((#REF!+#REF!+#REF!)^2 + (#REF! *#REF!*$T20 - (#REF!*(#REF!+#REF!) + 4*#REF!*#REF!) )*$T20 )  - 10*LOG10( (1+#REF!+#REF!)^2 + ( 1*#REF!*$T20 - (#REF!*(1+#REF!) + 4*1*#REF!) )*$T20)","v":{"$error":"#REF!"}},{"$error":"#REF!"},null,{"$error":"#REF!"}]
[null,null,null,null,null,null,null,null,null,null,null,null,null,null,null,null,null,160,{"$f":"2*PI()*R21/I3","v":2.0943951023931952E-2},4.3863305030903066E-4,9.548317972352649E-2,null,null,null,null,null,null,null,null,null,{"$f":"10*LOG10((#REF!+#REF!+#REF!)^2 + (#REF! *#REF!*$T21 - (#REF!*(#REF!+#REF!) + 4*#REF!*#REF!) )*$T21 )  - 10*LOG10( (1+#REF!+#REF!)^2 + ( 1*#REF!*$T21 - (#REF!*(1+#REF!) + 4*1*#REF!) )*$T21)","v":{"$error":"#REF!"}},{"$f":"10*LOG10((#REF!+#REF!+#REF!)^2 + (#REF! *#REF!*$T21 - (#REF!*(#REF!+#REF!) + 4*#REF!*#REF!) )*$T21 )  - 10*LOG10( (1+#REF!+#REF!)^2 + ( 1*#REF!*$T21 - (#REF!*(1+#REF!) + 4*1*#REF!) )*$T21)","v":{"$error":"#REF!"}},{"$f":"10*LOG10((#REF!+#REF!+#REF!)^2 + (#REF! *#REF!*$T21 - (#REF!*(#REF!+#REF!) + 4*#REF!*#REF!) )*$T21 )  - 10*LOG10( (1+#REF!+#REF!)^2 + ( 1*#REF!*$T21 - (#REF!*(1+#REF!) + 4*1*#REF!) )*$T21)","v":{"$error":"#REF!"}},{"$f":"10*LOG10((#REF!+#REF!+#REF!)^2 + (#REF! *#REF!*$T21 - (#REF!*(#REF!+#REF!) + 4*#REF!*#REF!) )*$T21 )  - 10*LOG10( (1+#REF!+#REF!)^2 + ( 1*#REF!*$T21 - (#REF!*(1+#REF!) + 4*1*#REF!) )*$T21)","v":{"$error":"#REF!"}},{"$f":"10*LOG10((#REF!+#REF!+#REF!)^2 + (#REF! *#REF!*$T21 - (#REF!*(#REF!+#REF!) + 4*#REF!*#REF!) )*$T21 )  - 10*LOG10( (1+#REF!+#REF!)^2 + ( 1*#REF!*$T21 - (#REF!*(1+#REF!) + 4*1*#REF!) )*$T21)","v":{"$error":"#REF!"}},{"$error":"#REF!"},null,{"$error":"#REF!"}]
[null,null,null,null,null,null,null,null,null,null,null,null,null,null,null,null,null,191,{"$f":"2*PI()*R22/I3","v":2.5001841534818769E-2},6.2505951913492924E-4,0.13597544927218053,null,null,null,null,null,null,null,null,null,{"$f":"10*LOG10((#REF!+#REF!+#REF!)^2 + (#REF! *#REF!*$T22 - (#REF!*(#REF!+#REF!) + 4*#REF!*#REF!) )*$T22 )  - 10*LOG10( (1+#REF!+#REF!)^2 + ( 1*#REF!*$T22 - (#REF!*(1+#REF!) + 4*1*#REF!) )*$T22)","v":{"$error":"#REF!"}},{"$f":"10*LOG10((#REF!+#REF!+#REF!)^2 + (#REF! *#REF!*$T22 - (#REF!*(#REF!+#REF!) + 4*#REF!*#REF!) )*$T22 )  - 10*LOG10( (1+#REF!+#REF!)^2 + ( 1*#REF!*$T22 - (#REF!*(1+#REF!) + 4*1*#REF!) )*$T22)","v":{"$error":"#REF!"}},{"$f":"10*LOG10((#REF!+#REF!+#REF!)^2 + (#REF! *#REF!*$T22 - (#REF!*(#REF!+#REF!) + 4*#REF!*#REF!) )*$T22 )  - 10*LOG10( (1+#REF!+#REF!)^2 + ( 1*#REF!*$T22 - (#REF!*(1+#REF!) + 4*1*#REF!) )*$T22)","v":{"$error":"#REF!"}},{"$f":"10*LOG10((#REF!+#REF!+#REF!)^2 + (#REF! *#REF!*$T22 - (#REF!*(#REF!+#REF!) + 4*#REF!*#REF!) )*$T22 )  - 10*LOG10( (1+#REF!+#REF!)^2 + ( 1*#REF!*$T22 - (#REF!*(1+#REF!) + 4*1*#REF!) )*$T22)","v":{"$error":"#REF!"}},{"$f":"10*LOG10((#REF!+#REF!+#REF!)^2 + (#REF! *#REF!*$T22 - (#REF!*(#REF!+#REF!) + 4*#REF!*#REF!) )*$T22 )  - 10*LOG10( (1+#REF!+#REF!)^2 + ( 1*#REF!*$T22 - (#REF!*(1+#REF!) + 4*1*#REF!) )*$T22)","v":{"$error":"#REF!"}},{"$error":"#REF!"},null,{"$error":"#REF!"}]
[null,null,null,null,null,null,null,null,null,null,null,null,null,null,null,null,null,227,{"$f":"2*PI()*R23/I3","v":2.9714230515203457E-2},8.8287053243189242E-4,0.19193162800478447,null,null,null,null,null,null,null,null,null,{"$f":"10*LOG10((#REF!+#REF!+#REF!)^2 + (#REF! *#REF!*$T23 - (#REF!*(#REF!+#REF!) + 4*#REF!*#REF!) )*$T23 )  - 10*LOG10( (1+#REF!+#REF!)^2 + ( 1*#REF!*$T23 - (#REF!*(1+#REF!) + 4*1*#REF!) )*$T23)","v":{"$error":"#REF!"}},{"$f":"10*LOG10((#REF!+#REF!+#REF!)^2 + (#REF! *#REF!*$T23 - (#REF!*(#REF!+#REF!) + 4*#REF!*#REF!) )*$T23 )  - 10*LOG10( (1+#REF!+#REF!)^2 + ( 1*#REF!*$T23 - (#REF!*(1+#REF!) + 4*1*#REF!) )*$T23)","v":{"$error":"#REF!"}},{"$f":"10*LOG10((#REF!+#REF!+#REF!)^2 + (#REF! *#REF!*$T23 - (#REF!*(#REF!+#REF!) + 4*#REF!*#REF!) )*$T23 )  - 10*LOG10( (1+#REF!+#REF!)^2 + ( 1*#REF!*$T23 - (#REF!*(1+#REF!) + 4*1*#REF!) )*$T23)","v":{"$error":"#REF!"}},{"$f":"10*LOG10((#REF!+#REF!+#REF!)^2 + (#REF! *#REF!*$T23 - (#REF!*(#REF!+#REF!) + 4*#REF!*#REF!) )*$T23 )  - 10*LOG10( (1+#REF!+#REF!)^2 + ( 1*#REF!*$T23 - (#REF!*(1+#REF!) + 4*1*#REF!) )*$T23)","v":{"$error":"#REF!"}},{"$f":"10*LOG10((#REF!+#REF!+#REF!)^2 + (#REF! *#REF!*$T23 - (#REF!*(#REF!+#REF!) + 4*#REF!*#REF!) )*$T23 )  - 10*LOG10( (1+#REF!+#REF!)^2 + ( 1*#REF!*$T23 - (#REF!*(1+#REF!) + 4*1*#REF!) )*$T23)","v":{"$error":"#REF!"}},{"$error":"#REF!"},null,{"$error":"#REF!"}]
[null,null,null,null,null,null,null,null,null,null,null,null,null,null,null,null,null,270,{"$f":"2*PI()*R24/I3","v":3.5342917352885174E-2},1.2489917869859422E-3,0.27131706224098195,null,null,null,null,null,null,null,null,null,{"$f":"10*LOG10((#REF!+#REF!+#REF!)^2 + (#REF! *#REF!*$T24 - (#REF!*(#REF!+#REF!) + 4*#REF!*#REF!) )*$T24 )  - 10*LOG10( (1+#REF!+#REF!)^2 + ( 1*#REF!*$T24 - (#REF!*(1+#REF!) + 4*1*#REF!) )*$T24)","v":{"$error":"#REF!"}},{"$f":"10*LOG10((#REF!+#REF!+#REF!)^2 + (#REF! *#REF!*$T24 - (#REF!*(#REF!+#REF!) + 4*#REF!*#REF!) )*$T24 )  - 10*LOG10( (1+#REF!+#REF!)^2 + ( 1*#REF!*$T24 - (#REF!*(1+#REF!) + 4*1*#REF!) )*$T24)","v":{"$error":"#REF!"}},{"$f":"10*LOG10((#REF!+#REF!+#REF!)^2 + (#REF! *#REF!*$T24 - (#REF!*(#REF!+#REF!) + 4*#REF!*#REF!) )*$T24 )  - 10*LOG10( (1+#REF!+#REF!)^2 + ( 1*#REF!*$T24 - (#REF!*(1+#REF!) + 4*1*#REF!) )*$T24)","v":{"$error":"#REF!"}},{"$f":"10*LOG10((#REF!+#REF!+#REF!)^2 + (#REF! *#REF!*$T24 - (#REF!*(#REF!+#REF!) + 4*#REF!*#REF!) )*$T24 )  - 10*LOG10( (1+#REF!+#REF!)^2 + ( 1*#REF!*$T24 - (#REF!*(1+#REF!) + 4*1*#REF!) )*$T24)","v":{"$error":"#REF!"}},{"$f":"10*LOG10((#REF!+#REF!+#REF!)^2 + (#REF! *#REF!*$T24 - (#REF!*(#REF!+#REF!) + 4*#REF!*#REF!) )*$T24 )  - 10*LOG10( (1+#REF!+#REF!)^2 + ( 1*#REF!*$T24 - (#REF!*(1+#REF!) + 4*1*#REF!) )*$T24)","v":{"$error":"#REF!"}},{"$error":"#REF!"},null,{"$error":"#REF!"}]
[null,null,null,null,null,null,null,null,null,null,null,null,null,null,null,null,null,320,{"$f":"2*PI()*R25/I3","v":4.1887902047863905E-2},1.7543398022832994E-3,0.38074683853049152,null,null,null,null,null,null,null,null,null,{"$f":"10*LOG10((#REF!+#REF!+#REF!)^2 + (#REF! *#REF!*$T25 - (#REF!*(#REF!+#REF!) + 4*#REF!*#REF!) )*$T25 )  - 10*LOG10( (1+#REF!+#REF!)^2 + ( 1*#REF!*$T25 - (#REF!*(1+#REF!) + 4*1*#REF!) )*$T25)","v":{"$error":"#REF!"}},{"$f":"10*LOG10((#REF!+#REF!+#REF!)^2 + (#REF! *#REF!*$T25 - (#REF!*(#REF!+#REF!) + 4*#REF!*#REF!) )*$T25 )  - 10*LOG10( (1+#REF!+#REF!)^2 + ( 1*#REF!*$T25 - (#REF!*(1+#REF!) + 4*1*#REF!) )*$T25)","v":{"$error":"#REF!"}},{"$f":"10*LOG10((#REF!+#REF!+#REF!)^2 + (#REF! *#REF!*$T25 - (#REF!*(#REF!+#REF!) + 4*#REF!*#REF!) )*$T25 )  - 10*LOG10( (1+#REF!+#REF!)^2 + ( 1*#REF!*$T25 - (#REF!*(1+#REF!) + 4*1*#REF!) )*$T25)","v":{"$error":"#REF!"}},{"$f":"10*LOG10((#REF!+#REF!+#REF!)^2 + (#REF! *#REF!*$T25 - (#REF!*(#REF!+#REF!) + 4*#REF!*#REF!) )*$T25 )  - 10*LOG10( (1+#REF!+#REF!)^2 + ( 1*#REF!*$T25 - (#REF!*(1+#REF!) + 4*1*#REF!) )*$T25)","v":{"$error":"#REF!"}},{"$f":"10*LOG10((#REF!+#REF!+#REF!)^2 + (#REF! *#REF!*$T25 - (#REF!*(#REF!+#REF!) + 4*#REF!*#REF!) )*$T25 )  - 10*LOG10( (1+#REF!+#REF!)^2 + ( 1*#REF!*$T25 - (#REF!*(1+#REF!) + 4*1*#REF!) )*$T25)","v":{"$error":"#REF!"}},{"$error":"#REF!"},null,{"$error":"#REF!"}]
[null,null,null,null,null,null,null,null,null,null,null,null,null,null,null,null,null,383,{"$f":"2*PI()*R26/I3","v":5.0134582763537112E-2},2.5129499693506505E-3,0.54472987307672227,null,null,null,null,null,null,null,null,null,{"$f":"10*LOG10((#REF!+#REF!+#REF!)^2 + (#REF! *#REF!*$T26 - (#REF!*(#REF!+#REF!) + 4*#REF!*#REF!) )*$T26 )  - 10*LOG10( (1+#REF!+#REF!)^2 + ( 1*#REF!*$T26 - (#REF!*(1+#REF!) + 4*1*#REF!) )*$T26)","v":{"$error":"#REF!"}},{"$f":"10*LOG10((#REF!+#REF!+#REF!)^2 + (#REF! *#REF!*$T26 - (#REF!*(#REF!+#REF!) + 4*#REF!*#REF!) )*$T26 )  - 10*LOG10( (1+#REF!+#REF!)^2 + ( 1*#REF!*$T26 - (#REF!*(1+#REF!) + 4*1*#REF!) )*$T26)","v":{"$error":"#REF!"}},{"$f":"10*LOG10((#REF!+#REF!+#REF!)^2 + (#REF! *#REF!*$T26 - (#REF!*(#REF!+#REF!) + 4*#REF!*#REF!) )*$T26 )  - 10*LOG10( (1+#REF!+#REF!)^2 + ( 1*#REF!*$T26 - (#REF!*(1+#REF!) + 4*1*#REF!) )*$T26)","v":{"$error":"#REF!"}},{"$f":"10*LOG10((#REF!+#REF!+#REF!)^2 + (#REF! *#REF!*$T26 - (#REF!*(#REF!+#REF!) + 4*#REF!*#REF!) )*$T26 )  - 10*LOG10( (1+#REF!+#REF!)^2 + ( 1*#REF!*$T26 - (#REF!*(1+#REF!) + 4*1*#REF!) )*$T26)","v":{"$error":"#REF!"}},{"$f":"10*LOG10((#REF!+#REF!+#REF!)^2 + (#REF! *#REF!*$T26 - (#REF!*(#REF!+#REF!) + 4*#REF!*#REF!) )*$T26 )  - 10*LOG10( (1+#REF!+#REF!)^2 + ( 1*#REF!*$T26 - (#REF!*(1+#REF!) + 4*1*#REF!) )*$T26)","v":{"$error":"#REF!"}},{"$error":"#REF!"},null,{"$error":"#REF!"}]
[null,null,null,null,null,null,null,null,null,null,null,null,null,null,null,null,null,456,{"$f":"2*PI()*R27/I3","v":5.9690260418206069E-2},3.5618694435764378E-3,0.77096254380999341,null,null,null,null,null,null,null,null,null,{"$f":"10*LOG10((#REF!+#REF!+#REF!)^2 + (#REF! *#REF!*$T27 - (#REF!*(#REF!+#REF!) + 4*#REF!*#REF!) )*$T27 )  - 10*LOG10( (1+#REF!+#REF!)^2 + ( 1*#REF!*$T27 - (#REF!*(1+#REF!) + 4*1*#REF!) )*$T27)","v":{"$error":"#REF!"}},{"$f":"10*LOG10((#REF!+#REF!+#REF!)^2 + (#REF! *#REF!*$T27 - (#REF!*(#REF!+#REF!) + 4*#REF!*#REF!) )*$T27 )  - 10*LOG10( (1+#REF!+#REF!)^2 + ( 1*#REF!*$T27 - (#REF!*(1+#REF!) + 4*1*#REF!) )*$T27)","v":{"$error":"#REF!"}},{"$f":"10*LOG10((#REF!+#REF!+#REF!)^2 + (#REF! *#REF!*$T27 - (#REF!*(#REF!+#REF!) + 4*#REF!*#REF!) )*$T27 )  - 10*LOG10( (1+#REF!+#REF!)^2 + ( 1*#REF!*$T27 - (#REF!*(1+#REF!) + 4*1*#REF!) )*$T27)","v":{"$error":"#REF!"}},{"$f":"10*LOG10((#REF!+#REF!+#REF!)^2 + (#REF! *#REF!*$T27 - (#REF!*(#REF!+#REF!) + 4*#REF!*#REF!) )*$T27 )  - 10*LOG10( (1+#REF!+#REF!)^2 + ( 1*#REF!*$T27 - (#REF!*(1+#REF!) + 4*1*#REF!) )*$T27)","v":{"$error":"#REF!"}},{"$f":"10*LOG10((#REF!+#REF!+#REF!)^2 + (#REF! *#REF!*$T27 - (#REF!*(#REF!+#REF!) + 4*#REF!*#REF!) )*$T27 )  - 10*LOG10( (1+#REF!+#REF!)^2 + ( 1*#REF!*$T27 - (#REF!*(1+#REF!) + 4*1*#REF!) )*$T27)","v":{"$error":"#REF!"}},{"$error":"#REF!"},null,{"$error":"#REF!"}]
[null,null,null,null,null,null,null,null,null,null,null,null,null,null,null,null,null,542,{"$f":"2*PI()*R28/I3","v":7.0947634093569495E-2},5.0314557381585618E-3,1.0871210994711369,null,null,null,null,null,null,null,null,null,{"$f":"10*LOG10((#REF!+#REF!+#REF!)^2 + (#REF! *#REF!*$T28 - (#REF!*(#REF!+#REF!) + 4*#REF!*#REF!) )*$T28 )  - 10*LOG10( (1+#REF!+#REF!)^2 + ( 1*#REF!*$T28 - (#REF!*(1+#REF!) + 4*1*#REF!) )*$T28)","v":{"$error":"#REF!"}},{"$f":"10*LOG10((#REF!+#REF!+#REF!)^2 + (#REF! *#REF!*$T28 - (#REF!*(#REF!+#REF!) + 4*#REF!*#REF!) )*$T28 )  - 10*LOG10( (1+#REF!+#REF!)^2 + ( 1*#REF!*$T28 - (#REF!*(1+#REF!) + 4*1*#REF!) )*$T28)","v":{"$error":"#REF!"}},{"$f":"10*LOG10((#REF!+#REF!+#REF!)^2 + (#REF! *#REF!*$T28 - (#REF!*(#REF!+#REF!) + 4*#REF!*#REF!) )*$T28 )  - 10*LOG10( (1+#REF!+#REF!)^2 + ( 1*#REF!*$T28 - (#REF!*(1+#REF!) + 4*1*#REF!) )*$T28)","v":{"$error":"#REF!"}},{"$f":"10*LOG10((#REF!+#REF!+#REF!)^2 + (#REF! *#REF!*$T28 - (#REF!*(#REF!+#REF!) + 4*#REF!*#REF!) )*$T28 )  - 10*LOG10( (1+#REF!+#REF!)^2 + ( 1*#REF!*$T28 - (#REF!*(1+#REF!) + 4*1*#REF!) )*$T28)","v":{"$error":"#REF!"}},{"$f":"10*LOG10((#REF!+#REF!+#REF!)^2 + (#REF! *#REF!*$T28 - (#REF!*(#REF!+#REF!) + 4*#REF!*#REF!) )*$T28 )  - 10*LOG10( (1+#REF!+#REF!)^2 + ( 1*#REF!*$T28 - (#REF!*(1+#REF!) + 4*1*#REF!) )*$T28)","v":{"$error":"#REF!"}},{"$error":"#REF!"},null,{"$error":"#REF!"}]
[null,null,null,null,null,null,null,null,null,null,null,null,null,null,null,null,null,645,{"$f":"2*PI()*R29/I3","v":8.4430302565225698E-2},7.1242423998385445E-3,1.5362240279920201,null,null,null,null,null,null,null,null,null,{"$f":"10*LOG10((#REF!+#REF!+#REF!)^2 + (#REF! *#REF!*$T29 - (#REF!*(#REF!+#REF!) + 4*#REF!*#REF!) )*$T29 )  - 10*LOG10( (1+#REF!+#REF!)^2 + ( 1*#REF!*$T29 - (#REF!*(1+#REF!) + 4*1*#REF!) )*$T29)","v":{"$error":"#REF!"}},{"$f":"10*LOG10((#REF!+#REF!+#REF!)^2 + (#REF! *#REF!*$T29 - (#REF!*(#REF!+#REF!) + 4*#REF!*#REF!) )*$T29 )  - 10*LOG10( (1+#REF!+#REF!)^2 + ( 1*#REF!*$T29 - (#REF!*(1+#REF!) + 4*1*#REF!) )*$T29)","v":{"$error":"#REF!"}},{"$f":"10*LOG10((#REF!+#REF!+#REF!)^2 + (#REF! *#REF!*$T29 - (#REF!*(#REF!+#REF!) + 4*#REF!*#REF!) )*$T29 )  - 10*LOG10( (1+#REF!+#REF!)^2 + ( 1*#REF!*$T29 - (#REF!*(1+#REF!) + 4*1*#REF!) )*$T29)","v":{"$error":"#REF!"}},{"$f":"10*LOG10((#REF!+#REF!+#REF!)^2 + (#REF! *#REF!*$T29 - (#REF!*(#REF!+#REF!) + 4*#REF!*#REF!) )*$T29 )  - 10*LOG10( (1+#REF!+#REF!)^2 + ( 1*#REF!*$T29 - (#REF!*(1+#REF!) + 4*1*#REF!) )*$T29)","v":{"$error":"#REF!"}},{"$f":"10*LOG10((#REF!+#REF!+#REF!)^2 + (#REF! *#REF!*$T29 - (#REF!*(#REF!+#REF!) + 4*#REF!*#REF!) )*$T29 )  - 10*LOG10( (1+#REF!+#REF!)^2 + ( 1*#REF!*$T29 - (#REF!*(1+#REF!) + 4*1*#REF!) )*$T29)","v":{"$error":"#REF!"}},{"$error":"#REF!"},null,{"$error":"#REF!"}]
[null,null,null,null,null,null,null,null,null,null,null,null,null,null,null,null,null,767,{"$f":"2*PI()*R30/I3","v":0.10040006522097381},1.0071708450185077E-2,2.1678155153305525,null,null,null,null,null,null,null,null,null,{"$f":"10*LOG10((#REF!+#REF!+#REF!)^2 + (#REF! *#REF!*$T30 - (#REF!*(#REF!+#REF!) + 4*#REF!*#REF!) )*$T30 )  - 10*LOG10( (1+#REF!+#REF!)^2 + ( 1*#REF!*$T30 - (#REF!*(1+#REF!) + 4*1*#REF!) )*$T30)","v":{"$error":"#REF!"}},{"$f":"10*LOG10((#REF!+#REF!+#REF!)^2 + (#REF! *#REF!*$T30 - (#REF!*(#REF!+#REF!) + 4*#REF!*#REF!) )*$T30 )  - 10*LOG10( (1+#REF!+#REF!)^2 + ( 1*#REF!*$T30 - (#REF!*(1+#REF!) + 4*1*#REF!) )*$T30)","v":{"$error":"#REF!"}},{"$f":"10*LOG10((#REF!+#REF!+#REF!)^2 + (#REF! *#REF!*$T30 - (#REF!*(#REF!+#REF!) + 4*#REF!*#REF!) )*$T30 )  - 10*LOG10( (1+#REF!+#REF!)^2 + ( 1*#REF!*$T30 - (#REF!*(1+#REF!) + 4*1*#REF!) )*$T30)","v":{"$error":"#REF!"}},{"$f":"10*LOG10((#REF!+#REF!+#REF!)^2 + (#REF! *#REF!*$T30 - (#REF!*(#REF!+#REF!) + 4*#REF!*#REF!) )*$T30 )  - 10*LOG10( (1+#REF!+#REF!)^2 + ( 1*#REF!*$T30 - (#REF!*(1+#REF!) + 4*1*#REF!) )*$T30)","v":{"$error":"#REF!"}},{"$f":"10*LOG10((#REF!+#REF!+#REF!)^2 + (#REF! *#REF!*$T30 - (#REF!*(#REF!+#REF!) + 4*#REF!*#REF!) )*$T30 )  - 10*LOG10( (1+#REF!+#REF!)^2 + ( 1*#REF!*$T30 - (#REF!*(1+#REF!) + 4*1*#REF!) )*$T30)","v":{"$error":"#REF!"}},{"$error":"#REF!"},null,{"$error":"#REF!"}]
[null,null,null,null,null,null,null,null,null,null,null,null,null,null,null,null,null,913,{"$f":"2*PI()*R31/I3","v":0.11951142053031172},1.4265987436660271E-2,3.0683250525633383,null,null,null,null,null,null,null,null,null,{"$f":"10*LOG10((#REF!+#REF!+#REF!)^2 + (#REF! *#REF!*$T31 - (#REF!*(#REF!+#REF!) + 4*#REF!*#REF!) )*$T31 )  - 10*LOG10( (1+#REF!+#REF!)^2 + ( 1*#REF!*$T31 - (#REF!*(1+#REF!) + 4*1*#REF!) )*$T31)","v":{"$error":"#REF!"}},{"$f":"10*LOG10((#REF!+#REF!+#REF!)^2 + (#REF! *#REF!*$T31 - (#REF!*(#REF!+#REF!) + 4*#REF!*#REF!) )*$T31 )  - 10*LOG10( (1+#REF!+#REF!)^2 + ( 1*#REF!*$T31 - (#REF!*(1+#REF!) + 4*1*#REF!) )*$T31)","v":{"$error":"#REF!"}},{"$f":"10*LOG10((#REF!+#REF!+#REF!)^2 + (#REF! *#REF!*$T31 - (#REF!*(#REF!+#REF!) + 4*#REF!*#REF!) )*$T31 )  - 10*LOG10( (1+#REF!+#REF!)^2 + ( 1*#REF!*$T31 - (#REF!*(1+#REF!) + 4*1*#REF!) )*$T31)","v":{"$error":"#REF!"}},{"$f":"10*LOG10((#REF!+#REF!+#REF!)^2 + (#REF! *#REF!*$T31 - (#REF!*(#REF!+#REF!) + 4*#REF!*#REF!) )*$T31 )  - 10*LOG10( (1+#REF!+#REF!)^2 + ( 1*#REF!*$T31 - (#REF!*(1+#REF!) + 4*1*#REF!) )*$T31)","v":{"$error":"#REF!"}},{"$f":"10*LOG10((#REF!+#REF!+#REF!)^2 + (#REF! *#REF!*$T31 - (#REF!*(#REF!+#REF!) + 4*#REF!*#REF!) )*$T31 )  - 10*LOG10( (1+#REF!+#REF!)^2 + ( 1*#REF!*$T31 - (#REF!*(1+#REF!) + 4*1*#REF!) )*$T31)","v":{"$error":"#REF!"}},{"$error":"#REF!"},null,{"$error":"#REF!"}]
[null,null,null,null,null,null,null,null,null,null,null,null,null,null,null,null,null,1086,{"$f":"2*PI()*R32/I3","v":0.14215706757493815},2.0174622378033212E-2,4.350109348965649,null,null,null,null,null,null,null,null,null,{"$f":"10*LOG10((#REF!+#REF!+#REF!)^2 + (#REF! *#REF!*$T32 - (#REF!*(#REF!+#REF!) + 4*#REF!*#REF!) )*$T32 )  - 10*LOG10( (1+#REF!+#REF!)^2 + ( 1*#REF!*$T32 - (#REF!*(1+#REF!) + 4*1*#REF!) )*$T32)","v":{"$error":"#REF!"}},{"$f":"10*LOG10((#REF!+#REF!+#REF!)^2 + (#REF! *#REF!*$T32 - (#REF!*(#REF!+#REF!) + 4*#REF!*#REF!) )*$T32 )  - 10*LOG10( (1+#REF!+#REF!)^2 + ( 1*#REF!*$T32 - (#REF!*(1+#REF!) + 4*1*#REF!) )*$T32)","v":{"$error":"#REF!"}},{"$f":"10*LOG10((#REF!+#REF!+#REF!)^2 + (#REF! *#REF!*$T32 - (#REF!*(#REF!+#REF!) + 4*#REF!*#REF!) )*$T32 )  - 10*LOG10( (1+#REF!+#REF!)^2 + ( 1*#REF!*$T32 - (#REF!*(1+#REF!) + 4*1*#REF!) )*$T32)","v":{"$error":"#REF!"}},{"$f":"10*LOG10((#REF!+#REF!+#REF!)^2 + (#REF! *#REF!*$T32 - (#REF!*(#REF!+#REF!) + 4*#REF!*#REF!) )*$T32 )  - 10*LOG10( (1+#REF!+#REF!)^2 + ( 1*#REF!*$T32 - (#REF!*(1+#REF!) + 4*1*#REF!) )*$T32)","v":{"$error":"#REF!"}},{"$f":"10*LOG10((#REF!+#REF!+#REF!)^2 + (#REF! *#REF!*$T32 - (#REF!*(#REF!+#REF!) + 4*#REF!*#REF!) )*$T32 )  - 10*LOG10( (1+#REF!+#REF!)^2 + ( 1*#REF!*$T32 - (#REF!*(1+#REF!) + 4*1*#REF!) )*$T32)","v":{"$error":"#REF!"}},{"$error":"#REF!"},null,{"$error":"#REF!"}]
[null,null,null,null,null,null,null,null,null,null,null,null,null,null,null,null,null,1292,{"$f":"2*PI()*R33/I3","v":0.16912240451825053},2.8534277960275106E-2,6.2170187942732156,null,null,null,null,null,null,null,null,null,{"$f":"10*LOG10((#REF!+#REF!+#REF!)^2 + (#REF! *#REF!*$T33 - (#REF!*(#REF!+#REF!) + 4*#REF!*#REF!) )*$T33 )  - 10*LOG10( (1+#REF!+#REF!)^2 + ( 1*#REF!*$T33 - (#REF!*(1+#REF!) + 4*1*#REF!) )*$T33)","v":{"$error":"#REF!"}},{"$f":"10*LOG10((#REF!+#REF!+#REF!)^2 + (#REF! *#REF!*$T33 - (#REF!*(#REF!+#REF!) + 4*#REF!*#REF!) )*$T33 )  - 10*LOG10( (1+#REF!+#REF!)^2 + ( 1*#REF!*$T33 - (#REF!*(1+#REF!) + 4*1*#REF!) )*$T33)","v":{"$error":"#REF!"}},{"$f":"10*LOG10((#REF!+#REF!+#REF!)^2 + (#REF! *#REF!*$T33 - (#REF!*(#REF!+#REF!) + 4*#REF!*#REF!) )*$T33 )  - 10*LOG10( (1+#REF!+#REF!)^2 + ( 1*#REF!*$T33 - (#REF!*(1+#REF!) + 4*1*#REF!) )*$T33)","v":{"$error":"#REF!"}},{"$f":"10*LOG10((#REF!+#REF!+#REF!)^2 + (#REF! *#REF!*$T33 - (#REF!*(#REF!+#REF!) + 4*#REF!*#REF!) )*$T33 )  - 10*LOG10( (1+#REF!+#REF!)^2 + ( 1*#REF!*$T33 - (#REF!*(1+#REF!) + 4*1*#REF!) )*$T33)","v":{"$error":"#REF!"}},{"$f":"10*LOG10((#REF!+#REF!+#REF!)^2 + (#REF! *#REF!*$T33 - (#REF!*(#REF!+#REF!) + 4*#REF!*#REF!) )*$T33 )  - 10*LOG10( (1+#REF!+#REF!)^2 + ( 1*#REF!*$T33 - (#REF!*(1+#REF!) + 4*1*#REF!) )*$T33)","v":{"$error":"#REF!"}},{"$error":"#REF!"},null,{"$error":"#REF!"}]
[null,null,null,null,null,null,null,null,null,null,null,null,null,null,null,null,null,1537,{"$f":"2*PI()*R34/I3","v":0.20119282952364634},4.0342195971544613E-2,9.0398650446783471,null,null,null,null,null,null,null,null,null,{"$f":"10*LOG10((#REF!+#REF!+#REF!)^2 + (#REF! *#REF!*$T34 - (#REF!*(#REF!+#REF!) + 4*#REF!*#REF!) )*$T34 )  - 10*LOG10( (1+#REF!+#REF!)^2 + ( 1*#REF!*$T34 - (#REF!*(1+#REF!) + 4*1*#REF!) )*$T34)","v":{"$error":"#REF!"}},{"$f":"10*LOG10((#REF!+#REF!+#REF!)^2 + (#REF! *#REF!*$T34 - (#REF!*(#REF!+#REF!) + 4*#REF!*#REF!) )*$T34 )  - 10*LOG10( (1+#REF!+#REF!)^2 + ( 1*#REF!*$T34 - (#REF!*(1+#REF!) + 4*1*#REF!) )*$T34)","v":{"$error":"#REF!"}},{"$f":"10*LOG10((#REF!+#REF!+#REF!)^2 + (#REF! *#REF!*$T34 - (#REF!*(#REF!+#REF!) + 4*#REF!*#REF!) )*$T34 )  - 10*LOG10( (1+#REF!+#REF!)^2 + ( 1*#REF!*$T34 - (#REF!*(1+#REF!) + 4*1*#REF!) )*$T34)","v":{"$error":"#REF!"}},{"$f":"10*LOG10((#REF!+#REF!+#REF!)^2 + (#REF! *#REF!*$T34 - (#REF!*(#REF!+#REF!) + 4*#REF!*#REF!) )*$T34 )  - 10*LOG10( (1+#REF!+#REF!)^2 + ( 1*#REF!*$T34 - (#REF!*(1+#REF!) + 4*1*#REF!) )*$T34)","v":{"$error":"#REF!"}},{"$f":"10*LOG10((#REF!+#REF!+#REF!)^2 + (#REF! *#REF!*$T34 - (#REF!*(#REF!+#REF!) + 4*#REF!*#REF!) )*$T34 )  - 10*LOG10( (1+#REF!+#REF!)^2 + ( 1*#REF!*$T34 - (#REF!*(1+#REF!) + 4*1*#REF!) )*$T34)","v":{"$error":"#REF!"}},{"$error":"#REF!"},null,{"$error":"#REF!"}]
[null,null,null,null,null,null,null,null,null,null,null,null,null,null,null,null,null,1828,{"$f":"2*PI()*R35/I3","v":0.23928464044842257},5.6984461708229767E-2,13.602647841529922,null,null,null,null,null,null,null,null,null,{"$f":"10*LOG10((#REF!+#REF!+#REF!)^2 + (#REF! *#REF!*$T35 - (#REF!*(#REF!+#REF!) + 4*#REF!*#REF!) )*$T35 )  - 10*LOG10( (1+#REF!+#REF!)^2 + ( 1*#REF!*$T35 - (#REF!*(1+#REF!) + 4*1*#REF!) )*$T35)","v":{"$error":"#REF!"}},{"$f":"10*LOG10((#REF!+#REF!+#REF!)^2 + (#REF! *#REF!*$T35 - (#REF!*(#REF!+#REF!) + 4*#REF!*#REF!) )*$T35 )  - 10*LOG10( (1+#REF!+#REF!)^2 + ( 1*#REF!*$T35 - (#REF!*(1+#REF!) + 4*1*#REF!) )*$T35)","v":{"$error":"#REF!"}},{"$f":"10*LOG10((#REF!+#REF!+#REF!)^2 + (#REF! *#REF!*$T35 - (#REF!*(#REF!+#REF!) + 4*#REF!*#REF!) )*$T35 )  - 10*LOG10( (1+#REF!+#REF!)^2 + ( 1*#REF!*$T35 - (#REF!*(1+#REF!) + 4*1*#REF!) )*$T35)","v":{"$error":"#REF!"}},{"$f":"10*LOG10((#REF!+#REF!+#REF!)^2 + (#REF! *#REF!*$T35 - (#REF!*(#REF!+#REF!) + 4*#REF!*#REF!) )*$T35 )  - 10*LOG10( (1+#REF!+#REF!)^2 + ( 1*#REF!*$T35 - (#REF!*(1+#REF!) + 4*1*#REF!) )*$T35)","v":{"$error":"#REF!"}},{"$f":"10*LOG10((#REF!+#REF!+#REF!)^2 + (#REF! *#REF!*$T35 - (#REF!*(#REF!+#REF!) + 4*#REF!*#REF!) )*$T35 )  - 10*LOG10( (1+#REF!+#REF!)^2 + ( 1*#REF!*$T35 - (#REF!*(1+#REF!) + 4*1*#REF!) )*$T35)","v":{"$error":"#REF!"}},{"$error":"#REF!"},null,{"$error":"#REF!"}]
[null,null,null,null,null,null,null,null,null,null,null,null,null,null,null,null,null,2175,{"$f":"2*PI()*R36/I3","v":0.284706834231575},8.051192568628518E-2,19.288757722285226,null,null,null,null,null,null,null,null,null,{"$f":"10*LOG10((#REF!+#REF!+#REF!)^2 + (#REF! *#REF!*$T36 - (#REF!*(#REF!+#REF!) + 4*#REF!*#REF!) )*$T36 )  - 10*LOG10( (1+#REF!+#REF!)^2 + ( 1*#REF!*$T36 - (#REF!*(1+#REF!) + 4*1*#REF!) )*$T36)","v":{"$error":"#REF!"}},{"$f":"10*LOG10((#REF!+#REF!+#REF!)^2 + (#REF! *#REF!*$T36 - (#REF!*(#REF!+#REF!) + 4*#REF!*#REF!) )*$T36 )  - 10*LOG10( (1+#REF!+#REF!)^2 + ( 1*#REF!*$T36 - (#REF!*(1+#REF!) + 4*1*#REF!) )*$T36)","v":{"$error":"#REF!"}},{"$f":"10*LOG10((#REF!+#REF!+#REF!)^2 + (#REF! *#REF!*$T36 - (#REF!*(#REF!+#REF!) + 4*#REF!*#REF!) )*$T36 )  - 10*LOG10( (1+#REF!+#REF!)^2 + ( 1*#REF!*$T36 - (#REF!*(1+#REF!) + 4*1*#REF!) )*$T36)","v":{"$error":"#REF!"}},{"$f":"10*LOG10((#REF!+#REF!+#REF!)^2 + (#REF! *#REF!*$T36 - (#REF!*(#REF!+#REF!) + 4*#REF!*#REF!) )*$T36 )  - 10*LOG10( (1+#REF!+#REF!)^2 + ( 1*#REF!*$T36 - (#REF!*(1+#REF!) + 4*1*#REF!) )*$T36)","v":{"$error":"#REF!"}},{"$f":"10*LOG10((#REF!+#REF!+#REF!)^2 + (#REF! *#REF!*$T36 - (#REF!*(#REF!+#REF!) + 4*#REF!*#REF!) )*$T36 )  - 10*LOG10( (1+#REF!+#REF!)^2 + ( 1*#REF!*$T36 - (#REF!*(1+#REF!) + 4*1*#REF!) )*$T36)","v":{"$error":"#REF!"}},{"$error":"#REF!"},null,{"$error":"#REF!"}]
[null,null,null,null,null,null,null,null,null,null,null,null,null,null,null,null,null,2588,{"$f":"2*PI()*R37/I3","v":0.33876840781209938},0.11367065894438499,14.229437865915571,null,null,null,null,null,null,null,null,null,{"$f":"10*LOG10((#REF!+#REF!+#REF!)^2 + (#REF! *#REF!*$T37 - (#REF!*(#REF!+#REF!) + 4*#REF!*#REF!) )*$T37 )  - 10*LOG10( (1+#REF!+#REF!)^2 + ( 1*#REF!*$T37 - (#REF!*(1+#REF!) + 4*1*#REF!) )*$T37)","v":{"$error":"#REF!"}},{"$f":"10*LOG10((#REF!+#REF!+#REF!)^2 + (#REF! *#REF!*$T37 - (#REF!*(#REF!+#REF!) + 4*#REF!*#REF!) )*$T37 )  - 10*LOG10( (1+#REF!+#REF!)^2 + ( 1*#REF!*$T37 - (#REF!*(1+#REF!) + 4*1*#REF!) )*$T37)","v":{"$error":"#REF!"}},{"$f":"10*LOG10((#REF!+#REF!+#REF!)^2 + (#REF! *#REF!*$T37 - (#REF!*(#REF!+#REF!) + 4*#REF!*#REF!) )*$T37 )  - 10*LOG10( (1+#REF!+#REF!)^2 + ( 1*#REF!*$T37 - (#REF!*(1+#REF!) + 4*1*#REF!) )*$T37)","v":{"$error":"#REF!"}},{"$f":"10*LOG10((#REF!+#REF!+#REF!)^2 + (#REF! *#REF!*$T37 - (#REF!*(#REF!+#REF!) + 4*#REF!*#REF!) )*$T37 )  - 10*LOG10( (1+#REF!+#REF!)^2 + ( 1*#REF!*$T37 - (#REF!*(1+#REF!) + 4*1*#REF!) )*$T37)","v":{"$error":"#REF!"}},{"$f":"10*LOG10((#REF!+#REF!+#REF!)^2 + (#REF! *#REF!*$T37 - (#REF!*(#REF!+#REF!) + 4*#REF!*#REF!) )*$T37 )  - 10*LOG10( (1+#REF!+#REF!)^2 + ( 1*#REF!*$T37 - (#REF!*(1+#REF!) + 4*1*#REF!) )*$T37)","v":{"$error":"#REF!"}},{"$error":"#REF!"},null,{"$error":"#REF!"}]
[null,null,null,null,null,null,null,null,null,null,null,null,null,null,null,null,null,3080,{"$f":"2*PI()*R38/I3","v":0.40317105721069013},0.16035700535652472,9.2625022491548226,null,null,null,null,null,null,null,null,null,{"$f":"10*LOG10((#REF!+#REF!+#REF!)^2 + (#REF! *#REF!*$T38 - (#REF!*(#REF!+#REF!) + 4*#REF!*#REF!) )*$T38 )  - 10*LOG10( (1+#REF!+#REF!)^2 + ( 1*#REF!*$T38 - (#REF!*(1+#REF!) + 4*1*#REF!) )*$T38)","v":{"$error":"#REF!"}},{"$f":"10*LOG10((#REF!+#REF!+#REF!)^2 + (#REF! *#REF!*$T38 - (#REF!*(#REF!+#REF!) + 4*#REF!*#REF!) )*$T38 )  - 10*LOG10( (1+#REF!+#REF!)^2 + ( 1*#REF!*$T38 - (#REF!*(1+#REF!) + 4*1*#REF!) )*$T38)","v":{"$error":"#REF!"}},{"$f":"10*LOG10((#REF!+#REF!+#REF!)^2 + (#REF! *#REF!*$T38 - (#REF!*(#REF!+#REF!) + 4*#REF!*#REF!) )*$T38 )  - 10*LOG10( (1+#REF!+#REF!)^2 + ( 1*#REF!*$T38 - (#REF!*(1+#REF!) + 4*1*#REF!) )*$T38)","v":{"$error":"#REF!"}},{"$f":"10*LOG10((#REF!+#REF!+#REF!)^2 + (#REF! *#REF!*$T38 - (#REF!*(#REF!+#REF!) + 4*#REF!*#REF!) )*$T38 )  - 10*LOG10( (1+#REF!+#REF!)^2 + ( 1*#REF!*$T38 - (#REF!*(1+#REF!) + 4*1*#REF!) )*$T38)","v":{"$error":"#REF!"}},{"$f":"10*LOG10((#REF!+#REF!+#REF!)^2 + (#REF! *#REF!*$T38 - (#REF!*(#REF!+#REF!) + 4*#REF!*#REF!) )*$T38 )  - 10*LOG10( (1+#REF!+#REF!)^2 + ( 1*#REF!*$T38 - (#REF!*(1+#REF!) + 4*1*#REF!) )*$T38)","v":{"$error":"#REF!"}},{"$error":"#REF!"},null,{"$error":"#REF!"}]
[null,null,null,null,null,null,null,null,null,null,null,null,null,null,null,null,null,3663,{"$f":"2*PI()*R39/I3","v":0.47948557875414222},0.22553529114956708,6.2009859841744355,null,null,null,null,null,null,null,null,null,{"$f":"10*LOG10((#REF!+#REF!+#REF!)^2 + (#REF! *#REF!*$T39 - (#REF!*(#REF!+#REF!) + 4*#REF!*#REF!) )*$T39 )  - 10*LOG10( (1+#REF!+#REF!)^2 + ( 1*#REF!*$T39 - (#REF!*(1+#REF!) + 4*1*#REF!) )*$T39)","v":{"$error":"#REF!"}},{"$f":"10*LOG10((#REF!+#REF!+#REF!)^2 + (#REF! *#REF!*$T39 - (#REF!*(#REF!+#REF!) + 4*#REF!*#REF!) )*$T39 )  - 10*LOG10( (1+#REF!+#REF!)^2 + ( 1*#REF!*$T39 - (#REF!*(1+#REF!) + 4*1*#REF!) )*$T39)","v":{"$error":"#REF!"}},{"$f":"10*LOG10((#REF!+#REF!+#REF!)^2 + (#REF! *#REF!*$T39 - (#REF!*(#REF!+#REF!) + 4*#REF!*#REF!) )*$T39 )  - 10*LOG10( (1+#REF!+#REF!)^2 + ( 1*#REF!*$T39 - (#REF!*(1+#REF!) + 4*1*#REF!) )*$T39)","v":{"$error":"#REF!"}},{"$f":"10*LOG10((#REF!+#REF!+#REF!)^2 + (#REF! *#REF!*$T39 - (#REF!*(#REF!+#REF!) + 4*#REF!*#REF!) )*$T39 )  - 10*LOG10( (1+#REF!+#REF!)^2 + ( 1*#REF!*$T39 - (#REF!*(1+#REF!) + 4*1*#REF!) )*$T39)","v":{"$error":"#REF!"}},{"$f":"10*LOG10((#REF!+#REF!+#REF!)^2 + (#REF! *#REF!*$T39 - (#REF!*(#REF!+#REF!) + 4*#REF!*#REF!) )*$T39 )  - 10*LOG10( (1+#REF!+#REF!)^2 + ( 1*#REF!*$T39 - (#REF!*(1+#REF!) + 4*1*#REF!) )*$T39)","v":{"$error":"#REF!"}},{"$error":"#REF!"},null,{"$error":"#REF!"}]
[null,null,null,null,null,null,null,null,null,null,null,null,null,null,null,null,null,4357,{"$f":"2*PI()*R40/I3","v":0.57032996632044708},0.31655426213633453,4.1671667564547068,null,null,null,null,null,null,null,null,null,{"$f":"10*LOG10((#REF!+#REF!+#REF!)^2 + (#REF! *#REF!*$T40 - (#REF!*(#REF!+#REF!) + 4*#REF!*#REF!) )*$T40 )  - 10*LOG10( (1+#REF!+#REF!)^2 + ( 1*#REF!*$T40 - (#REF!*(1+#REF!) + 4*1*#REF!) )*$T40)","v":{"$error":"#REF!"}},{"$f":"10*LOG10((#REF!+#REF!+#REF!)^2 + (#REF! *#REF!*$T40 - (#REF!*(#REF!+#REF!) + 4*#REF!*#REF!) )*$T40 )  - 10*LOG10( (1+#REF!+#REF!)^2 + ( 1*#REF!*$T40 - (#REF!*(1+#REF!) + 4*1*#REF!) )*$T40)","v":{"$error":"#REF!"}},{"$f":"10*LOG10((#REF!+#REF!+#REF!)^2 + (#REF! *#REF!*$T40 - (#REF!*(#REF!+#REF!) + 4*#REF!*#REF!) )*$T40 )  - 10*LOG10( (1+#REF!+#REF!)^2 + ( 1*#REF!*$T40 - (#REF!*(1+#REF!) + 4*1*#REF!) )*$T40)","v":{"$error":"#REF!"}},{"$f":"10*LOG10((#REF!+#REF!+#REF!)^2 + (#REF! *#REF!*$T40 - (#REF!*(#REF!+#REF!) + 4*#REF!*#REF!) )*$T40 )  - 10*LOG10( (1+#REF!+#REF!)^2 + ( 1*#REF!*$T40 - (#REF!*(1+#REF!) + 4*1*#REF!) )*$T40)","v":{"$error":"#REF!"}},{"$f":"10*LOG10((#REF!+#REF!+#REF!)^2 + (#REF! *#REF!*$T40 - (#REF!*(#REF!+#REF!) + 4*#REF!*#REF!) )*$T40 )  - 10*LOG10( (1+#REF!+#REF!)^2 + ( 1*#REF!*$T40 - (#REF!*(1+#REF!) + 4*1*#REF!) )*$T40)","v":{"$error":"#REF!"}},{"$error":"#REF!"},null,{"$error":"#REF!"}]
[null,null,null,null,null,null,null,null,null,null,null,null,null,null,null,null,null,5184,{"$f":"2*PI()*R41/I3","v":0.6785840131753953},0.4430753968659531,2.7594268081149371,null,null,null,null,null,null,null,null,null,{"$f":"10*LOG10((#REF!+#REF!+#REF!)^2 + (#REF! *#REF!*$T41 - (#REF!*(#REF!+#REF!) + 4*#REF!*#REF!) )*$T41 )  - 10*LOG10( (1+#REF!+#REF!)^2 + ( 1*#REF!*$T41 - (#REF!*(1+#REF!) + 4*1*#REF!) )*$T41)","v":{"$error":"#REF!"}},{"$f":"10*LOG10((#REF!+#REF!+#REF!)^2 + (#REF! *#REF!*$T41 - (#REF!*(#REF!+#REF!) + 4*#REF!*#REF!) )*$T41 )  - 10*LOG10( (1+#REF!+#REF!)^2 + ( 1*#REF!*$T41 - (#REF!*(1+#REF!) + 4*1*#REF!) )*$T41)","v":{"$error":"#REF!"}},{"$f":"10*LOG10((#REF!+#REF!+#REF!)^2 + (#REF! *#REF!*$T41 - (#REF!*(#REF!+#REF!) + 4*#REF!*#REF!) )*$T41 )  - 10*LOG10( (1+#REF!+#REF!)^2 + ( 1*#REF!*$T41 - (#REF!*(1+#REF!) + 4*1*#REF!) )*$T41)","v":{"$error":"#REF!"}},{"$f":"10*LOG10((#REF!+#REF!+#REF!)^2 + (#REF! *#REF!*$T41 - (#REF!*(#REF!+#REF!) + 4*#REF!*#REF!) )*$T41 )  - 10*LOG10( (1+#REF!+#REF!)^2 + ( 1*#REF!*$T41 - (#REF!*(1+#REF!) + 4*1*#REF!) )*$T41)","v":{"$error":"#REF!"}},{"$f":"10*LOG10((#REF!+#REF!+#REF!)^2 + (#REF! *#REF!*$T41 - (#REF!*(#REF!+#REF!) + 4*#REF!*#REF!) )*$T41 )  - 10*LOG10( (1+#REF!+#REF!)^2 + ( 1*#REF!*$T41 - (#REF!*(1+#REF!) + 4*1*#REF!) )*$T41)","v":{"$error":"#REF!"}},{"$error":"#REF!"},null,{"$error":"#REF!"}]
[null,null,null,null,null,null,null,null,null,null,null,null,null,null,null,null,null,6167,{"$f":"2*PI()*R42/I3","v":0.80725841227867723},0.61703692789966291,1.7696264115341362,null,null,null,null,null,null,null,null,null,{"$f":"10*LOG10((#REF!+#REF!+#REF!)^2 + (#REF! *#REF!*$T42 - (#REF!*(#REF!+#REF!) + 4*#REF!*#REF!) )*$T42 )  - 10*LOG10( (1+#REF!+#REF!)^2 + ( 1*#REF!*$T42 - (#REF!*(1+#REF!) + 4*1*#REF!) )*$T42)","v":{"$error":"#REF!"}},{"$f":"10*LOG10((#REF!+#REF!+#REF!)^2 + (#REF! *#REF!*$T42 - (#REF!*(#REF!+#REF!) + 4*#REF!*#REF!) )*$T42 )  - 10*LOG10( (1+#REF!+#REF!)^2 + ( 1*#REF!*$T42 - (#REF!*(1+#REF!) + 4*1*#REF!) )*$T42)","v":{"$error":"#REF!"}},{"$f":"10*LOG10((#REF!+#REF!+#REF!)^2 + (#REF! *#REF!*$T42 - (#REF!*(#REF!+#REF!) + 4*#REF!*#REF!) )*$T42 )  - 10*LOG10( (1+#REF!+#REF!)^2 + ( 1*#REF!*$T42 - (#REF!*(1+#REF!) + 4*1*#REF!) )*$T42)","v":{"$error":"#REF!"}},{"$f":"10*LOG10((#REF!+#REF!+#REF!)^2 + (#REF! *#REF!*$T42 - (#REF!*(#REF!+#REF!) + 4*#REF!*#REF!) )*$T42 )  - 10*LOG10( (1+#REF!+#REF!)^2 + ( 1*#REF!*$T42 - (#REF!*(1+#REF!) + 4*1*#REF!) )*$T42)","v":{"$error":"#REF!"}},{"$f":"10*LOG10((#REF!+#REF!+#REF!)^2 + (#REF! *#REF!*$T42 - (#REF!*(#REF!+#REF!) + 4*#REF!*#REF!) )*$T42 )  - 10*LOG10( (1+#REF!+#REF!)^2 + ( 1*#REF!*$T42 - (#REF!*(1+#REF!) + 4*1*#REF!) )*$T42)","v":{"$error":"#REF!"}},{"$error":"#REF!"},null,{"$error":"#REF!"}]
[null,null,null,null,null,null,null,null,null,null,null,null,null,null,null,null,null,7336,{"$f":"2*PI()*R43/I3","v":0.9602801544472801},0.85341907318473453,1.0682799797581506,null,null,null,null,null,null,null,null,null,{"$f":"10*LOG10((#REF!+#REF!+#REF!)^2 + (#REF! *#REF!*$T43 - (#REF!*(#REF!+#REF!) + 4*#REF!*#REF!) )*$T43 )  - 10*LOG10( (1+#REF!+#REF!)^2 + ( 1*#REF!*$T43 - (#REF!*(1+#REF!) + 4*1*#REF!) )*$T43)","v":{"$error":"#REF!"}},{"$f":"10*LOG10((#REF!+#REF!+#REF!)^2 + (#REF! *#REF!*$T43 - (#REF!*(#REF!+#REF!) + 4*#REF!*#REF!) )*$T43 )  - 10*LOG10( (1+#REF!+#REF!)^2 + ( 1*#REF!*$T43 - (#REF!*(1+#REF!) + 4*1*#REF!) )*$T43)","v":{"$error":"#REF!"}},{"$f":"10*LOG10((#REF!+#REF!+#REF!)^2 + (#REF! *#REF!*$T43 - (#REF!*(#REF!+#REF!) + 4*#REF!*#REF!) )*$T43 )  - 10*LOG10( (1+#REF!+#REF!)^2 + ( 1*#REF!*$T43 - (#REF!*(1+#REF!) + 4*1*#REF!) )*$T43)","v":{"$error":"#REF!"}},{"$f":"10*LOG10((#REF!+#REF!+#REF!)^2 + (#REF! *#REF!*$T43 - (#REF!*(#REF!+#REF!) + 4*#REF!*#REF!) )*$T43 )  - 10*LOG10( (1+#REF!+#REF!)^2 + ( 1*#REF!*$T43 - (#REF!*(1+#REF!) + 4*1*#REF!) )*$T43)","v":{"$error":"#REF!"}},{"$f":"10*LOG10((#REF!+#REF!+#REF!)^2 + (#REF! *#REF!*$T43 - (#REF!*(#REF!+#REF!) + 4*#REF!*#REF!) )*$T43 )  - 10*LOG10( (1+#REF!+#REF!)^2 + ( 1*#REF!*$T43 - (#REF!*(1+#REF!) + 4*1*#REF!) )*$T43)","v":{"$error":"#REF!"}},{"$error":"#REF!"},null,{"$error":"#REF!"}]
[null,null,null,null,null,null,null,null,null,null,null,null,null,null,null,null,null,8728,{"$f":"2*PI()*R44/I3","v":1.1424925283554881},1.1693431712877846,0.57034372444239501,null,null,null,null,null,null,null,null,null,{"$f":"10*LOG10((#REF!+#REF!+#REF!)^2 + (#REF! *#REF!*$T44 - (#REF!*(#REF!+#REF!) + 4*#REF!*#REF!) )*$T44 )  - 10*LOG10( (1+#REF!+#REF!)^2 + ( 1*#REF!*$T44 - (#REF!*(1+#REF!) + 4*1*#REF!) )*$T44)","v":{"$error":"#REF!"}},{"$f":"10*LOG10((#REF!+#REF!+#REF!)^2 + (#REF! *#REF!*$T44 - (#REF!*(#REF!+#REF!) + 4*#REF!*#REF!) )*$T44 )  - 10*LOG10( (1+#REF!+#REF!)^2 + ( 1*#REF!*$T44 - (#REF!*(1+#REF!) + 4*1*#REF!) )*$T44)","v":{"$error":"#REF!"}},{"$f":"10*LOG10((#REF!+#REF!+#REF!)^2 + (#REF! *#REF!*$T44 - (#REF!*(#REF!+#REF!) + 4*#REF!*#REF!) )*$T44 )  - 10*LOG10( (1+#REF!+#REF!)^2 + ( 1*#REF!*$T44 - (#REF!*(1+#REF!) + 4*1*#REF!) )*$T44)","v":{"$error":"#REF!"}},{"$f":"10*LOG10((#REF!+#REF!+#REF!)^2 + (#REF! *#REF!*$T44 - (#REF!*(#REF!+#REF!) + 4*#REF!*#REF!) )*$T44 )  - 10*LOG10( (1+#REF!+#REF!)^2 + ( 1*#REF!*$T44 - (#REF!*(1+#REF!) + 4*1*#REF!) )*$T44)","v":{"$error":"#REF!"}},{"$f":"10*LOG10((#REF!+#REF!+#REF!)^2 + (#REF! *#REF!*$T44 - (#REF!*(#REF!+#REF!) + 4*#REF!*#REF!) )*$T44 )  - 10*LOG10( (1+#REF!+#REF!)^2 + ( 1*#REF!*$T44 - (#REF!*(1+#REF!) + 4*1*#REF!) )*$T44)","v":{"$error":"#REF!"}},{"$error":"#REF!"},null,{"$error":"#REF!"}]
[null,null,null,null,null,null,null,null,null,null,null,null,null,null,null,null,null,10384,{"$f":"2*PI()*R45/I3","v":1.3592624214531839},1.5800802782735153,0.21837127168813542,null,null,null,null,null,null,null,null,null,{"$f":"10*LOG10((#REF!+#REF!+#REF!)^2 + (#REF! *#REF!*$T45 - (#REF!*(#REF!+#REF!) + 4*#REF!*#REF!) )*$T45 )  - 10*LOG10( (1+#REF!+#REF!)^2 + ( 1*#REF!*$T45 - (#REF!*(1+#REF!) + 4*1*#REF!) )*$T45)","v":{"$error":"#REF!"}},{"$f":"10*LOG10((#REF!+#REF!+#REF!)^2 + (#REF! *#REF!*$T45 - (#REF!*(#REF!+#REF!) + 4*#REF!*#REF!) )*$T45 )  - 10*LOG10( (1+#REF!+#REF!)^2 + ( 1*#REF!*$T45 - (#REF!*(1+#REF!) + 4*1*#REF!) )*$T45)","v":{"$error":"#REF!"}},{"$f":"10*LOG10((#REF!+#REF!+#REF!)^2 + (#REF! *#REF!*$T45 - (#REF!*(#REF!+#REF!) + 4*#REF!*#REF!) )*$T45 )  - 10*LOG10( (1+#REF!+#REF!)^2 + ( 1*#REF!*$T45 - (#REF!*(1+#REF!) + 4*1*#REF!) )*$T45)","v":{"$error":"#REF!"}},{"$f":"10*LOG10((#REF!+#REF!+#REF!)^2 + (#REF! *#REF!*$T45 - (#REF!*(#REF!+#REF!) + 4*#REF!*#REF!) )*$T45 )  - 10*LOG10( (1+#REF!+#REF!)^2 + ( 1*#REF!*$T45 - (#REF!*(1+#REF!) + 4*1*#REF!) )*$T45)","v":{"$error":"#REF!"}},{"$f":"10*LOG10((#REF!+#REF!+#REF!)^2 + (#REF! *#REF!*$T45 - (#REF!*(#REF!+#REF!) + 4*#REF!*#REF!) )*$T45 )  - 10*LOG10( (1+#REF!+#REF!)^2 + ( 1*#REF!*$T45 - (#REF!*(1+#REF!) + 4*1*#REF!) )*$T45)","v":{"$error":"#REF!"}},{"$error":"#REF!"},null,{"$error":"#REF!"}]
[null,null,null,null,null,null,null,null,null,null,null,null,null,null,null,null,null,12353,{"$f":"2*PI()*R46/I3","v":1.6170039187414464},2.0923823008205793,-2.8352016417009018E-2,null,null,null,null,null,null,null,null,null,{"$f":"10*LOG10((#REF!+#REF!+#REF!)^2 + (#REF! *#REF!*$T46 - (#REF!*(#REF!+#REF!) + 4*#REF!*#REF!) )*$T46 )  - 10*LOG10( (1+#REF!+#REF!)^2 + ( 1*#REF!*$T46 - (#REF!*(1+#REF!) + 4*1*#REF!) )*$T46)","v":{"$error":"#REF!"}},{"$f":"10*LOG10((#REF!+#REF!+#REF!)^2 + (#REF! *#REF!*$T46 - (#REF!*(#REF!+#REF!) + 4*#REF!*#REF!) )*$T46 )  - 10*LOG10( (1+#REF!+#REF!)^2 + ( 1*#REF!*$T46 - (#REF!*(1+#REF!) + 4*1*#REF!) )*$T46)","v":{"$error":"#REF!"}},{"$f":"10*LOG10((#REF!+#REF!+#REF!)^2 + (#REF! *#REF!*$T46 - (#REF!*(#REF!+#REF!) + 4*#REF!*#REF!) )*$T46 )  - 10*LOG10( (1+#REF!+#REF!)^2 + ( 1*#REF!*$T46 - (#REF!*(1+#REF!) + 4*1*#REF!) )*$T46)","v":{"$error":"#REF!"}},{"$f":"10*LOG10((#REF!+#REF!+#REF!)^2 + (#REF! *#REF!*$T46 - (#REF!*(#REF!+#REF!) + 4*#REF!*#REF!) )*$T46 )  - 10*LOG10( (1+#REF!+#REF!)^2 + ( 1*#REF!*$T46 - (#REF!*(1+#REF!) + 4*1*#REF!) )*$T46)","v":{"$error":"#REF!"}},{"$f":"10*LOG10((#REF!+#REF!+#REF!)^2 + (#REF! *#REF!*$T46 - (#REF!*(#REF!+#REF!) + 4*#REF!*#REF!) )*$T46 )  - 10*LOG10( (1+#REF!+#REF!)^2 + ( 1*#REF!*$T46 - (#REF!*(1+#REF!) + 4*1*#REF!) )*$T46)","v":{"$error":"#REF!"}},{"$f":"AE46+AF46+AG46+AH46+AI46","v":{"$error":"#REF!"}},null,{"$f":"AJ46+Z46","v":{"$error":"#REF!"}}]
[null,null,null,null,null,null,null,null,null,null,null,null,null,null,null,null,null,14696,{"$f":"2*PI()*R47/I3","v":1.92370190154815},2.6912515476403911,-0.1984290325161755,null,null,null,null,null,null,null,null,null,{"$f":"10*LOG10((#REF!+#REF!+#REF!)^2 + (#REF! *#REF!*$T47 - (#REF!*(#REF!+#REF!) + 4*#REF!*#REF!) )*$T47 )  - 10*LOG10( (1+#REF!+#REF!)^2 + ( 1*#REF!*$T47 - (#REF!*(1+#REF!) + 4*1*#REF!) )*$T47)","v":{"$error":"#REF!"}},{"$f":"10*LOG10((#REF!+#REF!+#REF!)^2 + (#REF! *#REF!*$T47 - (#REF!*(#REF!+#REF!) + 4*#REF!*#REF!) )*$T47 )  - 10*LOG10( (1+#REF!+#REF!)^2 + ( 1*#REF!*$T47 - (#REF!*(1+#REF!) + 4*1*#REF!) )*$T47)","v":{"$error":"#REF!"}},{"$f":"10*LOG10((#REF!+#REF!+#REF!)^2 + (#REF! *#REF!*$T47 - (#REF!*(#REF!+#REF!) + 4*#REF!*#REF!) )*$T47 )  - 10*LOG10( (1+#REF!+#REF!)^2 + ( 1*#REF!*$T47 - (#REF!*(1+#REF!) + 4*1*#REF!) )*$T47)","v":{"$error":"#REF!"}},{"$f":"10*LOG10((#REF!+#REF!+#REF!)^2 + (#REF! *#REF!*$T47 - (#REF!*(#REF!+#REF!) + 4*#REF!*#REF!) )*$T47 )  - 10*LOG10( (1+#REF!+#REF!)^2 + ( 1*#REF!*$T47 - (#REF!*(1+#REF!) + 4*1*#REF!) )*$T47)","v":{"$error":"#REF!"}},{"$f":"10*LOG10((#REF!+#REF!+#REF!)^2 + (#REF! *#REF!*$T47 - (#REF!*(#REF!+#REF!) + 4*#REF!*#REF!) )*$T47 )  - 10*LOG10( (1+#REF!+#REF!)^2 + ( 1*#REF!*$T47 - (#REF!*(1+#REF!) + 4*1*#REF!) )*$T47)","v":{"$error":"#REF!"}},{"$f":"AE47+AF47+AG47+AH47+AI47","v":{"$error":"#REF!"}},null,{"$f":"AJ47+Z47","v":{"$error":"#REF!"}}]
[null,null,null,null,null,null,null,null,null,null,null,null,null,null,null,null,null,17484,{"$f":"2*PI()*R48/I3","v":2.2886502481401645},3.3155394410680721,-0.31067566925070977,null,null,null,null,null,null,null,null,null,{"$f":"10*LOG10((#REF!+#REF!+#REF!)^2 + (#REF! *#REF!*$T48 - (#REF!*(#REF!+#REF!) + 4*#REF!*#REF!) )*$T48 )  - 10*LOG10( (1+#REF!+#REF!)^2 + ( 1*#REF!*$T48 - (#REF!*(1+#REF!) + 4*1*#REF!) )*$T48)","v":{"$error":"#REF!"}},{"$f":"10*LOG10((#REF!+#REF!+#REF!)^2 + (#REF! *#REF!*$T48 - (#REF!*(#REF!+#REF!) + 4*#REF!*#REF!) )*$T48 )  - 10*LOG10( (1+#REF!+#REF!)^2 + ( 1*#REF!*$T48 - (#REF!*(1+#REF!) + 4*1*#REF!) )*$T48)","v":{"$error":"#REF!"}},{"$f":"10*LOG10((#REF!+#REF!+#REF!)^2 + (#REF! *#REF!*$T48 - (#REF!*(#REF!+#REF!) + 4*#REF!*#REF!) )*$T48 )  - 10*LOG10( (1+#REF!+#REF!)^2 + ( 1*#REF!*$T48 - (#REF!*(1+#REF!) + 4*1*#REF!) )*$T48)","v":{"$error":"#REF!"}},{"$f":"10*LOG10((#REF!+#REF!+#REF!)^2 + (#REF! *#REF!*$T48 - (#REF!*(#REF!+#REF!) + 4*#REF!*#REF!) )*$T48 )  - 10*LOG10( (1+#REF!+#REF!)^2 + ( 1*#REF!*$T48 - (#REF!*(1+#REF!) + 4*1*#REF!) )*$T48)","v":{"$error":"#REF!"}},{"$f":"10*LOG10((#REF!+#REF!+#REF!)^2 + (#REF! *#REF!*$T48 - (#REF!*(#REF!+#REF!) + 4*#REF!*#REF!) )*$T48 )  - 10*LOG10( (1+#REF!+#REF!)^2 + ( 1*#REF!*$T48 - (#REF!*(1+#REF!) + 4*1*#REF!) )*$T48)","v":{"$error":"#REF!"}},{"$f":"AE48+AF48+AG48+AH48+AI48","v":{"$error":"#REF!"}},null,{"$f":"AJ48+Z48","v":{"$error":"#REF!"}}]
[null,null,null,null,null,null,null,null,null,null,null,null,null,null,null,null,null,22000,{"$f":"2*PI()*R49/I3","v":2.8797932657906435},3.9318516525781364,-0.38669367478387784,null,null,null,null,null,null,null,null,null,{"$f":"10*LOG10((#REF!+#REF!+#REF!)^2 + (#REF! *#REF!*$T49 - (#REF!*(#REF!+#REF!) + 4*#REF!*#REF!) )*$T49 )  - 10*LOG10( (1+#REF!+#REF!)^2 + ( 1*#REF!*$T49 - (#REF!*(1+#REF!) + 4*1*#REF!) )*$T49)","v":{"$error":"#REF!"}},{"$f":"10*LOG10((#REF!+#REF!+#REF!)^2 + (#REF! *#REF!*$T49 - (#REF!*(#REF!+#REF!) + 4*#REF!*#REF!) )*$T49 )  - 10*LOG10( (1+#REF!+#REF!)^2 + ( 1*#REF!*$T49 - (#REF!*(1+#REF!) + 4*1*#REF!) )*$T49)","v":{"$error":"#REF!"}},{"$f":"10*LOG10((#REF!+#REF!+#REF!)^2 + (#REF! *#REF!*$T49 - (#REF!*(#REF!+#REF!) + 4*#REF!*#REF!) )*$T49 )  - 10*LOG10( (1+#REF!+#REF!)^2 + ( 1*#REF!*$T49 - (#REF!*(1+#REF!) + 4*1*#REF!) )*$T49)","v":{"$error":"#REF!"}},{"$f":"10*LOG10((#REF!+#REF!+#REF!)^2 + (#REF! *#REF!*$T49 - (#REF!*(#REF!+#REF!) + 4*#REF!*#REF!) )*$T49 )  - 10*LOG10( (1+#REF!+#REF!)^2 + ( 1*#REF!*$T49 - (#REF!*(1+#REF!) + 4*1*#REF!) )*$T49)","v":{"$error":"#REF!"}},{"$f":"10*LOG10((#REF!+#REF!+#REF!)^2 + (#REF! *#REF!*$T49 - (#REF!*(#REF!+#REF!) + 4*#REF!*#REF!) )*$T49 )  - 10*LOG10( (1+#REF!+#REF!)^2 + ( 1*#REF!*$T49 - (#REF!*(1+#REF!) + 4*1*#REF!) )*$T49)","v":{"$error":"#REF!"}},{"$f":"AE49+AF49+AG49+AH49+AI49","v":{"$error":"#REF!"}},null,{"$f":"AJ49+Z49","v":{"$error":"#REF!"}}]

{"sheet":"EQ All Peaking","index":5,"n_rows":499,"n_cols":26,"rows_kept":499,"cut":false,"hidden":false,"merged":[]}
[]
[]
[]
[]
[]
[]
[]
[]
[]
[]
[]
[]
[]
[]
[]
[null,1,2,3,4,5]
[null,null,null,null,null,null,null,null,"Select Slider, then"]
[null,null,null,null,null,null,null,null,"Page up/Down : Big Jump"]
[null,null,null,null,null,null,null,null,"Up/Down arrows : Fine tune"]
[]
[null,null,null,null,null,null,null,null,"Dear R B-J,"]
[null,null,null,null,null,null,null,null,"Thank you for your personal support !!"]
[]
[null,null,null,null,null,null,null,null,"Web Surf"]
[null,null,null,null,null,null,null,null,"Feb 2006"]
[]
[]
[null,null,null,null,null,null,null,null,"Many programs that plot R- BJ equalisers have a problem"]
[null,null,null,null,null,null,null,null,"with High Q peaking filters. As you sweep the Fo, the"]
[null,null,null,null,null,null,null,null,"max attenuation/boost varies. This is a problem with their plot"]
[null,null,null,null,null,null,null,null,"method. You either need to plot 25 points per octave"]
[null,null,null,null,null,null,null,null,"or you need to make sure that each Fo of each Notch "]
[null,null,null,null,null,null,null,null,"is plotted."]
["F0",{"$f":"10^(B48/333333)*20","v":100.00085072538329},{"$f":"10^(C48/333333)*20","v":299.99994269015565},{"$f":"10^(D48/333333)*20","v":1000.0015994567391},{"$f":"10^(E48/333333)*20","v":5000.0159945801815},{"$f":"10^(F48/333333)*20","v":10000.015994567402},null,null,"Only 6 points per octave with a curve smoothening is"]
["Q",{"$f":"B49/1000000*10+0.002","v":2.9964599999999999},{"$f":"C49/1000000*10+0.002","v":3.0029400000000002},{"$f":"D49/1000000*10+0.002","v":1.5013500000000002},{"$f":"E49/1000000*10+0.002","v":0.74539},{"$f":"F49/1000000*30+0.002","v":6.5984299999999996},null,null,"sufficient for all other plots."]
["dBgain",{"$f":"(B50-500000)/500000*30","v":-20.000520000000002},{"$f":"(C50-500000)/500000*30","v":-14.999219999999999},{"$f":"(D50-500000)/500000*30","v":14.9955},{"$f":"(E50-500000)/500000*20","v":15.00164},{"$f":"(F50-500000)/500000*30","v":-21.144480000000001}]
["IdBoffset",{"$f":"((B51-500000)/500000*20)","v":0},{"$f":"((C51-500000)/500000*20)","v":0},{"$f":"((D51-500000)/500000*20)","v":0},{"$f":"((E51-500000)/500000*20)","v":0},{"$f":"((F51-500000)/500000*20)","v":3.9999999999999996E-5}]
[]
[]
[]
[]
[]
[]
[]
[]
[]
[]
["S1",232991,392030,566323,799313,899656,null,null,"Master dB",500000]
["S2",299446,300094,149935,74339,219881,null,null,"Normal dB",{"$f":"(J48-500000)/500000*20","v":0}]
["S3",166658,250013,749925,875041,147592,null,null,null,{"$f":"10^(J49/20)","v":1}]
["S4",500000,500000,500000,500000,500001,null,null,null,{"$f":"J50","v":1}]
[]
[]
[]
[]
["Fs",48000,"Hz"]
[]
[]
[null,"Peaking EQ","Peaking EQ","Peaking EQ","Peaking EQ","Peaking EQ"]
["A",{"$f":"SQRT( 10^((B36)/20) )","v":0.3162183003210895},{"$f":"SQRT( 10^((C36)/20) )","v":0.42171543819927848},{"$f":"10^((D36)/40)","v":2.3707595026206558},{"$f":"10^((E36)/40)","v":2.3715975881089388},{"$f":"10^((F36)/40)","v":0.29606563446592521}]
["wo",{"$f":"2*PI()*B34/B56","v":1.3090080749649737E-2},{"$f":"2*PI()*C34/B56","v":3.9269900668031328E-2},{"$f":"2*PI()*D34/B56","v":0.13089990326797227},{"$f":"2*PI()*E34/B56","v":0.65450056318352334},{"$f":"2*PI()*F34/B56","v":1.3089990326797241}]
["cos(wo)",{"$f":"COS(B61)","v":0.99991432611634745},{"$f":"COS(C61)","v":0.99922903653524375},{"$f":"COS(D61)","v":0.99144483404572903},{"$f":"COS(E61)","v":0.79335206573442829},{"$f":"COS(F61)","v":0.25881702275852814}]
["sin(wo)",{"$f":"SIN(B61)","v":1.3089706921496169E-2},{"$f":"SIN(C61)","v":3.9259808263011169E-2},{"$f":"SIN(D61)","v":0.13052639979727063},{"$f":"SIN(E61)","v":0.60876309003989015},{"$f":"SIN(F61)","v":0.96592636817223887}]
["Alpha",{"$f":" B63/(2*B35)","v":2.1841951705506113E-3},{"$f":" C63/(2*C35)","v":6.5368952198530715E-3},{"$f":" D63/(2*D35)","v":4.3469677222922908E-2},{"$f":" E63/(2*E35)","v":0.40835206404693525},{"$f":" F63/(2*F35)","v":7.3193651230083437E-2}]
["Lingain",{"$f":"10^(B37/20)","v":1},{"$f":"10^(C37/20)","v":1},{"$f":"10^(D37/20)","v":1},{"$f":"10^(E37/20)","v":1},{"$f":"10^(F37/20)","v":1.0000046051807898}]
[]
[null,null,null,null,null,null,null,null,null,null,"Coeff to Hex",null,"Quantised",null,"Padded","reconvert","Text","Little Endian"]
["B0",{"$f":"B65*$J$51*(1+(B64*B60))","v":1.0006906824844011},{"$f":"C65*$J$51*(1+(C64*C60))","v":1.0027567096321031},{"$f":"D65*$J$51*(1+(D64*D60))","v":1.1030561503520973},{"$f":"E65*$J$51*(1+(E64*E60))","v":1.9684467701930184},{"$f":"F65*$J$51*(1+(F64*F60))","v":1.0216748297659446},null,null,null,"B0",0.98653703558432992,{"$f":"K68/K71","v":0.9769047093568034},{"$f":"ROUND(L68*2^20,0)","v":1024359},{"$f":"DEC2HEX(M68)","v":"FA167"},{"$f":"IF(LEN(N68)<>6, RIGHT(\"000000\"&N68, 6), N68)","v":"0FA167"},{"$f":"(IF(HEX2DEC(O68)>8388607, (HEX2DEC(O68)-16777215),HEX2DEC( O68)))/2^20","v":0.97690486907958984},{"$f":" TEXT(O68,\"######\")","v":"0FA167"},{"$f":"RIGHT(Q68,2)&\" \"&MID(Q68, 3,2)&\" \"&LEFT(Q68,2)&\" \"","v":"67 A1 0F "}]
["B1",{"$f":"B65*$J$51*(-2*B62)","v":-1.9998286522326949},{"$f":"C65*$J$51*(-2*C62)","v":-1.9984580730704875},{"$f":"D65*$J$51*(-2*D62)","v":-1.9828896680914581},{"$f":"E65*$J$51*(-2*E62)","v":-1.5867041314688566},{"$f":"F65*$J$51*(-2*F62)","v":-0.51763642931541887},null,null,null,"B1",-1.9676007876982309,{"$f":"K69/K71","v":-1.9483895751547284},{"$f":"ROUND(L69*2^20,0)","v":-2043035},{"$f":"IF(M69<0,DEC2HEX(M69+16777215),DEC2HEX(M69))","v":"E0D364"},{"$f":"IF(LEN(N69)<>6, RIGHT(\"000000\"&N69, 6), N69)","v":"E0D364"},{"$f":"(IF(HEX2DEC(O69)>8388607, (HEX2DEC(O69)-16777215),HEX2DEC( O69)))/2^20","v":-1.948390007019043},"E0D364","64 D3 E0 "]
["B2",{"$f":"B65*$J$51*(1-(B60*B64))","v":0.99930931751559893},{"$f":"C65*$J$51*(1-(C60*C64))","v":0.99724329036789694},{"$f":"D65*$J$51*(1-(D60*D64))","v":0.89694384964790286},{"$f":"E65*$J$51*(1-(E60*E64))","v":3.1553229806981498E-2},{"$f":"F65*$J$51*(1-(F60*F64))","v":0.97833438059563516},null,null,null,"B2",0.98592201454154849,{"$f":"K70/K71","v":0.97629569324146737},{"$f":"ROUND(L70*2^20,0)","v":1023720},{"$f":"IF(M70<0,DEC2HEX(M70+16777215),DEC2HEX(M70))","v":"F9EE8"},{"$f":"IF(LEN(N70)<>6, RIGHT(\"000000\"&N70, 6), N70)","v":"0F9EE8"},{"$f":"(IF(HEX2DEC(O70)>8388607, (HEX2DEC(O70)-16777215),HEX2DEC( O70)))/2^20","v":0.97629547119140625},"0F9EE8","E8 9E 0F "]
["A0",{"$f":"1 + (B64/B60)","v":1.0069072383487381},{"$f":"1 + (C64/C60)","v":1.015500725436483},{"$f":"1 + (D64/D60)","v":1.0183357599853005},{"$f":"1 + (E64/E60)","v":1.1721843815723165},{"$f":"1 + (F64/F60)","v":1.2472210304384632},null,null,null,"A0",1.0098600468758805,1,null,null,null,null,"","   "]
["A1",{"$f":"-2*B62","v":-1.9998286522326949},{"$f":"-2*C62","v":-1.9984580730704875},{"$f":"-2*D62","v":-1.9828896680914581},{"$f":"-2*E62","v":-1.5867041314688566},{"$f":"-2*F62","v":-0.51763404551705627},null,null,null,"A1",-1.9950739028753601,{"$f":"K72/K71","v":-1.975594449000486},{"$f":"ROUND(L72*2^20,0)*-1","v":2071561},{"$f":"IF(M72<0,DEC2HEX(M72+16777215),DEC2HEX(M72))","v":"1F9C09"},{"$f":"IF(LEN(N72)<>6, RIGHT(\"000000\"&N72, 6), N72)","v":"1F9C09"},{"$f":"-(IF(HEX2DEC(O72)>8388607, (HEX2DEC(O72)-16777215),HEX2DEC( O72)))/2^20","v":-1.9755945205688477},"1F9C09","09 9C 1F "]
["A2",{"$f":"1-(B64/B60)","v":0.99309276165126192},{"$f":"1-(C64/C60)","v":0.98449927456351716},{"$f":"1-(D64/D60)","v":0.98166424001469943},{"$f":"1-(E64/E60)","v":0.82781561842768348},{"$f":"1-(F64/F60)","v":0.75277896956153678},null,null,null,"A2",0.99013995312411951,{"$f":"K73/K71","v":0.98047244881826212},{"$f":"ROUND(L73*2^20,0)*-1","v":-1028100},{"$f":"IF(M73<0,DEC2HEX(M73+16777215),DEC2HEX(M73))","v":"F04FFB"},{"$f":"IF(LEN(N73)<>6, RIGHT(\"000000\"&N73, 6), N73)","v":"F04FFB"},{"$f":"-(IF(HEX2DEC(O73)>8388607, (HEX2DEC(O73)-16777215),HEX2DEC( O73)))/2^20","v":0.98047256469726563},"F04FFB","FB 4F F0 "]
[]
[null,null,null,null,null,null,null,null,null,null,"String",{"$f":"R68&R69&R70&R72&R73","v":"67 A1 0F 64 D3 E0 E8 9E 0F 09 9C 1F FB 4F F0 "}]
[]
[null,null,null,null,null,null,null,null,null,null,null,"67 A1 0F 64 D3 E0 E8 9E 0F 09 9C 1F FB 4F F0 "]
[]
[]
[]
[]
[]
[]
[]
[]
[]
[]
[]
[]
[]
[]
[]
[]
[]
[]
[]
[]
[]
[]
[]
[]
[]
[]
[]
[]
[]
[]
[]
[null,"Fo",563154,{"$f":"10^(C109/333333)*20","v":978.34872897125581},{"$f":"LOG(C109)","v":5.7506271731900638}]
[null,"Q",912551,{"$f":"C110/1000000*7","v":6.3878570000000003}]
[null,"dBgain",361479,{"$f":"(C111-500000)/500000*20","v":-5.5408400000000002}]
[null,"Master dbgain",554218,{"$f":"(C112-500000)/500000*20","v":2.16872}]
[null,null,538360,null,null,null,null,null,null,null,null,null,null,null,null,null,null,null,null,null,"PRE-EQ"]
[null,null,null,null,null,null,null,null,null,null,null,null,null,null,null,null,null,null,null,null,1,2,3,4,5,"Total"]
[null,null,null,null,null,null,null,null,null,null,null,null,null,null,null,null,null,"FREQ","w","Phi",1,2,3,4,5,"Total"]
[null,null,"pre1","B0",1,null,{"$f":"B68/B71","v":0.99382608881178391},null,null,null,null,null,null,null,null,null,null,10,{"$f":"2*PI()*R116/B56","v":1.308996938995747E-3},{"$f":"4*(SIN(S116/2))^2","v":1.7134727416344432E-6},{"$f":"10*LOG10(($G$116+$G$117+$G$118)^2 + ( $G$116*$G$118*T116 - ($G$117*($G$116+$G$118) + 4*$G$116*$G$118) )*T116 )  - 10*LOG10( (1+$G$119+$G$120)^2 + ( 1*$G$120*T116 - ($G$119*(1+$G$120) + 4*1*$G$120) )*T116)","v":-4.8580054443490894E-2},{"$f":"10*LOG10(($G$121+$G$122+$G$123)^2 + ( $G$121*$G$123*$T116 - ($G$122*($G$121+$G$123) + 4*$G$121*$G$123) )*$T116 )  - 10*LOG10( (1+$G$124+$G$125)^2 + ( 1*$G$125*$T116 - ($G$124*(1+$G$125) + 4*1*$G$125) )*$T116)","v":-2.9184354400086931E-3},{"$f":"10*LOG10(($G$126+$G$127+$G$128)^2 + ( $G$126*$G$128*$T116 - ($G$127*($G$126+$G$128) + 4*$G$126*$G$128) )*$T116 )  - 10*LOG10( (1+$G$129+$G$130)^2 + ( 1*$G$130*$T116 - ($G$129*(1+$G$130) + 4*1*$G$130) )*$T116)","v":1.0457152075318277E-3},{"$f":"10*LOG10(($G$131+$G$132+$G$133)^2 + ( $G$131*$G$133*$T116 - ($G$132*($G$131+$G$133) + 4*$G$131*$G$133) )*$T116 )  - 10*LOG10( (1+$G$134+$G$135)^2 + ( 1*$G$135*$T116 - ($G$134*(1+$G$135) + 4*1*$G$135) )*$T116)","v":1.5826897524817696E-4},{"$f":"10*LOG10(($G$136+$G$137+$G$138)^2 + ( $G$136*$G$138*$T116 - ($G$137*($G$136+$G$138) + 4*$G$136*$G$138) )*$T116 )  - 10*LOG10( (1+$G$139+$G$140)^2 + ( 1*$G$140*$T116 - ($G$139*(1+$G$140) + 4*1*$G$140) )*$T116)","v":3.9178452825083809E-5},{"$f":"U116+V116+W116+X116+Y116","v":-5.0255327247894499E-2}]
[null,null,"LPF","B1",2,null,{"$f":"B69/B71","v":-1.986110116272759},null,null,null,null,null,null,null,null,null,null,10.199999999999999,{"$f":"2*PI()*R117/B56","v":1.3351768777756618E-3},1.7826970301126432E-6,-5.0572104788372485E-2,-3.0365691102929304E-3,1.0879652425970221E-3,1.6466296407813275E-4,3.9145262261897074E-5,-5.2316900429728364E-2]
[null,null,null,"B2",3,null,{"$f":"B70/B71","v":0.99245419980732363},null,null,null,null,null,null,null,null,null,null,10.404,{"$f":"2*PI()*R118/B56","v":1.3618804153311753E-3},1.8547179789976451E-6,-5.264708007538843E-2,-3.1594942728077058E-3,1.1319224379491288E-3,1.7131526364799754E-4,3.9110730795766102E-5,-5.4464225915803244E-2]
[null,null,null,"-A1",4,null,{"$f":"B72/B71","v":-1.986110116272759},null,null,null,null,null,null,null,null,null,null,10.612080000000001,{"$f":"2*PI()*R119/B56","v":1.3891180236377989E-3},1.929648573300003E-6,-5.4808534807506248E-2,-3.2874060642740233E-3,1.1776557842537727E-3,1.7823630918378797E-4,3.9074804253358408E-5,-5.6700973974089353E-2]
[null,null,null,"-A2",5,null,{"$f":"B73/B71","v":0.98628028861910755},null,null,null,null,null,null,null,null,null,null,10.824321600000001,{"$f":"2*PI()*R120/B56","v":1.416900384110555E-3},2.0076063626189397E-6,-5.7060184276082282E-2,-3.4205076340043661E-3,1.2252370610710273E-3,1.8543695744632771E-4,3.9037426273758058E-5,-5.9030980465295535E-2]
[null,null,"pre2","B0",6,null,{"$f":"C68/C71","v":0.98745051038845666},null,null,null,null,null,null,null,null,null,null,11.040808032000001,{"$f":"2*PI()*R121/B56","v":1.4452383917927659E-3},2.088713645551248E-6,-5.9405912517021875E-2,-3.5590104782556864E-3,1.274740949803288E-3,1.9292850376828596E-4,3.8998538216317158E-5,-6.145825500348967E-2]
[null,null,"HPF","B1",7,null,{"$f":"C69/C71","v":-1.967953368237634},null,null,null,null,null,null,null,null,null,null,11.261624192640001,{"$f":"2*PI()*R122/B56","v":1.4741431596286215E-3},2.1730976615502875E-6,-6.1849780714354097E-2,-3.7031347890064126E-3,1.3262451510556161E-3,2.007226997609024E-4,3.8958079076278906E-5,-6.3986989573467712E-2]
[null,null,null,"B2",8,null,{"$f":"C70/C71","v":0.98202124862024243},null,null,null,null,null,null,null,null,null,null,11.486856676492801,{"$f":"2*PI()*R123/B56","v":1.5036260228211938E-3},2.260890790536022E-6,-6.4396036080466956E-2,-3.8531098178111733E-3,1.3798305067354022E-3,2.0883177174901846E-4,3.891598537952845E-5,-6.6621567634414181E-2]
[null,null,null,"-A1",9,null,{"$f":"C72/C71","v":-1.967953368237634},null,null,null,null,null,null,null,null,null,null,11.716593810022657,{"$f":"2*PI()*R124/B56","v":1.5336985432776176E-3},2.3522307605692784E-6,-6.7049121244011189E-2,-4.009174255436676E-3,1.4355811272039887E-3,2.1726843993263856E-4,3.8872191089556196E-5,-6.9366573741221682E-2]
[null,null,null,"-A2",10,null,{"$f":"C73/C71","v":0.9694717590086992},null,null,null,null,null,null,null,null,null,null,11.95092568622311,{"$f":"2*PI()*R125/B56","v":1.5643725141431702E-3},2.4472608639159826E-6,-6.9813684179649727E-2,-4.1715766278116462E-3,1.493584523473146E-3,2.2604593834962827E-4,3.8826627503096844E-5,-7.2226803718135502E-2]
[null,null,"pre3","B0",11,null,{"$f":"D68/D71","v":1.0831949477724516},null,null,null,null,null,null,null,null,null,null,12.189944199947572,{"$f":"2*PI()*R126/B56","v":1.5956599644260333E-3},2.5461301818403314E-6,-7.269458871576262E-2,-4.3405757093850639E-3,1.5539317448443057E-3,2.3517803562356221E-4,3.8779223138440955E-5,-7.5207275421541375E-2]
[null,null,"Hi Shelf","B1",12,null,{"$f":"D69/D71","v":-1.9471865233526522},null,null,null,null,null,null,null,null,null,null,12.433743083946524,{"$f":"2*PI()*R127/B56","v":1.6275731637145541E-3},2.648993818479575E-6,-7.5696925658945702E-2,-4.5164409543687611E-3,1.6167175220687113E-3,2.4467905655178868E-4,3.8729903627521267E-5,-7.8313240131066442E-2]
[null,null,null,"B2",13,null,{"$f":"D70/D71","v":0.88079382546759444},null,null,null,null,null,null,null,null,null,null,12.682417945625454,{"$f":"2*PI()*R128/B56","v":1.6601246269888452E-3},2.756013144167249E-6,-7.8826024577935527E-2,-4.6994529468875612E-3,1.682040416341124E-3,2.5456390457101463E-4,3.8678591598895196E-5,-8.1550194612312055E-2]
[null,null,null,"-A1",14,null,{"$f":"D72/D71","v":-1.9471865233526522},null,null,null,null,null,null,null,null,null,null,12.936066304537963,{"$f":"2*PI()*R129/B56","v":1.6933271195286219E-3},2.8673560485866123E-6,-8.2087466291795863E-2,-4.8899038708967169E-3,1.7500029743118262E-3,2.6484808512883262E-4,3.8625206552067581E-5,-8.4923893896699854E-2]
[null,null,null,"-A2",15,null,{"$f":"D73/D71","v":0.96398877324004573},null,null,null,null,null,null,null,null,null,null,13.194787630628722,{"$f":"2*PI()*R130/B56","v":1.7271936619191945E-3},2.9831972041514115E-6,-8.5487096111762639E-2,-5.088098000705088E-3,1.8207118893940333E-3,2.7554772999671684E-4,3.8569664737586606E-5,-8.8440364828339391E-2]
[null,null,"pre4","B0",16,null,{"$f":"E68/E71","v":1.6792978998343508},null,null,null,null,null,null,null,null,null,null,13.458683383241297,{"$f":"2*PI()*R131/B56","v":1.7617375351575786E-3},3.1037183400271407E-6,-8.9031037889384379E-2,-5.2943522132409271E-3,1.8942781696367206E-3,2.8667962256712087E-4,3.8511879021152495E-5,-9.2105920431400312E-2]
[null,null,"Lo Shelf","B1",17,null,{"$f":"E69/E71","v":-1.3536301595662974},null,null,null,null,null,null,null,null,null,null,13.727857050906124,{"$f":"2*PI()*R132/B56","v":1.79697228586073E-3},3.2291085272226729E-6,-9.2725708928185213E-2,-5.5089965228418691E-3,1.9708173123476058E-3,2.9826122416665157E-4,3.8451758746838038E-5,-9.5927175155765987E-2]
[null,null,null,"B2",18,null,{"$f":"E70/E71","v":2.6918316182184057E-2},null,null,null,null,null,null,null,null,null,null,14.002414191924247,{"$f":"2*PI()*R133/B56","v":1.8329117315779447E-3},3.3595644751995165E-6,-9.6577835820255586E-2,-5.7323746399546849E-3,2.0504494858570865E-3,3.1031070144216244E-4,3.8389209598532759E-5,-9.991106106331249E-2]
[null,null,null,"-A1",19,null,{"$f":"E72/E71","v":-1.3536301595662974},null,null,null,null,null,null,null,null,null,null,14.282462475762733,{"$f":"2*PI()*R134/B56","v":1.8695699662095039E-3},3.4952908404639594E-6,-0.10059447127500221,-5.9648445546542916E-3,2.1332997186362945E-3,3.2284695483042469E-4,3.8324133448508491E-5,-0.10406484502274127]
[null,null,null,"-A2",20,null,{"$f":"E73/E71","v":0.70621621601653495},null,null,null,null,null,null,null,null,null,null,14.568111725277987,{"$f":"2*PI()*R135/B56","v":1.9069613655336938E-3},3.6365005476262434E-6,-0.10478301201159468,-6.2067791461899446E-3,2.2194980960676958E-3,3.358896482144047E-4,3.825642820309838E-5,-0.10839614698529942]
[null,null,"pre5","B0",21,null,{"$f":"F68/F71","v":0.81916100260654889},null,null,null,null,null,null,null,null,null,null,14.859473959783546,{"$f":"2*PI()*R136/B56","v":1.9451005928443677E-3},3.7834151234304096E-6,-0.10915121779389381,-6.4585668200791702E-3,2.3091799652377176E-3,3.4945923973950244E-4,3.8185987646599528E-5,-0.11291295942134916]
[null,null,"PeakEQ","B1",22,null,{"$f":"F69/F71","v":-0.41503183211514855},null,null,null,null,null,null,null,null,null,null,15.156663438979217,{"$f":"2*PI()*R137/B56","v":1.9840026047012551E-3},3.9362650442788125E-6,-0.11370723169193298,-6.7206121736660407E-3,2.4024861480071991E-3,3.6357701388922692E-4,3.8112701270520688E-5,-0.11762366800243207]
["Master A",{"$f":"SQRT( 10^((D112)/20) )","v":1.1329689296300816},null,"B2",23,null,{"$f":"F70/F71","v":0.78441138877501093},null,null,null,null,null,null,null,null,null,null,15.459796707758802,{"$f":"2*PI()*R138/B56","v":2.0236826567952802E-3},4.0952900977964917E-6,-0.11845960166225211,-6.9933366919983087E-3,2.4995631627859893E-3,3.7826511486294123E-4,3.803645410216383E-5,-0.12253707362249933]
["A",{"$f":"SQRT( 10^((D111)/20) )","v":0.72690724928258155},null,"-A1",24,null,{"$f":"F72/F71","v":-0.41502992082732998},null,null,null,null,null,null,null,null,null,null,15.768992641913979,{"$f":"2*PI()*R139/B56","v":2.0641563099311859E-3},4.2607397590025958E-6,-0.12341730354616232,-7.2771794750821073E-3,2.600563455224858E-3,3.9354658128942788E-4,3.7957126523213702E-5,-0.12766241585820692]
["wo",{"$f":"2*PI()*D109/B56","v":0.12806554914937537},null,"-A2",25,null,{"$f":"F73/F71","v":0.60356500667479585},null,null,null,null,null,null,null,null,null,null,16.084372494752259,{"$f":"2*PI()*R140/B56","v":2.1054394361298095E-3},4.4328735816789597E-6,-0.12858976559436996,-7.572597998496633E-3,2.7056456383576233E-3,4.0944538234377603E-4,3.7874594083220359E-5,-0.13300939797808198]
["cos(wo)",{"$f":"COS(B140)","v":0.99181080917449804},"post1","B0",26,null,{"$f":"B186/B189","v":0.99360224476460113},null,null,null,null,null,null,null,null,null,null,16.406059944647303,{"$f":"2*PI()*R141/B56","v":2.1475482248524058E-3},4.6119616055498078E-6,-0.13398689463500091,-7.8800689086762077E-3,2.8149747424919269E-3,4.2598645532443413E-4,3.7788727304421954E-5,-0.13858821361855633]
["sin(wo)",{"$f":"SIN(B140)","v":0.12771577351536248},null,"B1",27,null,{"$f":"B187/B189","v":-1.9567120166794318},null,null,null,null,null,null,null,null,null,null,16.734181143540251,{"$f":"2*PI()*R142/B56","v":2.1904991893494539E-3},4.7982847799113188E-6,-0.1396191040128798,-8.2000888548705575E-3,2.9287224751826102E-3,4.4319574475792933E-4,3.7699391476797572E-5,-0.14440957525633302]
["Alpha",{"$f":" B142/(2*D110)","v":9.9967620999783235E-3},null,"B2",28,null,{"$f":"B188/B189","v":0.9792659661677221},null,null,null,null,null,null,null,null,null,null,17.068864766411057,{"$f":"2*PI()*R143/B56","v":2.2343091731364434E-3},4.992135404375616E-6,-0.14549734343829357,-8.5331753593962389E-3,3.0470674918703367E-3,4.6110024304368835E-4,3.7606446446236674E-5,-0.15048474461632955]
[null,null,null,"-A1",29,null,{"$f":"B190/B189","v":-1.9567120166794318},null,null,null,null,null,null,null,null,null,null,17.410242061739279,{"$f":"2*PI()*R144/B56","v":2.2789953565991723E-3},5.1938175874206032E-6,-0.15163313089661301,-8.8798677283961069E-3,3.1701956774199402E-3,4.7972803279705545E-4,3.7509746400488098E-5,-0.15682556516839163]
[null,null,null,"-A2",30,null,{"$f":"B191/B189","v":0.97286821093232312},null,null,null,null,null,null,null,null,null,null,17.758446902974065,{"$f":"2*PI()*R145/B56","v":2.3245752637311556E-3},5.4036477234649582E-6,-0.15803858678292215,-9.2407280049258134E-3,3.2983004392121984E-3,4.9910833084787498E-4,3.7409139634236865E-5,-0.16344449687815366]
["LPF B0",{"$f":"B138^2*(1 - B141)/2","v":5.255898812885359E-3},"post2","B0",31,null,{"$f":"B196","v":1.1335819379207495},null,null,null,null,null,null,null,null,null,null,18.113615841033546,{"$f":"2*PI()*R146/B56","v":2.3710667690057786E-3},5.621954989216703E-6,-0.16472647044051314,-9.616341966854236E-3,3.4315830120732471E-3,5.1927153405095794E-4,3.730446831062828E-5,-0.17035465339293254]
["LPF B1",{"$f":"B138^2*(1 - B141)","v":1.0511797625770718E-2},"PA EQ","B1",32,null,{"$f":"B197","v":-1.9639342069592398},null,null,null,null,null,null,null,null,null,null,18.475888157854218,{"$f":"2*PI()*R147/B56","v":2.4184881043858948E-3},5.8490818600739708E-6,-0.17171021929894437,-1.0007320171496303E-2,3.5702527756669156E-3,5.4024926691909059E-4,3.7195568218351127E-5,-0.17756984185963631]
["LPF B2",{"$f":"B138^2*((1 - B141)/2)","v":5.255898812885359E-3},null,"B2",33,null,{"$f":"B198","v":0.84656809552550594},null,null,null,null,null,null,null,null,null,null,18.845405921011302,{"$f":"2*PI()*R148/B56","v":2.4668578664736123E-3},6.0853846473880462E-6,-0.17900399082424201,-1.0414299049919862E-2,3.7145275847336734E-3,5.6207443119049572E-4,3.7082268512067529E-5,-0.18510460558972563]
["LPF A0",{"$f":"1+B143","v":1.0099967620999784},null,"-A1",34,null,{"$f":"B199","v":-1.9639342069592398},null,null,null,null,null,null,null,null,null,null,19.222314039431527,{"$f":"2*PI()*R149/B56","v":2.5161950238030847E-3},6.3312340574315284E-6,-0.18662270751416088,-1.0837942053100846E-2,3.8646341128441009E-3,5.8478125741601161E-4,3.6964391444405109E-5,-0.19297426980555721]
["LPF A1",{"$f":"-2*B141","v":-1.9836216183489961},null,"-A2",35,null,{"$f":"B200","v":0.98015003344625529},null,null,null,null,null,null,null,null,null,null,19.606760320220157,{"$f":"2*PI()*R150/B56","v":2.5665189242791461E-3},6.5870157729484108E-6,-0.19458210519255204,-1.1278940853003405E-2,4.0208082101287346E-3,6.0840535857309419E-4,3.6841752083516255E-5,-0.2011949907247701]
["LPF A2",{"$f":"1-B143","v":0.99000323790002165},"post3","B0",36,null,1.029078483581543,null,null,null,null,null,null,null,null,null,null,19.998895526624562,{"$f":"2*PI()*R151/B56","v":2.6178493027647289E-3},6.8531310581984245E-6,-0.20289878488063096,-1.1738016601348988E-2,4.1832952755669339E-3,6.3298378591625237E-4,3.6714158028416932E-5,-0.20978380826246834]
[null,null,null,"B1",37,null,-1.0814294815063477,null,null,null,null,null,null,null,null,null,null,20.398873437157054,{"$f":"2*PI()*R152/B56","v":2.6702062888200235E-3},7.1299973884447463E-6,-0.2115902685493154,-1.2215921249286055E-2,4.3523506444387294E-3,6.5855508700174425E-4,3.6581409104119444E-5,-0.21875870265805686]
[null,null,null,"B2",38,null,5.7410240173339844E-2,null,null,null,null,null,null,null,null,null,null,20.806850905900195,{"$f":"2*PI()*R153/B56","v":2.7236104145964245E-3},7.4180491048725272E-6,-0.22067505908552221,-1.2713438931228893E-2,4.5282399915720362E-3,6.8515936612456585E-4,3.6443297048771583E-5,-0.22813865536200573]
["HPF B0",{"$f":"B138^2*(1 + B141)/2","v":1.2783626966942474},null,"-A1",39,null,-1.3199930191040039,null,null,null,null,null,null,null,null,null,null,21.222987924018199,{"$f":"2*PI()*R154/B56","v":2.7780826228883527E-3},7.7177380959656782E-6,-0.23017270483695995,-1.3231387416382745E-2,4.7112397510886694E-3,7.1283834715352157E-4,3.6299605185474704E-5,-0.23794371454991503]
["HPF B1",{"$f":"B138^2*-(1 + B141)","v":-2.5567253933884948},null,"-A2",40,null,0.32817935943603516,null,null,null,null,null,null,null,null,null,null,21.647447682498562,{"$f":"2*PI()*R155/B56","v":2.8336442753461202E-3},8.0295345064107207E-6,-0.24010386913577975,-1.3770619631749526E-2,4.9016375531607537E-3,7.4163543888872141E-4,3.6150108081667298E-5,-0.24819506566739813]
["HPF B2",{"$f":"B138^2*(1 + B141)/2","v":1.2783626966942474},"post4","B0",41,null,0.84765434265136719,null,null,null,null,null,null,null,null,null,null,22.080396636148535,{"$f":"2*PI()*R156/B56","v":2.8903171608530426E-3},8.3539274746397624E-6,-0.25049040523947497,-1.4332025260515024E-2,5.0997326786941244E-3,7.7159580310670606E-4,3.5994571201847236E-5,-0.25891510744698731]
["HPF A0",{"$f":"1+B143","v":1.0099967620999784},null,"B1",42,null,-1.3982982635498047,null,null,null,null,null,null,null,null,null,null,22.522004568871505,{"$f":"2*PI()*R157/B56","v":2.9481235040701029E-3},8.6914259001696055E-6,-0.26135543717133203,-1.4916532420166106E-2,5.3058365325071577E-3,8.0276642530030529E-4,3.5832750528319579E-5,-0.27012753388316235]
["HPF A1",{"$f":"-2*B141","v":-1.9836216183489961},null,"B2",43,null,0.64283657073974609,null,null,null,null,null,null,null,null,null,null,22.972444660248936,{"$f":"2*PI()*R158/B56","v":3.0070859741515056E-3},9.0425592419406905E-6,-0.27272344698977236,-1.5525109424757488E-2,5.5202731358647839E-3,8.3519618829264175E-4,3.5664392188161642E-5,-0.28185742269818426]
["HPF A2",{"$f":"1-B143","v":0.99000323790002165},null,"-A1",44,null,-1.7774972915649414,null,null,null,null,null,null,null,null,null,null,23.431893553453914,{"$f":"2*PI()*R159/B56","v":3.0672276936345357E-3},9.4078783489081294E-6,-0.28462036906914534,-1.6158766636202415E-2,5.7433796391350711E-3,8.6893594881409797E-4,3.5489232050878172E-5,-0.29413133088534771]
[null,null,null,"-A2",45,null,0.86914825439453125,null,null,null,null,null,null,null,null,null,null,23.900531424522992,{"$f":"2*PI()*R160/B56","v":3.1285722475072261E-3},9.7879563241879131E-6,-0.29707369203289602,-1.6818558409674722E-2,5.9755068553570823E-3,9.0403861717192058E-4,3.530699531339998E-5,-0.30697739797472834]
[null,null,"post 5","B0",46,null,1.0084399188751516,null,null,null,null,null,null,null,null,null,null,24.378542053013451,{"$f":"2*PI()*R161/B56","v":3.1911436924573705E-3},1.0183389424113715E-5,-0.31011256904525908,-1.7505585138650304E-2,6.2170198156863421E-3,9.4055924014035952E-4,3.5117396071093765E-5,-0.32042545773201159]
["HShelf B0",{"$f":"B138^2*(B139*( (B139+1) + (B139-1)*B141 + 2*SQRT(B139)*B143 ))","v":1.3745052133103892},null,"B1",47,null,-1.994599000969469,null,null,null,null,null,null,null,null,null,null,24.866112894073719,{"$f":"2*PI()*R162/B56","v":3.2549665663065175E-3},1.0594797993614649E-5,-0.32376793723939556,-1.822099540538602E-2,6.4682983475421452E-3,9.7855508715838369E-4,3.4920136866567475E-5,-0.33450715907321449]
["HShelf B1",{"$f":"B138^2*(-2*B139*( (B139-1) + (B139+1)*B141 ))","v":-2.686635273442683},null,"B2",48,null,0.98968454359703684,null,null,null,null,null,null,null,null,null,null,25.363435151955194,{"$f":"2*PI()*R163/B56","v":3.320065897632648E-3},1.1022827439381337E-5,-0.33807264714101848,-1.8965988243074605E-2,6.7297376763733041E-3,1.0180857400410304E-3,3.4714908224930952E-5,-0.34925609705945382]
["HShelf B2",{"$f":"B138^2*(B139*( (B139+1) + (B139-1)*B141 - 2*SQRT(B139)*B143 ))","v":1.3426944677209505},null,"-A1",49,null,-1.9945990009694701,null,null,null,null,null,null,null,null,null,null,25.8707038549943,{"$f":"2*PI()*R164/B56","v":3.3864672155853016E-3},1.1468149242346719E-5,-0.35306160303471756,-1.9741815516383099E-2,7.0017490521863124E-3,1.05921318629143E-3,3.4501388166185976E-5,-0.36470795492445673]
["HShelf A0",{"$f":"(B139+1) - (B139-1)*B141 + 2*SQRT(B139)*B143","v":2.01480984131888},null,"-A2",50,null,0.998124462472188,null,null,null,null,null,null,null,null,null,null,26.388117932094186,{"$f":"2*PI()*R165/B56","v":3.4541965598970073E-3},1.1931462011069969E-5,-0.36877191532083486,-2.054978442751576E-2,7.2847604015819911E-3,1.1020019161698258E-3,3.4279241704737728E-5,-0.38090065818889407]
["HShelf A1",{"$f":"2*((B139-1)-(B139+1)*B141)","v":-3.9717160539953644},null,null,null,null,null,null,null,null,null,null,null,null,null,null,null,26.915880290736069,{"$f":"2*PI()*R166/B56","v":3.5232804910949474E-3},1.2413492577675835E-5,-0.38524306602042202,-2.1391260155347425E-2,7.5792170066861786E-3,1.1465190236794598E-3,3.4048120315821606E-5,-0.39787454202508798]
["HShelf A2",{"$f":"(B139+1) - (B139-1)*B141 - 2*SQRT(B139)*B143","v":1.9807173413837476},null,null,null,null,null,null,null,null,null,null,null,null,null,null,null,27.454197896550792,{"$f":"2*PI()*R167/B56","v":3.5937461009168466E-3},1.2914997138068513E-5,-0.40251708871056735,-2.2267668635819859E-2,7.8855822117844809E-3,1.1928343116149875E-3,3.3807661396600963E-5,-0.41567253316159114]
[null,null,null,null,null,null,null,null,null,null,null,null,null,null,null,null,null,28.003281854481809,{"$f":"2*PI()*R168/B56","v":3.6656210229351837E-3},1.3436762438208691E-5,-0.42063876430889025,-2.3180499492504225E-2,8.2043381591248021E-3,1.241020400865267E-3,3.3557487689517274E-5,-0.43434034775371488]
[null,null,null,null,null,null,null,null,null,null,null,null,null,null,null,null,null,28.563347491571445,{"$f":"2*PI()*R169/B56","v":3.7389334433938874E-3},1.3979607008314574E-5,-0.43965583428185084,-2.4131309126438794E-2,8.5359865547687264E-3,1.2911528440806563E-3,3.3297206700311222E-5,-0.45392670680273994]
["LShelf B0",{"$f":"B138^2*(B139*( (B139+1) - (B139-1)*B141 + 2*SQRT(B139)*B143 ))","v":1.8799619680352315},null,null,null,null,null,null,null,null,null,null,null,null,null,null,null,29.134614441402874,{"$f":"2*PI()*R170/B56","v":3.8137121122617649E-3},1.4544382446922843E-5,-0.45961923302211005,-2.5121723975438215E-2,8.8810494660336303E-3,1.3433102439623923E-3,3.3026410070968737E-5,-0.47448357087748128]
["LShelf B1",{"$f":"B138^2*(2*B139*( (B139-1) - (B139+1)*B141 ))","v":-3.7058957010348026},null,null,null,null,null,null,null,null,null,null,null,null,null,null,null,29.717306730230931,{"$f":"2*PI()*R171/B56","v":3.8899863545069999E-3},1.5131974756823826E-5,-0.48058334133429526,-2.6153443953766953E-2,9.240070151712132E-3,1.3975743762877357E-3,3.274467294489547E-5,-0.49606639608711744]
["LShelf B2",{"$f":"B138^2*(B139*( (B139+1) - (B139-1)*B141 - 2*SQRT(B139)*B143 ))","v":1.848151222445793},null,null,null,null,null,null,null,null,null,null,null,null,null,null,null,30.311652864835551,{"$f":"2*PI()*R172/B56","v":3.9677860815971406E-3},1.5743305734966347E-5,-0.50260626318416257,-2.7228246083495833E-2,9.6136139264331177E-3,1.454030317896482E-3,3.2451553303225467E-5,-0.51873441347002558]
["LShelf A0",{"$f":"(B139+1) + (B139-1)*B141 + 2*SQRT(B139)*B143","v":1.4730971571814153},null,null,null,null,null,null,null,null,null,null,null,null,null,null,null,30.917885922132264,{"$f":"2*PI()*R173/B56","v":4.0471418032290837E-3},1.6379334418512536E-5,-0.52575012810794419,-2.8347988330217788E-2,1.000226906060675E-2,1.512766579839564E-3,3.2146591262494084E-5,-0.54255093420645317]
["LShelf A1",{"$f":"-2*((B139-1)+(B139+1)*B141)","v":-2.8793450511256902},null,null,null,null,null,null,null,null,null,null,null,null,null,null,null,31.536243640574909,{"$f":"2*PI()*R174/B56","v":4.1280846392936655E-3},1.7041058589310841E-5,-0.55008142195150356,-2.9514613656374422E-2,1.0406647717552175E-2,1.5738752458798189E-3,3.1829308360320496E-5,-0.56758368333608566]
["LShelf A2",{"$f":"(B139+1) +(B139-1)*B141 - 2*SQRT(B139)*B143","v":1.4390046572462831},null,null,null,null,null,null,null,null,null,null,null,null,null,null,null,32.166968513386408,{"$f":"2*PI()*R175/B56","v":4.2106463320795385E-3},1.7729516339147144E-5,-0.57567134891320393,-3.0730154306617408E-2,1.0827386929165073E-2,1.6374521165651856E-3,3.1499206800456037E-5,-0.59390516496729062]
[null,null,null,null,null,null,null,null,null,null,null,null,null,null,null,null,null,32.81030788365414,{"$f":"2*PI()*R176/B56","v":4.2948592587211303E-3},1.8445787698229228E-5,-0.60259622820892389,-3.1996736340630605E-2,1.1265149611944025E-2,1.7035968591248007E-3,3.1155768674739903E-5,-0.62159306230981093]
[null,null,null,null,null,null,null,null,null,null,null,null,null,null,null,null,null,33.466514041327223,{"$f":"2*PI()*R177/B56","v":4.3807564438955527E-3},1.9190996329458868E-5,-0.63093792906353485,-3.3316584430281182E-2,1.172062562496734E-2,1.7724131633567453E-3,3.0798455147529324E-5,-0.65073067625034442]
["Notch B0",1,null,null,null,null,null,null,null,null,null,null,null,null,null,null,null,34.135844322153766,{"$f":"2*PI()*R178/B56","v":4.4683715727734637E-3},1.9966311291149346E-5,-0.66078434816928677,-3.4692026938706988E-2,1.2194532871603769E-2,1.8440089038307406E-3,3.0426705611485971E-5,-0.68140740662694776]
["Notch B1",{"$f":"-2*B141","v":-1.9836216183489961},null,null,null,null,null,null,null,null,null,null,null,null,null,null,null,34.81856120859684,{"$f":"2*PI()*R179/B56","v":4.5577390042289331E-3},2.0772948870953083E-5,-0.69222993424325807,-3.6125501301157215E-2,1.2687618446889815E-2,1.9184963085940865E-3,3.003993680628092E-5,-0.7137192808521251]
["Notch B2",{"$f":"1","v":1},null,null,null,null,null,null,null,null,null,null,null,null,null,null,null,35.514932432768781,{"$f":"2*PI()*R180/B56","v":4.648893784313512E-3},{"$f":"4*(SIN(S180/2))^2","v":2.1612174493876118E-5},{"$f":"10*LOG10(($G$116+$G$117+$G$118)^2 + ( $G$116*$G$118*T180 - ($G$117*($G$116+$G$118) + 4*$G$116*$G$118) )*T180 )  - 10*LOG10( (1+$G$119+$G$120)^2 + ( 1*$G$120*T180 - ($G$119*(1+$G$120) + 4*1*$G$120) )*T180)","v":-0.72537626487114437},{"$f":"10*LOG10(($G$121+$G$122+$G$123)^2 + ( $G$121*$G$123*$T180 - ($G$122*($G$121+$G$123) + 4*$G$121*$G$123) )*$T180 )  - 10*LOG10( (1+$G$124+$G$125)^2 + ( 1*$G$125*$T180 - ($G$124*(1+$G$125) + 4*1*$G$125) )*$T180)","v":-3.7619559728106822E-2},{"$f":"10*LOG10(($G$126+$G$127+$G$128)^2 + ( $G$126*$G$128*$T180 - ($G$127*($G$126+$G$128) + 4*$G$126*$G$128) )*$T180 )  - 10*LOG10( (1+$G$129+$G$130)^2 + ( 1*$G$130*$T180 - ($G$129*(1+$G$130) + 4*1*$G$130) )*$T180)","v":1.3200659832342865E-2},{"$f":"10*LOG10(($G$131+$G$132+$G$133)^2 + ( $G$131*$G$133*$T180 - ($G$132*($G$131+$G$133) + 4*$G$131*$G$133) )*$T180 )  - 10*LOG10( (1+$G$134+$G$135)^2 + ( 1*$G$135*$T180 - ($G$134*(1+$G$135) + 4*1*$G$135) )*$T180)","v":1.9959921346597298E-3},{"$f":"10*LOG10(($G$136+$G$137+$G$138)^2 + ( $G$136*$G$138*$T180 - ($G$137*($G$136+$G$138) + 4*$G$136*$G$138) )*$T180 )  - 10*LOG10( (1+$G$139+$G$140)^2 + ( 1*$G$140*$T180 - ($G$139*(1+$G$140) + 4*1*$G$140) )*$T180)","v":2.9637541905991327E-5},{"$f":"U180+V180+W180+X180+Y180","v":-0.74776953509034261}]
["Notch A0",{"$f":"1+B143","v":1.0099967620999784},null,null,null,null,null,null,null,null,null,null,null,null,null,null,null,36.225231081424155,{"$f":"2*PI()*R181/B56","v":4.7418716599997822E-3},2.2485304707372126E-5,-0.76033268145309307,-3.9176875253552623E-2,1.373446614042706E-2,2.0766178505748911E-3,2.9218889564308625E-5,-0.78366925382607944]
["Notch A1",{"$f":"-2*B141","v":-1.9836216183489961},null,null,null,null,null,null,null,null,null,null,null,null,null,null,null,36.949735703052639,{"$f":"2*PI()*R182/B56","v":4.8367090931997776E-3},2.3393709246629808E-5,-0.79721698877933989,-4.0800248152578433E-2,1.4289879410604556E-2,2.1604998263047293E-3,2.8783322922887322E-5,-0.82153807437208615]
["Notch A2",{"$f":"1-B143","v":0.99000323790002165},null,null,null,null,null,null,null,null,null,null,null,null,null,null,null,37.688730417113689,{"$f":"2*PI()*R183/B56","v":4.9334432750637721E-3},2.4338813183292831E-5,-0.83615622656944311,-4.2492612754827519E-2,1.4867775959288565E-2,2.2477695307827616E-3,2.8330158582834386E-5,-0.86150496367561646]
[null,null,null,null,null,null,null,null,null,null,null,null,null,null,null,null,null,38.442505025455965,{"$f":"2*PI()*R184/B56","v":5.0321121405650484E-3},2.5322099160982918E-5,-0.87728752122757214,-4.4257044682318281E-2,1.5469067785950585E-2,2.338563737351862E-3,2.7858685530679494E-5,-0.9037090757010573]
[null,null,null,null,null,null,null,null,null,null,null,null,null,null,null,null,null,39.211355125965085,{"$f":"2*PI()*R185/B56","v":5.1327543833763496E-3},2.6345109721132112E-5,-0.92075902710877244,-4.6096768542426503E-2,1.6094704037776353E-2,2.4330247375239367E-3,2.7368164022600894E-5,-0.94830069871187606]
["Peaking B0",{"$f":"1+(B143*B139)","v":1.0072667188398277},null,null,null,null,null,null,null,null,null,null,null,null,null,null,null,39.995582228484388,{"$f":"2*PI()*R186/B56","v":5.2354094710438765E-3},2.7409449722772614E-5,-0.96673096778251022,-4.8015166109642848E-2,1.6745672535392941E-2,2.531300563278549E-3,2.6857824424020293E-5,-0.99544230296905756]
["Peaking B1",{"$f":"-2*B141","v":-1.9836216183489961},null,null,null,null,null,null,null,null,null,null,null,null,null,null,null,40.795493873054077,{"$f":"2*PI()*R187/B56","v":5.3401176604647551E-3},2.8516788860079326E-5,-1.0153767891390544,-5.0015785032336169E-2,1.7423001362359969E-2,2.6335452183179342E-3,2.6326865997683413E-5,-1.045309700724715]
["Peaking B2",{"$f":"1-(B143*B139)","v":0.99273328116017234},null,null,null,null,null,null,null,null,null,null,null,null,null,null,null,41.611403750515159,{"$f":"2*PI()*R188/B56","v":5.4469200136740489E-3},2.9668864281613743E-5,-1.0668844377433544,-5.2102348103893803E-2,1.8127760520961544E-2,2.7399189185981498E-3,2.57744556537709E-5,-1.0980933319520347]
["Peaking A0",{"$f":"1 + (B143/B139)","v":1.0137524589414186},null,null,null,null,null,null,null,null,null,null,null,null,null,null,null,42.443631825525465,{"$f":"2*PI()*R189/B56","v":5.5558584139475302E-3},3.0867483315377596E-5,-1.1214577796288125,-5.4278763141020647E-2,1.8861063657475086E-2,2.8505883425324896E-3,2.5199726634950181E-5,-1.1539996910431907]
["Peaking A1",{"$f":"-2*B141","v":-1.9836216183489961},null,null,null,null,null,null,null,null,null,null,null,null,null,null,null,43.292504462035971,{"$f":"2*PI()*R190/B56","v":5.6669755822264809E-3},3.2114526303949842E-5,-1.1793181767848466,-5.6549133515552796E-2,1.9624069859624171E-2,2.9657268912099966E-3,2.4601777159904969E-5,-1.2132529117724054]
["Peaking A2",{"$f":"1-(B143/B139)","v":0.98624754105858126},null,null,null,null,null,null,null,null,null,null,null,null,null,null,null,44.158354551276695,{"$f":"2*PI()*R191/B56","v":5.7803150938710119E-3},3.3411949554154181E-5,-1.2407062409723011,-5.8917769390447461E-2,2.0417985529554983E-2,3.0855149590962583E-3,2.3979669006912729E-5,-1.2760965302050904]
[null,null,null,null,null,null,null,null,null,null,null,null,null,null,null,null,null,45.041521642302229,{"$f":"2*PI()*R192/B56","v":5.8959213957484307E-3},3.4761788405882966E-5,-1.3058837872608677,-6.1389199714739107E-2,2.1244066335448508E-2,3.2101402155593206E-3,2.333242604035668E-5,-1.3427954479985587]
[null,null,null,null,null,null,null,null,null,null,null,null,null,null,null,null,null,45.942352075148271,{"$f":"2*PI()*R193/B56","v":6.0138398236633996E-3},3.6166160424890893E-5,-1.375136012897002,-6.3968185037310832E-2,2.2103619245392281E-2,3.3397978977127707E-3,2.2659032677063706E-5,-1.4136381217585308]
["Planet Analog 2nd order EQ filter",null,null,"Fc",{"$f":"D109","v":978.34872897125581},null,null,null,null,null,null,null,null,null,null,null,null,46.861199116651235,{"$f":"2*PI()*R194/B56","v":6.1341166201366671E-3},3.7627268724565661E-5,-1.4487739308691232,-6.6659731204765649E-2,2.2998004646950676E-2,3.4746911149916571E-3,2.1958432295798858E-5,-1.4889390078796507]
[null,null,null,"g",{"$f":"D111+20","v":14.459160000000001},null,"d",{"$f":"-COS(2*PI()*E194/B56)","v":-0.99181080917449804},null,null,null,null,null,null,null,null,null,47.798423098984259,{"$f":"2*PI()*R195/B56","v":6.2567989525394007E-3},3.9147405421885601E-5,-1.5271370919538327,-6.9469104014338257E-2,2.392863855622096E-2,3.6150311659302048E-3,2.1229525572374897E-5,-1.5690412967204475]
["PA EQ B0",{"$f":" 1 + (1+E202)*E197/2","v":1.1335819379207495},null,"b",{"$f":"E194/D110","v":153.15758148174822},null,null,null,null,null,null,null,null,null,null,null,null,48.754391560963946,{"$f":"2*PI()*R196/B56","v":6.3819349315901884E-3},4.0728955232984157E-5,-1.6105966342489069,-7.2401844899587786E-2,2.4896994920410975E-2,3.7610378676511402E-3,2.0471168761249103E-5,-1.6543199751916713]
["PA EQ B1",{"$f":" H195*(1-E202)","v":-1.9639342069592398},null,"H",{"$f":"E195-1","v":13.459160000000001},null,null,null,null,null,null,null,null,null,null,null,null,49.729479392183222,{"$f":"2*PI()*R197/B56","v":6.509573630221992E-3},4.2374399213960383E-5,-1.6995587054062327,-7.5463787733319521E-2,2.590460801789618E-2,3.9129398985391362E-3,1.9682171889634503E-5,-1.7451852630512272]
["PA EQ B2",{"$f":"-E202-(1+E202)*E197/2","v":0.84656809552550594},null,null,null,null,null,null,null,null,null,null,null,null,null,null,null,50.724068980026885,{"$f":"2*PI()*R198/B56","v":6.639765102826432E-3},4.4086318652801924E-5,-1.7944683102091687,-7.866107684072432E-2,2.695307496021826E-2,4.0709751546454953E-3,1.8861296899430613E-5,-1.8420864756381299]
["PA EQ A1",{"$f":"B197","v":-1.9639342069592398},null,null,null,null,null,null,null,null,null,null,null,null,null,null,null,51.738550359627425,{"$f":"2*PI()*R199/B56","v":6.7725604048829609E-3},4.5867399118524437E-5,-1.8958136450991532,-8.2000186323760715E-2,2.8044058300487507E-2,4.2353911203623085E-3,1.8007255696339541E-5,-1.9455163747463677]
["PA EQ A2",{"$f":"-E202","v":0.98015003344625529},null,"a1 g<1",{"$f":" (TAN(PI()*E196/B56)-E195)/(TAN(PI()*E196/B56)+E195)","v":-0.9986143688954312},null,null,null,null,null,null,null,null,null,null,null,null,52.773321366819971,{"$f":"2*PI()*R200/B56","v":6.9080116129806206E-3},4.7720434673877191E-5,-2.0041309921408441,-8.5487940807567497E-2,2.9179288752871457E-2,4.406445253923863E-3,1.7118708129704174E-5,-2.0560160802334866]
[null,null,null,"a2 g>=1",{"$f":" (TAN(PI()*E196/B56)-1)/(TAN(PI()*E196/B56)+1)","v":-0.98015003344625529},null,null,null,null,null,null,null,null,null,null,null,null,53.828787794156369,{"$f":"2*PI()*R201/B56","v":7.0461718452402324E-3},4.9648332258221678E-5,-2.120010258249053,-8.9131537730857247E-2,3.0360568028307E-2,4.584405388323276E-3,1.6194259886415097E-5,-2.1741806283033935]
[null,null,null,"a",{"$f":"IF(E195<1, E200,E201)","v":-0.98015003344625529},null,null,null,null,null,null,null,null,null,null,null,null,54.905363550039496,{"$f":"2*PI()*R202/B56","v":7.1870952821450375E-3},5.1654116247456333E-5,-2.2441012619710392,-9.2938571313048612E-2,3.1589771791360022E-2,4.7695501482838409E-3,1.5232460302438966E-5,-2.3006652788841415]
[null,null,null,null,null,null,null,null,null,null,null,null,null,null,null,null,null,56.003470821040288,{"$f":"2*PI()*R203/B56","v":7.3308371877879377E-3},5.3740933198138248E-5,-2.3771208906442496,-9.6917058344637042E-2,3.286885274404483E-2,4.9621693838783898E-3,1.4231800083974733E-5,-2.4361926950608792]
[null,null,null,null,null,null,null,null,null,null,null,null,null,null,null,null,null,57.123540237461093,{"$f":"2*PI()*R204/B56","v":7.4774539315436957E-3},5.5912056783241672E-5,-2.519861276557279,-0.10107546596140082,3.4199843841960842E-2,5.1625646214574772E-3,1.3190708939125884E-5,-2.5815611433463221]
[null,null,null,null,null,null,null,null,null,null,null,null,null,null,null,null,null,58.266011042210316,{"$f":"2*PI()*R205/B56","v":7.6270030101745698E-3},5.8170892927292796E-5,-2.6731991734848037,-0.10542274157889864,3.5584861649063271E-2,5.3710495326324548E-3,1.2107553104989677E-5,-2.7376538963289017]
[null,null,null,null,null,null,null,null,null,null,null,null,null,null,null,null,null,59.431331263054524,{"$f":"2*PI()*R206/B56","v":7.7795430703780626E-3},6.0520985148933963E-5,-2.8381067568752911,-0.10996834518183363,3.7026109837178467E-2,5.5879504219191745E-3,1.0980632790591471E-5,-2.9054500611652365]
[null,null,null,null,null,null,null,null,null,null,null,null,null,null,null,null,null,60.619957888315618,{"$f":"2*PI()*R207/B56","v":7.9351339317856231E-3},6.2966020119294272E-5,-3.0156641250788283,-0.11472228418190866,3.8525882836950132E-2,5.8136067338949715E-3,9.8081794990267923E-6,-3.0860371115103931]
[null,null,null,null,null,null,null,null,null,null,null,null,null,null,null,null,null,61.832357046081931,{"$f":"2*PI()*R208/B56","v":8.0938366104213368E-3},6.5509833444883149E-5,-3.2070738494499267,-0.11969515108053486,4.0086569647073134E-2,6.0483715805190741E-3,8.5883532536801255E-6,-3.2806254709496159]
[null,null,null,null,null,null,null,null,null,null,null,null,null,null,null,null,null,63.069004187003571,{"$f":"2*PI()*R209/B56","v":8.2557133426297627E-3},6.8156415684073957E-5,-3.413678013613989,-0.12489816419625299,4.171065780933958E-2,6.2926122895241576E-3,7.3192397058718939E-6,-3.4905655884716724]
[null,null,null,null,null,null,null,null,null,null,null,null,null,null,null,null,null,64.33038427074365,{"$f":"2*PI()*R210/B56","v":8.4208276094823592E-3},7.0909918606612253E-5,-3.6369783044399497,-0.13034321174480823,4.3400737556865465E-2,6.5467109746144558E-3,5.9988471259320164E-6,-3.7173680688061523]
[null,null,null,null,null,null,null,null,null,null,null,null,null,null,null,null,null,65.616991956158529,{"$f":"2*PI()*R211/B56","v":8.5892441616720067E-3},7.3774661705962622E-5,-3.8786598800489287,-0.13604289958917093,4.5159506143676253E-2,6.8110651283745938E-3,4.6251032777000489E-6,-3.9627275832627711]
[null,null,null,null,null,null,null,null,null,null,null,null,null,null,null,null,null,66.929331795281698,{"$f":"2*PI()*R212/B56","v":8.7610290449054475E-3},7.6755138974705868E-5,-4.1406199583246774,-0.14201060301162727,4.698977236424895E-2,7.0860882387702162E-3,3.1958521589103839E-6,-4.2285515048811266]
[null,null,null,null,null,null,null,null,null,null,null,null,null,null,null,null,null,68.26791843118734,{"$f":"2*PI()*R213/B56","v":8.9362496258035568E-3},7.9856025953609151E-5,-4.4250023633018287,-0.14826052289713232,4.889446127167929E-2,7.3722104301552349E-3,1.7088506161222483E-6,-4.5169945056465099]
[null,null,null,null,null,null,null,null,null,null,null,null,null,null,null,null,null,69.633276799811085,{"$f":"2*PI()*R214/B56","v":9.1149746183196278E-3},8.3082187065421586E-5,-4.7342396645599081,-0.15480774675991427,5.0876619103917164E-2,7.6698791297502567E-3,1.6176481465457471E-7,-4.83050075132134]
[null,null,null,null,null,null,null,null,null,null,null,null,null,null,null,null,null,71.025942335807315,{"$f":"2*PI()*R215/B56","v":9.2972741106860223E-3},8.6438683244893037E-5,-5.0711050845154659,-0.16166831509264057,5.2939418428017859E-2,7.9795597605869517E-3,-1.4478334220413558E-6,-5.1718558692529237]
[null,null,null,null,null,null,null,null,null,null,null,null,null,null,null,null,null,72.446461182523464,{"$f":"2*PI()*R216/B56","v":9.4832195928997425E-3},8.9930779876978671E-5,-5.4387770811512866,-0.16885929357058416,5.508616351262674E-2,8.3017364619397682E-3,-3.1224704368781886E-6,-5.5442515972177411]
[null,null,null,null,null,null,null,null,null,null,null,null,null,null,null,null,null,73.895390406173931,{"$f":"2*PI()*R217/B56","v":9.6728839847577373E-3},9.3563955055674558E-5,-5.8409205041339902,-0.17639885170307679,5.7320295939703669E-2,8.6369128383410043E-3,-4.8647747021846044E-6,-5.9513670118337245]
[null,null,null,null,null,null,null,null,null,null,null,null,null,null,null,null,null,75.373298214297407,{"$f":"2*PI()*R218/B56","v":9.866341664452891E-3},9.7343908176431552E-5,-6.2817895455270616,-0.18430634859165451,5.9645400466948217E-2,8.9856127382450524E-3,-6.677480959726978E-6,-6.3974715583944821]
[null,null,null,null,null,null,null,null,null,null,null,null,null,null,null,null,null,76.880764178583362,{"$f":"2*PI()*R219/B56","v":1.0063668497741951E-2},1.0127656887561786E-4,-6.7663594277985482,-0.19260242652975279,6.2065211152940947E-2,9.3483810635355269E-3,-8.5634345103891008E-6,-6.8875568255463353]
[null,null,null,null,null,null,null,null,null,null,null,null,null,null,null,null,null,78.418379462155031,{"$f":"2*PI()*R220/B56","v":1.0264941867696791E-2},1.0536810633104335E-4,-7.30049588238181,-0.2013091132640028,6.4583617757989487E-2,9.7257846110547774E-3,-1.0525595698362977E-5,-7.4275061188724667]
[null,null,null,null,null,null,null,null,null,null,null,null,null,null,null,null,null,79.986747051398126,{"$f":"2*PI()*R221/B56","v":1.0470240705050725E-2},1.0962493893812628E-4,-7.8911737003852096,-0.21044993383313226,6.7204672433895496E-2,1.0118412947370814E-2,-1.2567044556099916E-5,-8.0243131158816325]
[null,null,null,null,null,null,null,null,null,null,null,null,null,null,null,null,null,81.586481992426087,{"$f":"2*PI()*R222/B56","v":1.0679645519151739E-2},1.1405374437686875E-4,-8.546756929046623,-0.22005003300881043,6.9932596716846263E-2,1.052687931811036E-2,-1.4690985655319011E-5,-8.6863621770061314]
[null,null,null,null,null,null,null,null,null,null,null,null,null,null,null,null,null,83.218211632274617,{"$f":"2*PI()*R223/B56","v":1.0893238429534775E-2},1.1866147008542135E-4,-9.2773503683878573,-0.23013630948521779,7.2771788838664975E-2,1.0951821593140565E-2,-1.6900753141868563E-5,-9.4237799681944114]
[null,null,null,null,null,null,null,null,null,null,null,null,null,null,null,null,null,84.882575864920113,{"$f":"2*PI()*R224/B56","v":1.1111103198125472E-2},1.234553441566535E-4,-10.095215372688898,-0.24073756310296091,7.5726831371731862E-2,1.1393903249009796E-2,-1.9199815982640089E-5,-10.2488514009871]
[null,null,null,null,null,null,null,null,null,null,null,null,null,null,null,null,null,86.580227382218524,{"$f":"2*PI()*R225/B56","v":1.1333325262087982E-2},1.284428866748086E-4,-11.015185280233482,-0.25188465654981229,7.8802499224778444E-2,1.1853814390063278E-2,-2.1591783418983823E-5,-11.176435214951871]
[null,null,null,null,null,null,null,null,null,null,null,null,null,null,null,null,null,88.31183192986289,{"$f":"2*PI()*R226/B56","v":1.1559991767329742E-2},1.336319215100122E-4,-12.05483798693443,-0.26361069315920815,8.20037680067216E-2,1.2332272809722156E-2,-2.4080410650384465E-5,-12.224136719687845]
[null,null,null,null,null,null,null,null,null,null,null,null,null,null,null,null,null,90.078068568460154,{"$f":"2*PI()*R227/B56","v":1.1791191602676337E-2},1.3903058858911744E-4,-13.233651907557771,-0.27595121262973521,8.5335822777416581E-2,1.2830025093434116E-2,-2.666960473485247E-5,-13.41146394192139]
[null,null,null,null,null,null,null,null,null,null,null,null,null,null,null,null,null,91.879629939829357,{"$f":"2*PI()*R228/B56","v":1.2027015434729863E-2},1.4464735666212008E-4,-14.568794156925634,-0.28894440671945887,8.8804067204819148E-2,1.3347847764931586E-2,-2.9363430743334362E-5,-14.755616012106085]
[null,null,null,null,null,null,null,null,null,null,null,null,null,null,null,null,null,93.717222538625947,{"$f":"2*PI()*R229/B56","v":1.226755574342446E-2},1.5049103658414841E-4,-16.060618615357654,-0.30263135723071599,9.2414133149517852E-2,1.388654847737314E-2,-3.2166118153931222E-5,-16.256981457079632]
[null,null,null,null,null,null,null,null,null,null,null,null,null,null,null,null,null,95.591566989398473,{"$f":"2*PI()*R230/B56","v":1.2512906858292951E-2},1.565707951338425E-4,-17.649413981863887,-0.31705629890075215,9.6171890698371953E-2,1.4446967251146248E-2,-3.5082067509684123E-5,-17.85588650488263]
[null,null,null,null,null,null,null,null,null,null,null,null,null,null,null,null,null,97.503398329186439,{"$f":"2*PI()*R231/B56","v":1.2763164995458808E-2},1.628961693897761E-4,-19.112110131985517,-0.33226691015430987,0.10008345867081658,1.5029977760040225E-2,-3.8115857343923309E-5,-19.329301721566313]
[null,null,null,null,null,null,null,null,null,null,null,null,null,null,null,null,null,99.45346629577017,{"$f":"2*PI()*R232/B56","v":1.3018428295367986E-2},1.6947708168744816E-4,-19.954244685517253,-0.34831463506519356,0.10415521562221386,1.563648866761369E-2,-4.1272251390500614E-5,-20.18280888854401]
[null,null,null,null,null,null,null,null,null,null,null,null,null,null,null,null,null,101.44253562168558,{"$f":"2*PI()*R233/B56","v":1.3278796861275345E-2},1.7632385518027844E-4,-19.695296967227733,-0.36525504032046285,0.10839381137042636,1.6267445015675008E-2,-4.4556206083568028E-5,-19.93593530736818]
[null,null,null,null,null,null,null,null,null,null,null,null,null,null,null,null,null,103.47138633411929,{"$f":"2*PI()*R234/B56","v":1.3544372798500853E-2},1.8344723002898923E-4,-18.501150980636055,-0.38314821149275247,0.11280617907326729,1.6923829666808388E-2,-4.7972878364443972E-5,-18.754617156267095]
[null,null,null,null,null,null,null,null,null,null,null,null,null,null,null,null,null,105.54081406080168,{"$f":"2*PI()*R235/B56","v":1.3815260254470871E-2},1.9085838024473568E-4,-16.938138218005861,-0.40205919351441821,0.11739954788603768,1.7606664802947591E-2,-5.1527633798675865E-5,-17.205242726465091]
[null,null,null,null,null,null,null,null,null,null,null,null,null,null,null,null,null,107.65163034201771,{"$f":"2*PI()*R236/B56","v":1.4091565459560288E-2},1.9856893121237177E-4,-15.377992508206532,-0.42205848092208242,0.12218145623017307,1.8317013482104016E-2,-5.5226055037271848E-5,-15.659607745471375]
[null,null,null,null,null,null,null,null,null,null,null,null,null,null,null,null,null,109.80466294885807,{"$f":"2*PI()*R237/B56","v":1.4373396768751493E-2},2.0659097792130311E-4,-13.953735028528826,-0.44322256421740747,0.12715976570598997,1.9055981255409193E-2,-5.9073950603671932E-5,-14.250800919735438]
[null,null,null,null,null,null,null,null,null,null,null,null,null,null,null,null,null,112.00075620783522,{"$f":"2*PI()*R238/B56","v":1.4660864704126522E-2},2.1493710393248231E-4,-12.68983847877476,-0.46563453958490442,0.13234267568444125,1.9824717846658402E-2,-6.3077364052199769E-5,-13.003368702192617]
[null,null,null,null,null,null,null,null,null,null,null,null,null,null,null,null,null,114.24077133199194,{"$f":"2*PI()*R239/B56","v":1.4954081998209055E-2},2.2362040111125755E-4,-11.57545706885054,-0.48938479024020864,0.13773873861477171,2.062441889671085E-2,-6.7242583492221897E-5,-11.906545944162758]
[null,null,null,null,null,null,null,null,null,null,null,null,null,null,null,null,null,116.52558675863177,{"$f":"2*PI()*R240/B56","v":1.5253163638173237E-2},2.3265449015697856E-4,-10.591465889273451,-0.51457174887483603,0.1433568760877364,2.1456327775080553E-2,-7.157615149933072E-5,-10.94129601043697]
[null,null,null,null,null,null,null,null,null,null,null,null,null,null,null,null,null,118.85609849380441,{"$f":"2*PI()*R241/B56","v":1.5558226910936701E-2},2.4205354196151421E-4,-9.7190000800439122,-0.54130275204231282,0.14920639569589866,2.2321737461167501E-2,-7.6084875432425036E-5,-10.088850783804592]
[null,null,null,null,null,null,null,null,null,null,null,null,null,null,null,null,null,121.2332204636805,{"$f":"2*PI()*R242/B56","v":1.5869391449155435E-2},2.5183229983012759E-4,-8.9416897931280062,-0.5696949989277158,0.1552970087356087,2.322199249770307E-2,-8.0775838171120995E-5,-9.3329465666605813]
[null,null,null,null,null,null,null,null,null,null,null,null,null,null,null,null,null,123.65788487295411,{"$f":"2*PI()*R243/B56","v":1.6186779278138545E-2},2.6200610259950605E-4,-8.2458928892176857,-0.59987662879311188,0.16163884879786394,2.4158491018946293E-2,-8.5656409280820967E-5,-8.6600578346032684]
[null,null,null,null,null,null,null,null,null,null,null,null,null,null,null,null,null,126.1310425704132,{"$f":"2*PI()*R244/B56","v":1.6510514863701316E-2},{"$f":"4*(SIN(S244/2))^2","v":2.7259090868914402E-4},{"$f":"10*LOG10(($G$116+$G$117+$G$118)^2 + ( $G$116*$G$118*T244 - ($G$117*($G$116+$G$118) + 4*$G$116*$G$118) )*T244 )  - 10*LOG10( (1+$G$119+$G$120)^2 + ( 1*$G$120*T244 - ($G$119*(1+$G$120) + 4*1*$G$120) )*T244)","v":-7.6203631020735259},{"$f":"10*LOG10(($G$121+$G$122+$G$123)^2 + ( $G$121*$G$123*$T244 - ($G$122*($G$121+$G$123) + 4*$G$121*$G$123) )*$T244 )  - 10*LOG10( (1+$G$124+$G$125)^2 + ( 1*$G$125*$T244 - ($G$124*(1+$G$125) + 4*1*$G$125) )*$T244)","v":-0.63198793354029448},{"$f":"10*LOG10(($G$126+$G$127+$G$128)^2 + ( $G$126*$G$128*$T244 - ($G$127*($G$126+$G$128) + 4*$G$126*$G$128) )*$T244 )  - 10*LOG10( (1+$G$129+$G$130)^2 + ( 1*$G$130*$T244 - ($G$129*(1+$G$130) + 4*1*$G$130) )*$T244)","v":0.16824249129810198},{"$f":"10*LOG10(($G$131+$G$132+$G$133)^2 + ( $G$131*$G$133*$T244 - ($G$132*($G$131+$G$133) + 4*$G$131*$G$133) )*$T244 )  - 10*LOG10( (1+$G$134+$G$135)^2 + ( 1*$G$135*$T244 - ($G$134*(1+$G$135) + 4*1*$G$135) )*$T244)","v":2.5132686856384368E-2},{"$f":"10*LOG10(($G$136+$G$137+$G$138)^2 + ( $G$136*$G$138*$T244 - ($G$137*($G$136+$G$138) + 4*$G$136*$G$138) )*$T244 )  - 10*LOG10( (1+$G$139+$G$140)^2 + ( 1*$G$140*$T244 - ($G$139*(1+$G$140) + 4*1*$G$140) )*$T244)","v":-9.0734256650293332E-5},{"$f":"U244+V244+W244+X244+Y244","v":-8.0590665917159843}]
[null,null,null,null,null,null,null,null,null,null,null,null,null,null,null,null,null,128.65366342182148,{"$f":"2*PI()*R245/B56","v":1.6840725160975345E-2},2.8360332112373427E-4,-7.0558194492981556,-0.66618272432819481,0.17511897399867138,2.6146091724680076E-2,-9.6017358582445311E-5,-7.5208331252615812]
[null,null,null,null,null,null,null,null,null,null,null,null,null,null,null,null,null,131.22673669025792,{"$f":"2*PI()*R246/B56","v":1.7177539664194854E-2},2.9506061356574296E-4,-6.5445560285530888,-0.70262987408639788,0.18227981858055387,2.7200277490706526E-2,-1.015140163949102E-4,-7.037807320584621]
[null,null,null,null,null,null,null,null,null,null,null,null,null,null,null,null,null,133.85127142406307,{"$f":"2*PI()*R247/B56","v":1.7521090457478745E-2},3.0698075739891913E-4,-6.0801229308458034,-0.74151506114826304,0.18973705332506796,2.8296878528641045E-2,-1.0723286752067906E-4,-6.6037112930078781]
[null,null,null,null,null,null,null,null,null,null,null,null,null,null,null,null,null,136.52829685254434,{"$f":"2*PI()*R248/B56","v":1.7871512266628326E-2},3.193824499051342E-4,-5.6570750466454029,-0.78304274316997891,0.19750323696991501,2.9437594164111403E-2,-1.1318289915274171E-4,-6.213290141580508]
[null,null,null,null,null,null,null,null,null,null,null,null,null,null,null,null,null,139.25886278959524,{"$f":"2*PI()*R249/B56","v":1.8228942511960892E-2},3.3228514357864705E-4,-5.2707769045727844,-0.82743839510342809,0.20559148380839076,3.0624191210529617E-2,-1.1937346243939828E-4,-5.8621189981197315]
[null,null,null,null,null,null,null,null,null,null,null,null,null,null,null,null,null,142.04404004538713,{"$f":"2*PI()*R250/B56","v":1.8593521362200108E-2},3.4570907662367971E-4,-4.9172512993074236,-0.87495105036668974,0.21401549010494136,3.1858506600787706E-2,-1.2581428726066157E-4,-5.5464541672556447]
[null,null,null,null,null,null,null,null,null,null,null,null,null,null,null,null,null,144.88492084629488,{"$f":"2*PI()*R251/B56","v":1.8965391789444109E-2},3.59675304683019E-4,-4.5930613955691939,-0.92585619064256264,0.22278956190514521,3.3142450117621181E-2,-1.3251549760595616E-4,-5.2631180896865963]
[null,null,null,null,null,null,null,null,null,null,null,null,null,null,null,null,null,147.78261926322077,{"$f":"2*PI()*R252/B56","v":1.934469962523299E-2},3.7420573384729506E-4,-4.2952182359255744,-0.98045903709431315,0.23192864432351712,3.4478007225997587E-2,-1.394876275810919E-4,-5.0094101090979537]
[null,null,null,null,null,null,null,null,null,null,null,null,null,null,null,null,null,150.73827164848518,{"$f":"2*PI()*R253/B56","v":1.9731593617737651E-2},3.8932315499657852E-4,-4.0211075285309192,-1.0390983044098618,0.24144835239790297,3.5867242011011768E-2,-1.4674163806893681E-4,-4.7830369801699355]
[null,null,null,null,null,null,null,null,null,null,null,null,null,null,null,null,null,153.75303708145489,{"$f":"2*PI()*R254/B56","v":2.0126225490092405E-2},4.0505127952801707E-4,-3.7684311292400565,-1.1021504891977969,0.2513650036054571,3.7312300224806805E-2,-1.5428893406821409E-4,-4.5820586035416575]
[null,null,null,null,null,null,null,null,null,null,null,null,null,null,null,null,null,156.82809782308399,{"$f":"2*PI()*R255/B56","v":2.0528749999894253E-2},4.2141477652539889E-4,-3.5351597980357923,-1.1700347761298815,0.26169565214152612,3.881541244617992E-2,-1.6214138274484036E-4,-4.4048456509607128]
[null,null,null,null,null,null,null,null,null,null,null,null,null,null,null,null,null,159.96465977954568,{"$f":"2*PI()*R256/B56","v":2.093932499989214E-2},4.3843931142877193E-4,-3.3194946763891409,-1.2432186591765912,0.27245812506961187,4.0378897356612597E-2,-1.7031133222089601E-4,-4.2500466244717288]
[null,null,null,null,null,null,null,null,null,null,null,null,null,null,null,null,null,163.1639529751366,{"$f":"2*PI()*R257/B56","v":2.1358111499889983E-2},4.5615158626459104E-4,-3.1198355716821737,-1.3222243916967784,0.28367106045821799,4.2005165136480116E-2,-1.7881163112343224E-4,-4.1165625494153772]
[null,null,null,null,null,null,null,null,null,null,null,null,null,null,null,null,null,166.42723203463933,{"$f":"2*PI()*R258/B56","v":2.1785273729887783E-2},4.7457938149929812E-4,-2.9347546058309177,-1.4076363984827651,0.29535394762812217,4.3696720985394677E-2,-1.8765564895173448E-4,-4.0035279913491175]
[null,null,null,null,null,null,null,null,null,null,null,null,null,null,null,null,null,169.75577667533213,{"$f":"2*PI()*R259/B56","v":2.2220979204485541E-2},4.9375159958176505E-4,-2.7629741326694415,-1.5001098056787754,0.30752716964238402,4.5456168770636296E-2,-1.9685729725704704E-4,-3.9102974572324536]
[null,null,null,null,null,null,null,null,null,null,null,null,null,null,null,null,null,173.15089220883877,{"$f":"2*PI()*R260/B56","v":2.266539878857525E-2},5.136983102426645E-4,-2.6033480858401674,-1.6003802714615389,0.32021204818050819,4.7286214807703786E-2,-2.0643105170736753E-4,-3.836436525365202]
[null,null,null,null,null,null,null,null,null,null,null,null,null,null,null,null,null,176.61391005301556,{"$f":"2*PI()*R261/B56","v":2.3118706764346759E-2},5.3445079762156949E-4,-2.4548461102568382,-1.7092753323151655,0.33343089094822886,4.9189671777170929E-2,-2.1639197504708108E-4,-3.781717271821651]
[null,null,null,null,null,null,null,null,null,null,null,null,null,null,null,null,null,180.14618825407587,{"$f":"2*PI()*R262/B56","v":2.3581080899633691E-2},5.5604160929542353E-4,-2.3165399733736933,-1.8277275176562711,0.34720704178478456,5.1169462782018726E-2,-2.2675574100383677E-4,-3.7461177422041647]
[null,null,null,null,null,null,null,null,null,null,null,null,null,null,null,null,null,183.74911201915739,{"$f":"2*PI()*R263/B56","v":2.4052702517626368E-2},5.7850460728498963E-4,-2.1875918603391256,-1.9567895307124061,0.36156493364139664,5.3228625549742503E-2,-2.3753865917131023E-4,-3.7298253705195639]
[null,null,null,null,null,null,null,null,null,null,null,null,null,null,null,null,null,187.42409425954054,{"$f":"2*PI()*R264/B56","v":2.4533756567978893E-2},6.0187502111895531E-4,-2.0672442389379597,-2.0976518474493417,0.37653014461674417,5.5370316783564633E-2,-2.4875770091825622E-4,-3.7332443826879107]
[null,null,null,null,null,null,null,null,null,null,null,null,null,null,null,null,null,191.17257614473135,{"$f":"2*PI()*R265/B56","v":2.5024431699338472E-2},6.261895030385806E-4,-1.9548110427944749,-2.2516631498424999,0.39212945724855786,5.7597816667191992E-2,-2.6043052636359754E-4,-3.7570073492475888]
[null,null,null,null,null,null,null,null,null,null,null,null,null,null,null,null,null,194.99602766762598,{"$f":"2*PI()*R266/B56","v":2.5524920333325242E-2},6.5148618542909445E-4,-1.8496699695420062,-2.420354087093699,0.40839092127492194,5.9914533527551939E-2,-2.7257551245218892E-4,-3.8019911773456836]
[null,null,null,null,null,null,null,null,null,null,null,null,null,null,null,null,null,198.89594822097851,{"$f":"2*PI()*R267/B56","v":2.603541873999175E-2},6.7780474056751351E-4,-1.7512557281667824,-2.6054649509623573,0.42534392009411448,6.2324008660034735E-2,-2.8521178219875765E-4,-3.8693379621571893]
[null,null,null,null,null,null,null,null,null,null,null,null,null,null,null,null,null,202.8738671853981,{"$f":"2*PI()*R268/B56","v":2.6556127114791585E-2},7.0518644278015153E-4,-1.6590540991487188,-2.8089779615486492,0.44301924116869174,6.4829921320786354E-2,-2.9835923512289142E-4,-3.9604812574430128]
[null,null,null,null,null,null,null,null,null,null,null,null,null,null,null,null,null,206.93134452910607,{"$f":"2*PI()*R269/B56","v":2.708724965708742E-2},7.3367423310683117E-4,-1.5725966942994916,-3.0331549888752178,0.4614491506369589,6.7436093890648863E-2,-3.1203857895145681E-4,-4.0771784772260533]
[null,null,null,null,null,null,null,null,null,null,null,null,null,null,null,null,null,211.06997141968819,{"$f":"2*PI()*R270/B56","v":2.7628994650229166E-2},7.6331278657270176E-4,-1.4914563217862806,-3.2805816812210793,0.48066747241502128,7.014649721535271E-2,-3.2627136262020073E-4,-4.2215503047396066]
[null,null,null,null,null,null,null,null,null,null,null,null,null,null,null,null,null,215.29137084808195,{"$f":"2*PI()*R271/B56","v":2.8181574543233751E-2},7.9414858217261356E-4,-1.4152428768030134,-3.5542191222220865,0.50070967209270378,7.2965256126598987E-2,-3.410800106344869E-4,-4.3961281508164314]
[null,null,null,null,null,null,null,null,null,null,null,null,null,null,null,null,null,219.5971982650436,{"$f":"2*PI()*R272/B56","v":2.8745206034098424E-2},8.262299756772013E-4,-1.3435996905195466,-3.8574642632592315,0.52161294594958463,7.589665514862709E-2,-3.5648785886333023E-4,-4.60391084053943]
[null,null,null,null,null,null,null,null,null,null,null,null,null,null,null,null,null,223.98914223034447,{"$f":"2*PI()*R273/B56","v":2.9320110154780393E-2},8.5960727537421353E-4,-1.2762002799094319,-4.1942203966534493,0.54341631544158986,7.8945144394911182E-2,-3.7251919180225634E-4,-4.8484317359181821]
[null,null,null,null,null,null,null,null,null,null,null,null,null,null,null,null,null,228.46892507495136,{"$f":"2*PI()*R274/B56","v":2.9906512357876003E-2},8.9433282086316039E-4,-1.2127454492926688,-4.5689786661494693,0.56616072753459434,8.2115345659561356E-2,-3.8919928137715054E-4,-5.1338372415293598]
[null,null,null,null,null,null,null,null,null,null,null,null,null,null,null,null,null,233.0383035764504,{"$f":"2*PI()*R275/B56","v":3.0504642605033525E-2},9.3046106502609469E-4,-1.1529607012824457,-4.9869106445432223,0.58988916129013091,8.5412058707987626E-2,-4.0655442736903247E-4,-5.4649766802549182]
[null,null,null,null,null,null,null,null,null,null,null,null,null,null,null,null,null,237.69906964797943,{"$f":"2*PI()*R276/B56","v":3.1114735457134196E-2},9.6804865930224377E-4,-1.0965939205674999,-5.4539694358161128,0.6146467411386709,8.8840267771322701E-2,-4.2461199949794803E-4,-5.8475009594731171]
[null,null,null,null,null,null,null,null,null,null,null,null,null,null,null,null,null,242.45305104093902,{"$f":"2*PI()*R277/B56","v":3.1737030166276881E-2},1.0071545423993354E-3,-1.0434132988046798,-5.9769905679808488,0.64048085730919269,9.2405148248976943E-2,-4.4340048126789711E-4,-6.2879612617086273]
[null,null,null,null,null,null,null,null,null,null,null,null,null,null,null,null,null,247.30211206175781,{"$f":"2*PI()*R278/B56","v":3.2371770769602418E-2},1.0478400325797581E-3,-0.99320547300351336,-6.5637696444131777,0.6674412939195804,9.6112073623730865E-2,-4.6294951562786402E-4,-6.7938846993890074]
[null,null,null,null,null,null,null,null,null,null,null,null,null,null,null,null,null,252.24815430299296,{"$f":"2*PI()*R279/B56","v":3.3019206184994467E-2},1.0901689236652414E-3,-0.94577385328837238,-7.2230612052316587,0.69558036527123335,9.9966622593480992E-2,-4.8328995253199558E-4,-7.373771360607849]
[null,null,null,null,null,null,null,null,null,null,null,null,null,null,null,null,null,257.29311738905284,{"$f":"2*PI()*R280/B56","v":3.3679590308694357E-2},1.1342075849094587E-3,-0.90093711892492223,-7.9643695217818475,0.72495306093328793,0.10397458642378155,-5.0445389848174926E-4,-8.0368834472481829]
[null,null,null,null,null,null,null,null,null,null,null,null,null,null,null,null,null,262.43897973683391,{"$f":"2*PI()*R281/B56","v":3.435318211486825E-2},1.1800250648939512E-3,-0.85852786408057824,-8.7972347025522097,0.75561720024753498,0.10814197652500468,-5.264747681397175E-4,-8.7925298646283885]
[null,null,null,null,null,null,null,null,null,null,null,null,null,null,null,null,null,267.68775933157059,{"$f":"2*PI()*R282/B56","v":3.504024575716562E-2},1.2276931996089559E-3,-0.81839137702008458,-9.7293396084013892,0.78763359693459734,0.11247503225788513,-5.4938733808396201E-4,-9.648171743567076]
[null,null,null,null,null,null,null,null,null,null,null,null,null,null,null,null,null,273.04151451820201,{"$f":"2*PI()*R283/B56","v":3.5741050672308927E-2},1.2772867248871808E-3,-0.78038453837108079,-10.761935555994114,0.82106623453582728,0.11698022897091676,-5.7322780282609287E-4,-10.604846858661277]
[null,null,null,null,null,null,null,null,null,null,null,null,null,null,null,null,null,278.50234480856608,{"$f":"2*PI()*R284/B56","v":3.6455871685755106E-2},1.3288833933652799E-3,-0.74437482577616265,-11.879457463956307,0.85598245348365509,0.12166428627280546,-5.9803383316792136E-4,-11.646783583809176]
[null,null,null,null,null,null,null,null,null,null,null,null,null,null,null,null,null,284.07239170473741,{"$f":"2*PI()*R285/B56","v":3.7184989119470213E-2},1.3825640961547226E-3,-0.71023941371419852,-13.028071325790926,0.89245315065709718,0.12653417654294152,-6.2384463699993731E-4,-12.719947256942085]
[null,null,null,null,null,null,null,null,null,null,null,null,null,null,null,null,null,289.75383953883215,{"$f":"2*PI()*R286/B56","v":3.7928688901859617E-2},1.4384129894110334E-3,-0.67786435855450122,-14.080554262066137,0.93055299234822542,0.13159713368252213,-6.5070102265707419E-4,-13.696919195612548]
[null,null,null,null,null,null,null,null,null,null,null,null,null,null,null,null,null,295.5489163296088,{"$f":"2*PI()*R287/B56","v":3.8687262679896806E-2},1.4965176259978724E-3,-0.64714386003061719,-14.812848148993396,0.97036064164133506,0.13686066210851955,-6.7864546493900946E-4,-14.353449350739098]
[null,null,null,null,null,null,null,null,null,null,null,null,null,null,null,null,null,301.45989465620096,{"$f":"2*PI()*R288/B56","v":3.9461007933494746E-2},1.556969092450258E-3,-0.61797959130473856,-14.979155669945492,1.0119590012889503,0.1423325459924385,-7.0772217391001924E-4,-14.443551436142751]
[null,null,null,null,null,null,null,null,null,null,null,null,null,null,null,null,null,307.48909254932499,{"$f":"2*PI()*R289/B56","v":4.0250228092164643E-2},1.6198621514493645E-3,-0.59028009066086895,-14.51078442020723,1.0554354732595641,0.14802085874518056,-7.3797716659407264E-4,-13.898346156029948]
[null,null,null,null,null,null,null,null,null,null,null,null,null,null,null,null,null,313.63887440031152,{"$f":"2*PI()*R290/B56","v":4.1055232654007935E-2},1.6852953900297761E-3,-0.56396020862703722,-13.588402551175705,1.100882236230845,0.15393397274896436,-7.6945834171082694E-4,-12.898316009164644]
[null,null,null,null,null,null,null,null,null,null,null,null,null,null,null,null,null,319.91165188831775,{"$f":"2*PI()*R291/B56","v":4.1876337307088098E-2},1.753371373748843E-3,-0.53894060500067553,-12.466693546949458,1.1483965424108717,0.16008056933669934,-8.0221555755977114E-4,-11.697959255760122]
[null,null,null,null,null,null,null,null,null,null,null,null,null,null,null,null,null,326.30988492608412,{"$f":"2*PI()*R292/B56","v":4.2713864053229862E-2},1.8241968070569071E-3,-0.51514729084523481,-11.322841960411395,1.1980810351891691,0.16646964901853245,-8.3630071322260413E-4,-10.474274867762151]
[null,null,null,null,null,null,null,null,null,null,null,null,null,null,null,null,null,332.83608262460581,{"$f":"2*PI()*R293/B56","v":4.3568141334294458E-2},1.8978827001166515E-3,-0.49251121105260864,-10.243198707602325,1.2500440892511904,0.17311054195475251,-8.717678331977563E-4,-9.3134270552821885]
[null,null,null,null,null,null,null,null,null,null,null,null,null,null,null,null,null,339.49280427709795,{"$f":"2*PI()*R294/B56","v":4.4439504160980352E-2},1.974544542329656E-3,-0.47096786353129261,-9.2592350417286582,1.3044001749343508,0.18001291867346403,-9.0867315564802098E-4,-8.2466984848077836]
[null,null,null,null,null,null,null,null,null,null,null,null,null,null,null,null,null,346.28266036263989,{"$f":"2*PI()*R295/B56","v":4.532829424419995E-2},2.0543024828384563E-3,-0.45045695149387655,-8.3764226041569572,1.3612702487640078,0.18718680103070007,-9.4707522440762304E-4,-7.2793695810805339]
[null,null,null,null,null,null,null,null,null,null,null,null,null,null,null,null,null,353.20831356989271,{"$f":"2*PI()*R296/B56","v":4.6234860129083954E-2},2.1372815182830627E-3,-0.43092206568370273,-7.5895200034925381,1.4207821722849161,0.19464257340984759,-9.8703498491814479E-4,-6.4060043584663955]
[null,null,null,null,null,null,null,null,null,null,null,null,null,null,null,null,null,360.27247984129059,{"$f":"2*PI()*R297/B56","v":4.7159557331665637E-2},2.2236116881018688E-3,-0.41231039370668299,-6.8895785240093161,1.4830711614996375,0.20239099415632644,-1.0286158842729431E-3,-5.6174553779443084]
[null,null,null,null,null,null,null,null,null,null,null,null,null,null,null,null,null,367.4779294381164,{"$f":"2*PI()*R298/B56","v":4.8102748478298957E-2},2.3134282776783991E-3,-0.39457245392432583,-6.2669347682782686,1.5482802694432465,0.21044320724256949,-1.0718839755554654E-3,-4.9038556294923339]
[null,null,null,null,null,null,null,null,null,null,null,null,null,null,null,null,null,374.82748802687871,{"$f":"2*PI()*R299/B56","v":4.906480344786493E-2},2.4068720296471957E-3,-0.3776618516219088,-5.712403884619178,1.6165609046655049,0.21881075415730677,-1.1169080266653086E-3,-4.2558109854449402]
[null,null,null,null,null,null,null,null,null,null,null,null,null,null,null,null,null,382.32403778741627,{"$f":"2*PI()*R300/B56","v":5.0046099516822228E-2},2.504089363684531E-3,-0.36153505539628839,-5.2176922602227194,1.6880733886610955,0.22750558601206805,-1.1637596338320844E-3,-3.6648121005796765]
[null,null,null,null,null,null,null,null,null,null,null,null,null,null,null,null,null,389.97051854316459,{"$f":"2*PI()*R301/B56","v":5.1047021507158667E-2},2.6052326051224429E-3,-0.34615119191295207,-4.7754812167272291,1.7629875555878414,0.23654007585671266,-1.2125133400369137E-3,-3.1233172905356641]
[null,null,null,null,null,null,null,null,null,null,null,null,null,null,null,null,null,397.7699289140279,{"$f":"2*PI()*R302/B56","v":5.2067961937301843E-2},2.7104602227379397E-3,-0.33147185736527263,-4.37937935187135,1.8414833979470799,0.24592703119449411,-1.263246758566261E-3,-2.6247040268536148]
[null,null,null,null,null,null,null,null,null,null,null,null,null,null,null,null,null,405.72532749230845,{"$f":"2*PI()*R303/B56","v":5.3109321176047879E-2},2.8199370760830216E-3,-0.31746094413337289,-4.0238292008094945,1.923751762272353,0.25567970668599038,-1.3160407019294773E-3,-2.1631747166864534]
[null,null,null,null,null,null,null,null,null,null,null,null,null,null,null,null,null,413.83983404215462,{"$f":"2*PI()*R304/B56","v":5.4171507599568833E-2},2.9338346727355623E-3,-0.30408448128584809,-3.7040045367196726,2.0099950992865061,0.26581181702976231,-1.3709793163880768E-3,-1.7336530810056403]
[null,null,null,null,null,null,null,null,null,null,null,null,null,null,null,null,null,422.11663072299774,{"$f":"2*PI()*R305/B56","v":5.5254937751560221E-2},3.0523314358659628E-3,-0.2913104876996897,-3.4157128737276068,2.1004282734477968,0.27633755000624305,-1.4281502223698617E-3,-1.3316856881956265]
[null,null,null,null,null,null,null,null,null,null,null,null,null,null,null,null,null,430.55896333745773,{"$f":"2*PI()*R306/B56","v":5.6360036506591431E-2},3.1756129825299823E-3,-0.27910883669117226,-3.1553082195930457,2.1952794373153495,0.28727157966984684,-1.4876446610181393E-3,-0.95335368396003983]
[null,null,null,null,null,null,null,null,null,null,null,null,null,null,null,null,null,439.17014260420689,{"$f":"2*PI()*R307/B56","v":5.7487237236723256E-2},3.3038724131142275E-3,-0.26745113115583763,-2.9196150696643954,2.2947909767276116,0.29862907967273067,-1.5495576471993289E-3,-0.59519570206709016]
[null,null,null,null,null,null,null,null,null,null,null,null,null,null,null,null,null,447.95354545629101,{"$f":"2*PI()*R308/B56","v":5.8636981981457725E-2},{"$f":"4*(SIN(S308/2))^2","v":3.4373106123773887E-3},{"$f":"10*LOG10(($G$116+$G$117+$G$118)^2 + ( $G$116*$G$118*T308 - ($G$117*($G$116+$G$118) + 4*$G$116*$G$118) )*T308 )  - 10*LOG10( (1+$G$119+$G$120)^2 + ( 1*$G$120*T308 - ($G$119*(1+$G$120) + 4*1*$G$120) )*T308)","v":-0.25631058831099551},{"$f":"10*LOG10(($G$121+$G$122+$G$123)^2 + ( $G$121*$G$123*$T308 - ($G$122*($G$121+$G$123) + 4*$G$121*$G$123) )*$T308 )  - 10*LOG10( (1+$G$124+$G$125)^2 + ( 1*$G$125*$T308 - ($G$124*(1+$G$125) + 4*1*$G$125) )*$T308)","v":-2.70586301111625},{"$f":"10*LOG10(($G$126+$G$127+$G$128)^2 + ( $G$126*$G$128*$T308 - ($G$127*($G$126+$G$128) + 4*$G$126*$G$128) )*$T308 )  - 10*LOG10( (1+$G$129+$G$130)^2 + ( 1*$G$130*$T308 - ($G$129*(1+$G$130) + 4*1*$G$130) )*$T308)","v":2.3992205334041543},{"$f":"10*LOG10(($G$131+$G$132+$G$133)^2 + ( $G$131*$G$133*$T308 - ($G$132*($G$131+$G$133) + 4*$G$131*$G$133) )*$T308 )  - 10*LOG10( (1+$G$134+$G$135)^2 + ( 1*$G$135*$T308 - ($G$134*(1+$G$135) + 4*1*$G$135) )*$T308)","v":0.31042573670202955},{"$f":"10*LOG10(($G$136+$G$137+$G$138)^2 + ( $G$136*$G$138*$T308 - ($G$137*($G$136+$G$138) + 4*$G$136*$G$138) )*$T308 )  - 10*LOG10( (1+$G$139+$G$140)^2 + ( 1*$G$140*$T308 - ($G$139*(1+$G$140) + 4*1*$G$140) )*$T308)","v":-1.6139881292291935E-3},{"$f":"U308+V308+W308+X308+Y308","v":-0.25414131745029089}]
[null,null,null,null,null,null,null,null,null,null,null,null,null,null,null,null,null,456.91261636541685,{"$f":"2*PI()*R309/B56","v":5.980972162108688E-2},3.5761365625476518E-3,-0.24566193321874152,-2.5116307553426509,2.5088421122516422,0.32267776401070414,-1.681039155678743E-3,7.2546148545275191E-2]
[null,null,null,null,null,null,null,null,null,null,null,null,null,null,null,null,null,466.0508686927252,{"$f":"2*PI()*R310/B56","v":6.1005916053508621E-2},3.7205676689546388E-3,-0.23548130034458126,-2.3347983215073782,2.6239472813732263,0.33540191502043015,-1.7508180495706682E-3,0.38731875649212633]
[null,null,null,null,null,null,null,null,null,null,null,null,null,null,null,null,null,475.37188606657969,{"$f":"2*PI()*R311/B56","v":6.2226034374578784E-2},3.8708300986928131E-3,-0.22574614247534441,-2.1735061794276405,2.744846473534885,0.34861549697317784,-1.8234365903233574E-3,0.69238621201475459]
[null,null,null,null,null,null,null,null,null,null,null,null,null,null,null,null,null,484.87932378791129,{"$f":"2*PI()*R312/B56","v":6.3470555062070361E-2},4.0271591328326336E-3,-0.21643514638216743,-2.0261203035208979,2.8718703986117688,0.36233638460635653,-1.8990112038290707E-3,0.98975232211123099]
[null,null,null,null,null,null,null,null,null,null,null,null,null,null,null,null,null,494.5769102636695,{"$f":"2*PI()*R313/B56","v":6.4739966163311763E-2},4.1897995327156851E-3,-0.20752815467045593,-1.8912022401764759,3.0053715772841159,0.37658303382454328,-1.97766316104242E-3,1.2812465531006849]
[null,null,null,null,null,null,null,null,null,null,null,null,null,null,null,null,null,504.46844846894288,{"$f":"2*PI()*R314/B56","v":6.6034765486577995E-2},4.3590059208908627E-3,-0.19900609330898078,-1.7674834289871058,3.1457260069179824,0.39137449533900082,-2.0595187855074748E-3,1.5685514611753892]
[null,null,null,null,null,null,null,null,null,null,null,null,null,null,null,null,null,514.55781743832176,{"$f":"2*PI()*R315/B56","v":6.7355460796309566E-2},4.5350431772701195E-3,-0.19085090437597785,-1.6538431379814185,3.2933349710553017,0.40673042824434447,-2.14470967025715E-3,1.8532266472719927]
[null,null,null,null,null,null,null,null,null,null,null,null,null,null,null,null,null,524.8489737870882,{"$f":"2*PI()*R316/B56","v":6.8702570012235759E-2},4.7181868511046218E-3,-0.18304548360102757,-1.5492894742407941,3.4486270041097953,0.42267111349993236,-2.2333729045365125E-3,2.1367297868633695]
[null,null,null,null,null,null,null,null,null,null,null,null,null,null,null,null,null,535.34595326282999,{"$f":"2*PI()*R317/B56","v":7.0076621412480472E-2},4.9087235894053382E-3,-0.17557362231919171,-1.45294301602312,3.6120600225016162,0.43921746728168998,-2.3256513108613763E-3,2.4204352001301332]
[null,null,null,null,null,null,null,null,null,null,null,null,null,null,null,null,null,546.05287232808655,{"$f":"2*PI()*R318/B56","v":7.1478153840730085E-2},5.1069515824559309E-3,-0.16841995348686822,-1.3640226832240003,3.7841236322376659,0.45639105416845815,-2.4216936929006838E-3,2.705650356002355]
[null,null,null,null,null,null,null,null,null,null,null,null,null,null,null,null,null,556.97392977464824,{"$f":"2*PI()*R319/B56","v":7.2907716917544677E-2},5.3131810270907387E-3,-0.16156990143995387,-1.2818335220313912,3.9653416203723921,0.47421410012520226,-2.5216550947486649E-3,2.9936306419315004]
[null,null,null,null,null,null,null,null,null,null,null,null,null,null,null,null,null,568.1134083701412,{"$f":"2*PI()*R320/B56","v":7.4365871255895569E-2},5.5277346084363363E-3,-0.15500963510208265,-1.2057561290102043,4.1562746331391409,0.49270950524392454,-2.6256970721463269E-3,3.2855926771986321]
[null,null,null,null,null,null,null,null,null,null,null,null,null,null,null,null,null,579.47567653754402,{"$f":"2*PI()*R321/B56","v":7.5853188681013484E-2},5.7509480008417595E-3,-0.1487260243760673,-1.1352374812771515,4.3575230357523367,0.51190085620168446,-2.7339879762733332E-3,3.582726398324529]
[null,null,null,null,null,null,null,null,null,null,null,null,null,null,null,null,null,591.0651900682949,{"$f":"2*PI()*R322/B56","v":7.7370252454633748E-2},5.9831703887500984E-3,-0.14270659947398201,-1.0697829742723783,4.5697299363496668,0.53181243839385495,-2.8467032507459855E-3,3.8862060977464155]
[null,null,null,null,null,null,null,null,null,null,null,null,null,null,null,null,null,602.88649386966085,{"$f":"2*PI()*R323/B56","v":7.8917657503726438E-2},6.2247650082927113E-3,-0.13693951296255591,-1.0089494980210816,4.7935843369010627,0.55246924769967265,-2.9640257425143091E-3,4.1972005478745835]
[null,null,null,null,null,null,null,null,null,null,null,null,null,null,null,null,null,614.94422374705402,{"$f":"2*PI()*R324/B56","v":8.0496010653800951E-2},6.4761097104168545E-3,-0.13141350431872212,-0.95233940761783487,5.0298243436281638,0.57389700183627568,-3.0861460273590158E-3,4.5168822875005237]
[null,null,null,null,null,null,null,null,null,null,null,null,null,null,null,null,null,627.24310822199516,{"$f":"2*PI()*R325/B56","v":8.2105930866876981E-2},6.737597546388148E-3,-0.12611786680761838,-0.89959526470072149,5.279240323287695,0.59612215125687129,-3.2132627507857059E-3,4.8464360802854412]
[null,null,null,null,null,null,null,null,null,null,null,null,null,null,null,null,null,639.78797038643506,{"$f":"2*PI()*R326/B56","v":8.3748049484214521E-2},7.0096373765408471E-3,-0.12104241651059056,-0.85039524452453463,5.5426778216926067,0.6191718895483227,-3.3455829850987939E-3,5.1870664672207054]
[null,null,null,null,null,null,null,null,null,null,null,null,null,null,null,null,null,652.58372979416379,{"$f":"2*PI()*R327/B56","v":8.5423010473898817E-2},7.2926545031817853E-3,-0.11617746334509604,-0.8044491183972724,5.8210399552393426,0.64307416328359857,-3.4833226035302367E-3,5.540004214177042]
[null,null,null,null,null,null,null,null,null,null,null,null,null,null,null,null,null,665.63540439004703,{"$f":"2*PI()*R328/B56","v":8.7131470683376788E-2},7.5870913285874982E-3,-0.11151378393109468,-0.76149473413263991,6.1152888271534422,0.66785768128486289,-3.6267066723461028E-3,5.9065112837022244]
[null,null,null,null,null,null,null,null,null,null,null,null,null,null,null,null,null,678.94811247784799,{"$f":"2*PI()*R329/B56","v":8.8874100097044315E-2},7.8934080390691795E-3,-0.10704259617043022,-0.72129492814410412,6.4264452807375463,0.6935519232540166,-3.7759698618744508E-3,6.2878837098151541]
[null,null,null,null,null,null,null,null,null,null,null,null,null,null,null,null,null,692.52707472740497,{"$f":"2*PI()*R330/B56","v":9.0651582098985217E-2},8.2120833161162046E-3,-0.10275553541618621,-0.68363481215765631,6.7555859413776176,0.72018714772873516,-3.9313568775132257E-3,6.6854513846549972]
[null,null,null,null,null,null,null,null,null,null,null,null,null,null,null,null,null,706.37761622195308,{"$f":"2*PI()*R331/B56","v":9.2464613740964915E-2},8.5436150756662763E-3,-9.8644632119182063E-2,-0.64831938549797741,7.1038359557980542,0.7477943993241194,-4.09312291180286E-3,7.1005732145932114]
[null,null,null,null,null,null,null,null,null,null,null,null,null,null,null,null,null,720.50516854639216,{"$f":"2*PI()*R332/B56","v":9.4313906015784224E-2},8.8885212365889463E-3,-9.4702290846989001E-2,-0.61517143071499447,7.4723550180009397,0.77640551522244294,-4.2615341187268729E-3,7.5346252775426725]
[null,null,null,null,null,null,null,null,null,null,null,null,null,null,null,null,null,734.91527191731996,{"$f":"2*PI()*R333/B56","v":9.6200184136099889E-2},9.2473405195088957E-3,-9.0921270580075486E-2,-0.58402965613994695,7.8623130369039913,0.80605313087678354,-4.4368681114856923E-3,7.9889783729492665]
[null,null,null,null,null,null,null,null,null,null,null,null,null,null,null,null,null,749.61357735566639,{"$f":"2*PI()*R334/B56","v":9.8124187818821901E-2},9.6206332771366521E-3,-8.7294666195944615E-2,-0.5547470539418029,8.2748499443838313,0.83677068489807738,-4.6194144850668639E-3,8.4649594946590945]
[null,null,null,null,null,null,null,null,null,null,null,null,null,null,null,null,null,764.60584890277971,{"$f":"2*PI()*R335/B56","v":0.10008667157519834},1.0008982357316648E-2,-8.3815891060012859E-2,-0.52718944652080779,8.7110113663657316,0.86859242309980544,-4.8094753650149702E-3,8.9637889765197016]
[null,null,null,null,null,null,null,null,null,null,null,null,null,null,null,null,null,779.89796588083527,{"$f":"2*PI()*R336/B56","v":0.1020884050067023},1.0412994000046374E-2,-8.0478660647649747E-2,-0.501234197733325,9.1716477744152414,0.90155340167994602,-5.0073659839002804E-3,9.4864809517303126]
[null,null,null,null,null,null,null,null,null,null,null,null,null,null,null,null,null,795.49592519845203,{"$f":"2*PI()*R337/B56","v":0.10413017310683635},1.0833298769765336E-2,-7.7276977127667124E-2,-0.47676906858086454,9.6572587908305536,0.93568948952607123,-5.2134152870999539E-3,10.033688819360993]
[null,null,null,null,null,null,null,null,null,null,null,null,null,null,null,null,null,811.40584370242107,{"$f":"2*PI()*R338/B56","v":0.10621277656897309},1.1270552524258988E-2,-7.4205114842790465E-2,-0.45369119969288363,10.167756039227172,0.97103736963665099,-5.4279665695757817E-3,10.605469127758573]
[null,null,null,null,null,null,null,null,null,null,null,null,null,null,null,null,null,827.63396057646946,{"$f":"2*PI()*R339/B56","v":0.10833703210035253},1.1725437421570645E-2,-7.1257606627789016E-2,-0.43190620525199819,10.70210722266728,1.0076345396597937,-5.6513781455034273E-3,11.200926572301784]
[null,null,null,null,null,null,null,null,null,null,null,null,null,null,null,null,null,844.18663978799884,{"$f":"2*PI()*R340/B56","v":0.11050377274235959},1.2198662966363504E-2,-6.8429230909714533E-2,-0.41132736500787814,11.257812342783602,1.0455193115596604,-5.8840240526749632E-3,11.817691034372995]
[null,null,null,null,null,null,null,null,null,null,null,null,null,null,null,null,null,861.07037258375885,{"$f":"2*PI()*R341/B56","v":0.11271384819720678},1.2690967097225515E-2,-6.5714999539459029E-2,-0.39187490274744619,11.830155450924032,1.0847308104310276,-6.1262947937774648E-3,12.451170064274377]
[null,null,null,null,null,null,null,null,null,null,null,null,null,null,null,null,null,878.29178003543404,{"$f":"2*PI()*R342/B56","v":0.11496812516115093},1.320311731646194E-2,-6.3110146307131743E-2,-0.37347534107549762,12.411186278407101,1.1253089724935528,-6.3785981167643335E-3,13.093531165401259]
[null,null,null,null,null,null,null,null,null,null,null,null,null,null,null,null,null,895.85761563614278,{"$f":"2*PI()*R343/B56","v":0.11726748766437393},1.373591186397378E-2,-6.0610116097528532E-2,-0.35606092364392339,12.988446656961379,1.1672945423095165,-6.6413598367207616E-3,13.732428799692723]
[null,null,null,null,null,null,null,null,null,null,null,null,null,null,null,null,null,913.7747679488657,{"$f":"2*PI()*R344/B56","v":0.11961283741766143},1.4290180936875167E-2,-5.8210554644716694E-2,-0.33956909707922023,13.543621114534709,1.2107290692821504,-6.9150247017704114E-3,14.349655507391152]
[null,null,null,null,null,null,null,null,null,null,null,null,null,null,null,null,null,932.05026330784301,{"$f":"2*PI()*R345/B56","v":0.12200509416601465},1.4866787956559041E-2,-5.5907298848062226E-2,-0.32394204582072916,14.05161996680485,1.2556549035059277,-7.2000573057615647E-3,14.920225468336225]
[null,null,null,null,null,null,null,null,null,null,null,null,null,null,null,null,null,950.69126857399988,{"$f":"2*PI()*R346/B56","v":0.12444519604933496},1.5466630884978331E-2,-5.3696367614691098E-2,-0.30912627391705882,14.481072082607668,1.3021151910556448,-7.4969430506850454E-3,15.412867689080878]
[null,null,null,null,null,null,null,null,null,null,null,null,null,null,null,null,null,969.70509394547992,{"$f":"2*PI()*R347/B56","v":0.12693409997032165},1.6090643591968629E-2,-5.1573953195465094E-2,-0.29507222855381343,14.797498750853471,1.3501538688174168,-7.8061891619689572E-3,15.793200248759641]
[null,null,null,null,null,null,null,null,null,null,null,null,null,null,null,null,null,989.09919582438954,{"$f":"2*PI()*R348/B56","v":0.12947278196972808},1.6739797275499173E-2,-4.953641298433098E-2,-0.28173396071650814,14.969824642759079,1.3998156589821811,-8.1283257600421877E-3,16.030241602280377]
[null,null,null,null,null,null,null,null,null,null,null,null,null,null,null,null,null,1008.8811797408773,{"$f":"2*PI()*R349/B56","v":0.13206223760912264},1.7415101936800619E-2,-4.7580261752713682E-2,-0.2690688189419248,14.978782209697272,1.4511460633404578,-8.4639069918108767E-3,16.104815285351282]
[null,null,null,null,null,null,null,null,null,null,null,null,null,null,null,null,null,1029.0588033356948,{"$f":"2*PI()*R350/B56","v":0.13470348236130511},1.8117607912381276E-2,-4.5702164292592329E-2,-0.25703717259007419,14.823269784880573,1.5041913575362411,-8.8135122259576093E-3,16.015908293308193]
[null,null,null,null,null,null,null,null,null,null,null,null,null,null,null,null,null,1049.6399794024087,{"$f":"2*PI()*R351/B56","v":0.13739755200853121},1.8848407465007933E-2,-4.3898928443894647E-2,-0.24560216148748992,14.52074123678452,1.5589985854577222,-9.1777473162903966E-3,15.781060984994568]
[null,null,null,null,null,null,null,null,null,null,null,null,null,null,null,null,null,1070.6327789904569,{"$f":"2*PI()*R352/B56","v":0.14014550304870182},1.9608636435793199E-2,-4.2167498483202337E-2,-0.2347294691576991,14.101365884327372,1.6156155539629005,-9.5572459376673802E-3,15.430527224711703]
[null,null,null,null,null,null,null,null,null,null,null,null,null,null,null,null,null,1092.045434570266,{"$f":"2*PI()*R353/B56","v":0.14294841310967588},2.0399475959597967E-2,-4.0504948852550626E-2,-0.22438711717514082,13.599624571293699,1.674090828159116,-9.9526709993955631E-3,14.998870662425729]
[null,null,null,null,null,null,null,null,null,null,null,null,null,null,null,null,null,1113.8863432616713,{"$f":"2*PI()*R354/B56","v":0.14580738137186938},2.1222154246025651E-2,-3.8908478208483643E-2,-0.21454527845884286,13.047461068700919,1.7344737274766144,-1.0364716141381569E-2,14.518116323368826]
[null,null,null,null,null,null,null,null,null,null,null,null,null,null,null,null,null,1136.1640701269048,{"$f":"2*PI()*R355/B56","v":0.14872352899930677},2.2077948428353839E-2,-3.7375403772699656E-2,-0.20517610756869686,12.470738829560986,1.7968143227977524,-1.0794107318719881E-2,14.014207533698622]
[null,null,null,null,null,null,null,null,null,null,null,null,null,null,null,null,null,1158.8873515294429,{"$f":"2*PI()*R356/B56","v":0.15169799957929292},2.2968186482818863E-2,-3.5903155966920508E-2,-0.19625358628302791,11.888509260091332,1.8611634349245767,-1.1241604480869194E-2,13.506274348285093]
[null,null,null,null,null,null,null,null,null,null,null,null,null,null,null,null,null,1182.0650985600319,{"$f":"2*PI()*R357/B56","v":0.15473195957087876},2.3894249220739332E-2,-3.4489273316047786E-2,-0.18775338292671506,11.31382748064901,1.9275726346885911,-1.1708003352064456E-2,13.007449455742774]
[null,null,null,null,null,null,null,null,null,null,null,null,null,null,null,null,null,1205.7064005312325,{"$f":"2*PI()*R358/B56","v":0.15782659876229638},2.4857572356036303E-2,-3.3131397603966661E-2,-0.17965272408626021,10.755086286820628,1.9960942450269226,-1.2194137320147513E-2,12.526202272837176]
[null,null,null,null,null,null,null,null,null,null,null,null,null,null,null,null,null,1229.8205285418571,{"$f":"2*PI()*R359/B56","v":0.16098313073754228},2.5859648650779169E-2,-3.1827269268308811E-2,-0.17193027749665646,10.217311737944801,2.0667813453687067,-1.270087944159215E-2,12.06763465710695]
[null,null,null,null,null,null,null,null,null,null,null,null,null,null,null,null,null,1254.4169391126943,{"$f":"2*PI()*R360/B56","v":0.16420279335229312},2.690203014145915E-2,-3.0574723020500016E-2,-0.16456604501444971,9.7032129565950314,2.1396877786941442,-1.3229144571154983E-2,11.634530822683072]
[null,null,null,null,null,null,null,null,null,null,null,null,null,null,null,null,null,1279.5052778949482,{"$f":"2*PI()*R361/B56","v":0.16748684921933898},2.7986330448763912E-2,-2.9371683678895977E-2,-0.15754126470776342,9.2139590940355127,2.214868161645585,-1.3779891625276708E-2,11.228134415669162]
[null,null,null,null,null,null,null,null,null,null,null,null,null,null,null,null,null,1305.0953834528473,{"$f":"2*PI()*R362/B56","v":0.1708365862037258},2.9114227173699672E-2,-2.8216162203236195E-2,-0.15083832119530527,8.7497255630117401,2.2923778980853973,-1.4354125989144428E-2,10.848694851709453]
[null,null,null,null,null,null,null,null,null,null,null,null,null,null,null,null,null,1331.1972911219043,{"$f":"2*PI()*R363/B56","v":0.17425331792780033},3.0287464382978867E-2,-2.7106251919466473E-2,-0.14444066345741291,8.3100662314397056,2.372273196508468,-1.4952902078174901E-2,10.495839610493119]
[null,null,null,null,null,null,null,null,null,null,null,null,null,null,null,null,null,1357.8212369443424,{"$f":"2*PI()*R364/B56","v":0.17773838428635633},3.1507855186662978E-2,-2.6040124924680441E-2,-0.13833272942222052,7.8941618859600631,2.4546110917275721,-1.5577326065596919E-2,10.168822797275137]
[null,null,null,null,null,null,null,null,null,null,null,null,null,null,null,null,null,1384.9776616832294,{"$f":"2*PI()*R365/B56","v":0.18129315197208348},3.2777284411120419E-2,-2.5016028662648182E-2,-0.13249987670131347,7.5009836088521737,2.539449471257238,-1.6228558788848657E-2,9.866688615956603]
[null,null,null,null,null,null,null,null,null,null,null,null,null,null,null,null,null,1412.6772149168939,{"$f":"2*PI()*R366/B56","v":0.18491901501152513},3.4097711370428697E-2,-2.4032282660645166E-2,-0.12692831891280676,7.1293987696126564,2.6268471068254824,-1.6907818848622469E-2,9.5883774560160653]
[null,null,null,null,null,null,null,null,null,null,null,null,null,null,null,null,null,1440.9307592152318,{"$f":"2*PI()*R367/B56","v":0.18861739531175564},3.5471172739418258E-2,-2.308727541933564E-2,-0.12160506708604046,6.77823876774033,2.7168636914422004,-1.7616385915619759E-2,9.3327937307615336]
[null,null,null,null,null,null,null,null,null,null,null,null,null,null,null,null,null,1469.7493743995365,{"$f":"2*PI()*R368/B56","v":0.19238974321799074},3.6899785531620009E-2,-2.2179461447567661E-2,-0.11651787569254779,6.4463414775511261,2.8095598824475347,-1.8355604261437453E-2,9.0988484185971075]
[null,null,null,null,null,null,null,null,null,null,null,null,null,null,null,null,null,1499.1443618875271,{"$f":"2*PI()*R369/B56","v":0.19623753808235056},3.8385750185442977E-2,-2.1307358434537349E-2,-0.11165519289264836,6.1325770600447065,2.9049973509523497,-1.9126886531523279E-2,8.8854849731383467]
[null,null,null,null,null,null,null,null,null,null,null,null,null,null,null,null,null,1529.1272491252778,{"$f":"2*PI()*R370/B56","v":0.20016228884399759},3.9931353761967638E-2,-2.0469544552373264E-2,-0.10700611462730691,5.8358629034874276,3.0032388380650143,-1.9931717779743563E-2,8.6916943645930189]
[null,null,null,null,null,null,null,null,null,null,null,null,null,null,null,null,null,1559.7097941077834,{"$f":"2*PI()*R371/B56","v":0.20416553462087755},4.1538973257797873E-2,-1.9664655882319693E-2,-0.10256034222053145,5.5551715111571554,3.1043482182730662,-2.0771659785980168E-2,8.5165230715413909]
[null,null,null,null,null,null,null,null,null,null,null,null,null,null,null,null,null,1590.9039899899392,{"$f":"2*PI()*R372/B56","v":0.20824884531329513},{"$f":"4*(SIN(S372/2))^2","v":4.3211079036466427E-2},{"$f":"10*LOG10(($G$116+$G$117+$G$118)^2 + ( $G$116*$G$118*T372 - ($G$117*($G$116+$G$118) + 4*$G$116*$G$118) )*T372 )  - 10*LOG10( (1+$G$119+$G$120)^2 + ( 1*$G$120*T372 - ($G$119*(1+$G$120) + 4*1*$G$120) )*T372)","v":-1.8891383958354879E-2},{"$f":"10*LOG10(($G$121+$G$122+$G$123)^2 + ( $G$121*$G$123*$T372 - ($G$122*($G$121+$G$123) + 4*$G$121*$G$123) )*$T372 )  - 10*LOG10( (1+$G$124+$G$125)^2 + ( 1*$G$125*$T372 - ($G$124*(1+$G$125) + 4*1*$G$125) )*$T372)","v":-9.8308143189889563E-2},{"$f":"10*LOG10(($G$126+$G$127+$G$128)^2 + ( $G$126*$G$128*$T372 - ($G$127*($G$126+$G$128) + 4*$G$126*$G$128) )*$T372 )  - 10*LOG10( (1+$G$129+$G$130)^2 + ( 1*$G$130*$T372 - ($G$129*(1+$G$130) + 4*1*$G$130) )*$T372)","v":5.2895338619399723},{"$f":"10*LOG10(($G$131+$G$132+$G$133)^2 + ( $G$131*$G$133*$T372 - ($G$132*($G$131+$G$133) + 4*$G$131*$G$133) )*$T372 )  - 10*LOG10( (1+$G$134+$G$135)^2 + ( 1*$G$135*$T372 - ($G$134*(1+$G$135) + 4*1*$G$135) )*$T372)","v":3.2083905703135516},{"$f":"10*LOG10(($G$136+$G$137+$G$138)^2 + ( $G$136*$G$138*$T372 - ($G$137*($G$136+$G$138) + 4*$G$136*$G$138) )*$T372 )  - 10*LOG10( (1+$G$139+$G$140)^2 + ( 1*$G$140*$T372 - ($G$139*(1+$G$140) + 4*1*$G$140) )*$T372)","v":-2.1648355680152109E-2},{"$f":"U372+V372+W372+X372+Y372","v":8.3590765494251258}]
[null,null,null,null,null,null,null,null,null,null,null,null,null,null,null,null,null,1622.722069789738,{"$f":"2*PI()*R373/B56","v":0.21241382221956101},4.4950238381937013E-2,-1.8148473422264999E-2,-9.4240314991164809E-2,5.0380399115983394,3.3154322558204887,-2.2563534898279114E-2,8.2185198441071208]
[null,null,null,null,null,null,null,null,null,null,null,null,null,null,null,null,null,1655.1765111855329,{"$f":"2*PI()*R374/B56","v":0.21666209866395225},4.6759119177787301E-2,-1.7434719784574781E-2,-9.0348151449234138E-2,4.7998373335399798,3.4255410059798379,-2.3519018498689315E-2,8.0940764497873197]
[null,null,null,null,null,null,null,null,null,null,null,null,null,null,null,null,null,1688.2800414092437,{"$f":"2*PI()*R375/B56","v":0.22099534063723134},4.8640493715693463E-2,-1.6748967286179806E-2,-8.6623411650251114E-2,4.574129220353889,3.5387860163495741,-2.4516724869171558E-2,7.9850261328978611]
[null,null,null,null,null,null,null,null,null,null,null,null,null,null,null,null,null,1722.0456422374286,{"$f":"2*PI()*R376/B56","v":0.22541524744997599},5.0597242636864756E-2,-1.6090106855525477E-2,-8.3058291090949865E-2,4.360171216664213,3.6552380499117882,-2.5558675858932789E-2,7.8907021927705934]
[null,null,null,null,null,null,null,null,null,null,null,null,null,null,null,null,null,1756.4865550821773,{"$f":"2*PI()*R377/B56","v":0.22992355239897547},5.2632359010096622E-2,-1.5457074156806527E-2,-7.964539489974598E-2,4.1572683873049812,3.774969548311816,-2.6647003372537226E-2,7.8104884631877072]
[null,null,null,null,null,null,null,null,null,null,null,null,null,null,null,null,null,1791.6162861838209,{"$f":"2*PI()*R378/B56","v":0.23452202344695502},5.4748952550121445E-2,-1.4848847724667991E-2,-7.6377712961004818E-2,3.9647720142317873,3.8980547511019452,-2.7783956466779669E-2,7.7438162481812798]
[null,null,null,null,null,null,null,null,null,null,null,null,null,null,null,null,null,1827.4486119074973,{"$f":"2*PI()*R379/B56","v":0.2392124639158941},5.6950253979935361E-2,-1.4264447181218998E-2,-7.3248596789117215E-2,3.7820764422885951,4.024569822638683,-2.8971908995565565E-2,7.6901613119613765]
[null,null,null,null,null,null,null,null,null,null,null,null,null,null,null,null,null,1863.9975841456471,{"$f":"2*PI()*R380/B56","v":0.24399671319421198},5.9239619540769083E-2,-1.3702931531405227E-2,-7.0251738012675702E-2,3.6086160455445402,4.154592986076687,-3.0213367852517159E-2,7.6490409942246291]
[null,null,null,null,null,null,null,null,null,null,null,null,null,null,null,null,null,1901.2775358285601,{"$f":"2*PI()*R381/B56","v":0.24887664745809621},6.1620535653343314E-2,-1.316339753301321E-2,-6.7381148341379316E-2,3.4438623541563871,4.2882046636503173,-3.1510981866192056E-2,7.62001149006612]
[null,null,null,null,null,null,null,null,null,null,null,null,null,null,null,null,null,1939.3030865451312,{"$f":"2*PI()*R382/B56","v":0.2538541804072581},6.409662373401126E-2,-1.2644978137728913E-2,-6.4631140899535922E-2,3.2873213610847856,4.425487622126095,-3.2867551408532591E-2,7.6026653127650832]
[null,null,null,null,null,null,null,null,null,null,null,null,null,null,null,null,null,1978.0891482760339,{"$f":"2*PI()*R383/B56","v":0.25893126401540328},6.6671645169332772E-2,-1.2146840999875508E-2,-6.1996312820028265E-2,3.1385310148069792,4.5665271219325074,-3.4286038783654549E-2,7.5966289441359285]
[null,null,null,null,null,null,null,null,null,null,null,null,null,null,null,null,null,2017.6509312415546,{"$f":"2*PI()*R384/B56","v":0.26410988929571133},6.9349506452550017E-2,-1.1668187049661327E-2,-5.9471529001861256E-2,2.9970588959443027,4.7114110680126844,-3.5769579471263802E-2,7.6015606684342005]
[null,null,null,null,null,null,null,null,null,null,null,null,null,null,null,null,null,2058.0039498663859,{"$f":"2*PI()*R385/B56","v":0.2693920870816256},7.2134264485340174E-2,-1.1208249127999892E-2,-5.705190694261475E-2,2.862500070792855,4.8602301598801407,-3.7321494307077652E-2,7.6171485802953036]
[null,null,null,null,null,null,null,null,null,null,null,null,null,null,null,null,null,2099.1640288637136,{"$f":"2*PI()*R386/B56","v":0.27477992882325813},7.5030132048100939E-2,-1.076629067987156E-2,-5.4732802564700478E-2,2.7344751119865087,5.0130780376643589,-3.8945302691730133E-2,7.6431087537145652]
[null,null,null,null,null,null,null,null,null,null,null,null,null,null,null,null,null,2141.147309440988,{"$f":"2*PI()*R387/B56","v":0.28027552739972333},7.8041483441884316E-2,-1.0341604503686597E-2,-5.2509796961054178E-2,2.6126282751763519,5.1700514200807142,-4.0644736929793979E-2,7.6791835568625313]
[null,null,null,null,null,null,null,null,null,null,null,null,null,null,null,null,null,2183.970255629808,{"$f":"2*PI()*R388/B56","v":0.2858810379477178},8.117286030492199E-2,-9.9335115539638252E-3,-5.0378683992207129E-2,2.4966258201714879,5.331250229210573,-4.242375781207075E-2,7.7251400960238197]
[null,null,null,null,null,null,null,null,null,null,null,null,null,null,null,null,null,2227.6496607424042,{"$f":"2*PI()*R389/B56","v":0.29159865870667218},8.442897760648703E-2,-9.541359794958737E-3,-4.8335458672173814E-2,2.3861544651115665,5.4967776956855312,-4.4286571567200506E-2,7.7807687707627649]
[null,null,null,null,null,null,null,null,null,null,null,null,null,null,null,null,null,2272.2026539572521,{"$f":"2*PI()*R390/B56","v":0.2974306318808056},8.7814729820601997E-2,-9.16452310285365E-3,-4.6376306285825564E-2,2.2809199627046937,5.6667404362760188,-4.6237648323257829E-2,7.8458819212687754]
[null,null,null,null,null,null,null,null,null,null,null,null,null,null,null,null,null,2317.6467070363974,{"$f":"2*PI()*R391/B56","v":0.30337924451842174},9.1335197281834812E-2,-8.8024002143605173E-3,-4.4497592185031465E-2,2.1806457882152621,5.8412484939164937,-4.8281742236475078E-2,7.9203125474958886]
[null,null,null,null,null,null,null,null,null,null,null,null,null,null,null,null,null,2363.9996411771253,{"$f":"2*PI()*R392/B56","v":0.30944682940879015},9.4995652725112775E-2,-8.454413719636733E-3,-4.2695852215121732E-2,2.0850719296268458,6.0204153277661741,-5.042391346291808E-2,8.0039130779953425]
[null,null,null,null,null,null,null,null,null,null,null,null,null,null,null,null,null,2411.279634000668,{"$f":"2*PI()*R393/B56","v":0.31563576599696597},9.8801568011132948E-2,-8.120009097506653E-3,-4.0967783726994611E-2,1.9939537711730395,6.2043577378937496,-5.2669552170086065E-2,8.0965541640722023]
[null,null,null,null,null,null,null,null,null,null,null,null,null,null,null,null,null,2459.5052266806815,{"$f":"2*PI()*R394/B56","v":0.32194848131690534},0.10275862103854438,-7.7986537911129972E-3,-3.9310237133928894E-2,1.9070610621852957,6.3931957054459154,-5.502440480945392E-2,8.1981234718967144]
[null,null,null,null,null,null,null,null,null,null,null,null,null,null,null,null,null,2508.695331214295,{"$f":"2*PI()*R395/B56","v":0.3283874509432434},0.10687270284362427,-7.4898363221755915E-3,-3.7720207975212361E-2,1.8241769639282417,6.5870521245398779,-5.7494602898247038E-2,8.3085244412724837]
[null,null,null,null,null,null,null,null,null,null,null,null,null,null,null,null,null,2558.8692378385808,{"$f":"2*PI()*R396/B56","v":0.33495519996210826},0.11114992488766035,-7.193065442198332E-3,-3.619482945169139E-2,1.7450971677669074,6.7860523963932478,-6.0086694589943979E-2,8.4276749746763215]
[null,null,null,null,null,null,null,null,null,null,null,null,null,null,null,null,null,2610.0466225953523,{"$f":"2*PI()*R397/B56","v":0.34165430396135038},0.11559662653167505,-6.9078693189759122E-3,-3.4731365401100334E-2,1.6696290786318215,6.9903238491049127,-6.2807679348405698E-2,8.5555060136682517]
[null,null,null,null,null,null,null,null,null,null,null,null,null,null,null,null,null,2662.2475550472595,{"$f":"2*PI()*R398/B56","v":0.34848739004057749},0.12021938269749065,-6.6337947567802757E-3,-3.3327203683409579E-2,1.5975910583144177,7.1999949377010672,-6.5665046081217149E-2,8.6919599514940771]
[null,null,null,null,null,null,null,null,null,null,null,null,null,null,null,null,null,2715.4925061482049,{"$f":"2*PI()*R399/B56","v":0.35545713784138905},0.12502501171341324,-6.3704064488980805E-3,-3.1979849948754691E-2,1.5288117236393042,7.4151941681597151,-6.8666815134214687E-2,8.8369888202671518]
[null,null,null,null,null,null,null,null,null,null,null,null,null,null,null,null,null,2769.8023562711692,{"$f":"2*PI()*R400/B56","v":0.36256628059821683},0.13002058334202329,-6.1172862609666367E-3,-3.0686921762622887E-2,1.4631292950234887,7.6360486756406392,-7.18215846025404E-2,8.9905521780379978]
[null,null,null,null,null,null,null,null,null,null,null,null,null,null,null,null,null,2825.1984033965928,{"$f":"2*PI()*R401/B56","v":0.36981760621018117},0.13521342698667124,-5.8740325438471075E-3,-2.9446143064667751E-2,1.4003909913496742,7.8626823704911102,-7.5138581474785138E-2,9.1526146047574848]
[null,null,null,null,null,null,null,null,null,null,null,null,null,null,null,null,null,2881.7023714645247,{"$f":"2*PI()*R402/B56","v":0.37721395833438481},0.14061114007230219,-5.6402594747737567E-3,-2.8255338939569441E-2,1.3404524674557017,8.0952135450827392,-7.8627718197354479E-2,9.3231426959267427]
[null,null,null,null,null,null,null,null,null,null,null,null,null,null,null,null,null,2939.3364188938153,{"$f":"2*PI()*R403/B56","v":0.38475823750107258},0.14622159659514883,-5.4155964254931632E-3,-2.7112430679679278E-2,1.2831772908781645,8.3337518093638074,-8.2299655327569776E-2,9.5021014178092305]
[null,null,null,null,null,null,null,null,null,null,null,null,null,null,null,null,null,2998.1231472716918,{"$f":"2*PI()*R404/B56","v":0.39245340225109399},0.15205295583463849,-5.1996873562991652E-3,-2.601543112086091E-2,1.2284364547901419,8.5783941922940414,-8.6165871038109132E-2,9.6894496575689146]
[null,null,null,null,null,null,null,null,null,null,null,null,null,null,null,null,null,3058.0856102171256,{"$f":"2*PI()*R405/B56","v":0.40030247029611588},0.15811367121954539,-4.9921902348124547E-3,-2.4962440234116201E-2,1.1761079243439134,8.8292202091193168,-9.0238738344402325E-2,9.8851347646498997]
[null,null,null,null,null,null,null,null,null,null,null,null,null,null,null,null,null,3119.2473224214682,{"$f":"2*PI()*R406/B56","v":0.40830851970203819},0.16441249933896951,-4.7927764784958526E-3,-2.3951640957024622E-2,1.1260762138727998,9.0862856498299962,-9.4531611053178088E-2,10.089085835214098]
[null,null,null,null,null,null,null,null,null,null,null,null,null,null,null,null,null,3181.6322688698974,{"$f":"2*PI()*R407/B56","v":0.41647469009607896},0.17095850908713764,-4.6011304198483316E-3,-2.2981295249957512E-2,1.0782319926255077,9.3496147914132823,-9.9058919577566074E-2,10.301205438791419]
[null,null,null,null,null,null,null,null,null,null,null,null,null,null,null,null,null,3245.2649142472956,{"$f":"2*PI()*R408/B56","v":0.42480418389800056},0.17776109092927558,-4.4169487933416463E-3,-2.2049740363298653E-2,1.0324717169035083,9.6191906754277365,-0.10383627793596434,10.521359425238639]
[null,null,null,null,null,null,null,null,null,null,null,null,null,null,null,null,null,3310.1702125322417,{"$f":"2*PI()*R409/B56","v":0.43330026757596063},0.18482996627389381,-4.2399402431794186E-3,-2.1155385302655816E-2,0.988697286650007,9.8949430237414546,-0.10888060345256773,10.749364381393059]
[null,null,null,null,null,null,null,null,null,null,null,null,null,null,null,null,null,3376.3736167828865,{"$f":"2*PI()*R410/B56","v":0.44196627292747986},0.19217519693473809,-4.0698248510082635E-3,-2.0296707480138565E-2,0.94681572470017628,10.176733291486004,-0.11421025091268788,10.984972232942345]
[null,null,null,null,null,null,null,null,null,null,null,null,null,null,null,null,null,3443.9010891185444,{"$f":"2*PI()*R411/B56","v":0.4508055983860294},0.1998071946633759,-3.9063336827371842E-3,-1.9472249540488207E-2,0.9067388770478253,10.464336282875003,-0.11984516320230626,11.227851413497296]
[null,null,null,null,null,null,null,null,null,null,null,null,null,null,null,null,null,3512.7791109009154,{"$f":"2*PI()*R412/B56","v":0.45982171035375002},0.20773673073089777,-3.749208353644562E-3,-1.8680616351630874E-2,0.86838313261591082,10.757417692845291,-0.12580704078662894,11.477563959969297]
[null,null,null,null,null,null,null,null,null,null,null,null,null,null,null,null,null,3583.0346931189338,{"$f":"2*PI()*R413/B56","v":0.46901814456082502},0.21597494553449634,-3.5982006110515385E-3,-1.7920472149979716E-2,0.83166916113842504,11.055506903349032,-0.13211953276659702,11.73353785895983]
[null,null,null,null,null,null,null,null,null,null,null,null,null,null,null,null,null,3654.6953869813124,{"$f":"2*PI()*R414/B56","v":0.47839850745204154},0.22453335820173187,-3.4530719337944049E-3,-1.7190537831373476E-2,0.79652166787033529,11.357964386615983,-0.1388084527070936,11.995033992014056]
[null,null,null,null,null,null,null,null,null,null,null,null,null,null,null,null,null,3727.7892947209389,{"$f":"2*PI()*R415/B56","v":0.48796647760108242},0.23342387616207172,-3.3135931478209812E-3,-1.648958837925818E-2,0.76286916394198556,11.663943193786229,-0.14590202297048924,12.261107153230647]
[null,null,null,null,null,null,null,null,null,null,null,null,null,null,null,null,null,3802.3450806153578,{"$f":"2*PI()*R416/B56","v":0.49772580715310405},0.24265880465179851,-3.1795440572253142E-3,-1.5816450422180495E-2,0.7306437512651982,11.972344302109679,-0.15343115193205448,12.530560906963418]
[null,null,null,null,null,null,null,null,null,null,null,null,null,null,null,null,null,3878.3919822276648,{"$f":"2*PI()*R417/B56","v":0.50768032329616619},0.2522508561145837,-3.050713090086532E-3,-1.516999991320489E-2,0.69978092098154399,12.281766149048771,-0.16142974922128761,12.801896607805736]
[null,null,null,null,null,null,null,null,null,null,null,null,null,null,null,null,null,3955.9598218722181,{"$f":"2*PI()*R418/B56","v":0.51783392976208942},0.2622131594559064,-2.9268969585327653E-3,-1.4549159924399646E-2,0.67021936451931907,12.590449614382573,-0.16993508505270913,13.073257836966251]
[null,null,null,null,null,null,null,null,null,null,null,null,null,null,null,null,null,4035.0790183096624,{"$f":"2*PI()*R419/B56","v":0.52819060835733123},0.27255926910503731,-2.8079003323782104E-3,-1.395289854988313E-2,0.64190079639556963,12.896221154370025,-0.17898820081426697,13.342372951069066]
[null,null,null,null,null,null,null,null,null,null,null,null,null,null,null,null,null,4115.7805986758558,{"$f":"2*PI()*R420/B56","v":0.53875442052447786},0.28330317383347381,-2.6935355258466132E-3,-1.3380226911438697E-2,0.61476978796359205,13.196438861900905,-0.18863437941321998,13.606500508013992]
[null,null,null,null,null,null,null,null,null,null,null,null,null,null,null,null,null,4198.0962106493726,{"$f":"2*PI()*R421/B56","v":0.54952950893496733},0.29445930527349246,-2.5836221967843187E-3,-1.2830197261038734E-2,0.58877361136516626,13.487948958317588,-0.19892368548987652,13.862385064735054]
[null,null,null,null,null,null,null,null,null,null,null,null,null,null,null,null,null,4282.05813486236,{"$f":"2*PI()*R422/B56","v":0.56052009911366674},0.30604254607483716,-2.4779870579223484E-3,-1.2301901174915031E-2,0.56386209300093171,13.767063455968295,-0.20991158756439493,14.106234073171994]
[null,null,null,null,null,null,null,null,null,null,null,null,null,null,null,null,null,4367.6992975596077,{"$f":"2*PI()*R423/B56","v":0.57173050109594015},0.31806823763146813,-2.3764635996297301E-3,-1.1794467834285172E-2,0.53998747588222074,14.029572950289364,-0.22165967656272262,14.333729818174946]
[null,null,null,null,null,null,null,null,null,null,null,null,null,null,null,null,null,4455.0532835107997,{"$f":"2*PI()*R424/B56","v":0.58316511111785896},0.3305521873037241,-2.2788918237033329E-3,-1.1307062388031142E-2,0.51710429027352767,14.270810670695454,-0.23423649807864561,14.540092508678601]
[null,null,null,null,null,null,null,null,null,null,null,null,null,null,null,null,null,4544.1543491810162,{"$f":"2*PI()*R425/B56","v":0.59482841334021619},0.34351067505416871,-2.1851179877909743E-3,-1.083888439294789E-2,0.4951692320772878,14.485783425992127,-0.24771851930112754,14.720210136387548]
[null,null,null,null,null,null,null,null,null,null,null,null,null,null,null,null,null,4635.0374361646363,{"$f":"2*PI()*R426/B56","v":0.60672498160702049},0.35696045940776822,-2.0949943599557486E-3,-1.0389166327492205E-2,0.47414104845159244,14.669379970584389,-0.26219125593755221,14.868845602410982]
[null,null,null,null,null,null,null,null,null,null,null,null,null,null,null,null,null,4727.7381848879295,{"$f":"2*PI()*R427/B56","v":0.6188594812391609},0.37091878263884859,-2.0083789830227516E-3,-9.9571721751043896E-3,0.45398043018782275,14.816656054563287,-0.277750589908627,14.980920343684357]
[null,null,null,null,null,null,null,null,null,null,null,null,null,null,null,null,null,4822.2929485856885,{"$f":"2*PI()*R428/B56","v":0.63123667086394419},0.38540337507847511,-1.9251354482765493E-3,-9.5421960735446731E-3,0.43464991040833922,14.923178153392383,-0.29450431535584998,15.051856416923052]
[null,null,null,null,null,null,null,null,null,null,null,null,null,null,null,null,null,4918.7388075574027,{"$f":"2*PI()*R429/B56","v":0.64386140428122307},0.40043245842644204,-1.8451326781345756E-3,-9.1435610267716072E-3,0.41611376917543197,14.985387756038925,-0.31257395894433848,15.077938872565113]
[null,null,null,null,null,null,null,null,null,null,null,null,null,null,null,null,null,5017.1135837085512,{"$f":"2*PI()*R430/B56","v":0.65673863236684771},0.41602474794193034,-1.7682447174749427E-3,-8.760617676192517E-3,0.39833794363121022,15.000931575604548,-0.33209693102615834,15.056643725815935]
[null,null,null,null,null,null,null,null,null,null,null,null,null,null,null,null,null,5117.4558553827219,{"$f":"2*PI()*R431/B56","v":0.66987340501418458},0.43219945337603416,-1.6943505332154274E-3,-8.3927431282386777E-3,0.38128994331460841,14.968898025991056,-0.3532290775570186,14.986871798087192]
[null,null,null,null,null,null,null,null,null,null,null,null,null,null,null,null,null,5219.8049724903767,{"$f":"2*PI()*R432/B56","v":0.68327087311446832},0.44897627849775534,-1.6233338218487603E-3,-8.0393398353981738E-3,0.36493877032616773,14.889912146325976,-0.37614771952681725,14.86904052346808]
[null,null,null,null,null,null,null,null,null,null,null,null,null,null,null,null,null,5324.2010719401842,{"$f":"2*PI()*R433/B56","v":0.69693629057675766},0.46637541905265373,-1.5550828246109205E-3,-7.6998345280836489E-3,0.34925484403398332,14.766068686347525,-0.40105528811980373,14.705013324909011]
[null,null,null,null,null,null,null,null,null,null,null,null,null,null,null,null,null,5430.6850933789883,{"$f":"2*PI()*R434/B56","v":0.71087501638829298},0.48441755898011357,-1.4894901499609148E-3,-7.37367719471127E-3,0.3342099300351915,14.60071772630015,-0.42818369125406619,14.497880797736602]
[null,null,null,null,null,null,null,null,null,null,null,null,null,null,null,null,null,5539.2987952465683,{"$f":"2*PI()*R435/B56","v":0.72509251671605879},0.50312386470107262,-1.4264526031073643E-3,-7.0603401077073968E-3,0.31977707310699532,14.398146787536234,-0.45779958241895402,14.251637485513461]
[null,null,null,null,null,null,null,null,null,null,null,null,null,null,null,null,null,5650.0847711514998,{"$f":"2*PI()*R436/B56","v":0.73959436705037995},{"$f":"4*(SIN(S436/2))^2","v":0.52251597727305588},{"$f":"10*LOG10(($G$116+$G$117+$G$118)^2 + ( $G$116*$G$118*T436 - ($G$117*($G$116+$G$118) + 4*$G$116*$G$118) )*T436 )  - 10*LOG10( (1+$G$119+$G$120)^2 + ( 1*$G$120*T436 - ($G$119*(1+$G$120) + 4*1*$G$120) )*T436)","v":-1.365871022256826E-3},{"$f":"10*LOG10(($G$121+$G$122+$G$123)^2 + ( $G$121*$G$123*$T436 - ($G$122*($G$121+$G$123) + 4*$G$121*$G$123) )*$T436 )  - 10*LOG10( (1+$G$124+$G$125)^2 + ( 1*$G$125*$T436 - ($G$124*(1+$G$125) + 4*1*$G$125) )*$T436)","v":-6.7593168930919489E-3},{"$f":"10*LOG10(($G$126+$G$127+$G$128)^2 + ( $G$126*$G$128*$T436 - ($G$127*($G$126+$G$128) + 4*$G$126*$G$128) )*$T436 )  - 10*LOG10( (1+$G$129+$G$130)^2 + ( 1*$G$130*$T436 - ($G$129*(1+$G$130) + 4*1*$G$130) )*$T436)","v":0.30593053389920577},{"$f":"10*LOG10(($G$131+$G$132+$G$133)^2 + ( $G$131*$G$133*$T436 - ($G$132*($G$131+$G$133) + 4*$G$131*$G$133) )*$T436 )  - 10*LOG10( (1+$G$134+$G$135)^2 + ( 1*$G$135*$T436 - ($G$134*(1+$G$135) + 4*1*$G$135) )*$T436)","v":14.163218298308019},{"$f":"10*LOG10(($G$136+$G$137+$G$138)^2 + ( $G$136*$G$138*$T436 - ($G$137*($G$136+$G$138) + 4*$G$136*$G$138) )*$T436 )  - 10*LOG10( (1+$G$139+$G$140)^2 + ( 1*$G$140*$T436 - ($G$139*(1+$G$140) + 4*1*$G$140) )*$T436)","v":-0.49021074832579048},{"$f":"U436+V436+W436+X436+Y436","v":13.970812895966086}]
[null,null,null,null,null,null,null,null,null,null,null,null,null,null,null,null,null,5763.0864665745303,{"$f":"2*PI()*R437/B56","v":0.75438625439138751},0.54261600219338513,-1.3076501213937775E-3,-6.4701216415752327E-3,0.29264572913719178,13.901018978584164,-0.52577389117988904,13.660113044778498]
[null,null,null,null,null,null,null,null,null,null,null,null,null,null,null,null,null,5878.3481959060209,{"$f":"2*PI()*R438/B56","v":0.76947397947921536},0.56344649661451474,-1.2516983392192316E-3,-6.1922880591449569E-3,0.27989917511966755,13.616562655013906,-0.56490415895120671,13.324113684784004]
[null,null,null,null,null,null,null,null,null,null,null,null,null,null,null,null,null,5995.9151598241415,{"$f":"2*PI()*R439/B56","v":0.78486345906879973},0.58503045371749318,-1.1979276941369577E-3,-5.92536865521609E-3,0.26766843431023446,13.31456798704191,-0.60808687913732662,12.967026245865464]
[null,null,null,null,null,null,null,null,null,null,null,null,null,null,null,null,null,6115.8334630206245,{"$f":"2*PI()*R440/B56","v":0.80056072825017566},0.60739128397056774,-1.1462536449338145E-3,-5.6689339665929595E-3,0.25593206483509956,12.999314488293345,-0.65589208682047584,12.592539278696442]
[null,null,null,null,null,null,null,null,null,null,null,null,null,null,null,null,null,6238.1501322810373,{"$f":"2*PI()*R441/B56","v":0.8165719428151792},0.63055279297991873,-1.0965949569978761E-3,-5.4225718155169744E-3,0.24466957271185574,12.674567826469925,-0.7089926183230908,12.203725614086174]
[null,null,null,null,null,null,null,null,null,null,null,null,null,null,null,null,null,6362.9131349266581,{"$f":"2*PI()*R442/B56","v":0.83290338167148292},0.65453915561837772,-1.0488735738212185E-3,-5.1858866002025827E-3,0.23386136664584711,12.343559275363868,-0.76818678425828812,11.802999097577402]
[null,null,null,null,null,null,null,null,null,null,null,null,null,null,null,null,null,6490.1713976251913,{"$f":"2*PI()*R443/B56","v":0.84956144930491262},0.67937488609578478,-1.0030144936195029E-3,-4.9584986163466738E-3,0.22348871524146796,12.009003029821663,-0.83442696394007099,11.392103268013093]
[null,null,null,null,null,null,null,null,null,null,null,null,null,null,null,null,null,6619.9748255776949,{"$f":"2*PI()*R444/B56","v":0.86655267829101068},0.70508480361133641,-9.5894565081300343E-4,-4.7400434081734666E-3,0.21353370648579695,11.673136928479401,-0.90885591066274518,10.972115735243467]
[null,null,null,null,null,null,null,null,null,null,null,null,null,null,null,null,null,6752.3743220892493,{"$f":"2*PI()*R445/B56","v":0.88388373185683111},0.73169399320387563,-9.165978022274146E-4,-4.5301711476493089E-3,0.20397920937131486,11.337775256095629,-0.99285317267310758,10.543454523843959]
[null,null,null,null,null,null,null,null,null,null,null,null,null,null,null,null,null,6887.421808531034,{"$f":"2*PI()*R446/B56","v":0.90156140649396765},0.75922776139062065,-8.7590441781104644E-4,-4.3285460405813048E-3,0.19480883753321354,11.004365578463542,-1.0880948879660135,10.10587507757235]
[null,null,null,null,null,null,null,null,null,null,null,null,null,null,null,null,null,7025.1702447016551,{"$f":"2*PI()*R447/B56","v":0.9195926346238471},0.78771158615833758,-8.3680157568766234E-4,-4.1348457583914033E-3,0.18600691478484999,10.674044402292875,-1.1966314054462139,9.6584482642974319]
[null,null,null,null,null,null,null,null,null,null,null,null,null,null,null,null,null,7165.6736495956884,{"$f":"2*PI()*R448/B56","v":0.937984487316324},0.81717106084344482,-7.9922786139707824E-4,-3.9487608943771235E-3,0.17755844244254781,10.347688639991329,-1.3209888740440849,9.1995102196340177]
[null,null,null,null,null,null,null,null,null,null,null,null,null,null,null,null,null,7308.9871225876022,{"$f":"2*PI()*R449/B56","v":0.95674417706265047},0.84763183140915066,-7.6312427113034431E-4,-3.7699944434124166E-3,0.16944906833791684,10.02596140527098,-1.4643033575101043,8.72657399738425]
[null,null,null,null,null,null,null,null,null,null,null,null,null,null,null,null,null,7455.166865039354,{"$f":"2*PI()*R450/B56","v":0.9758790606039035},0.87911952659843684,-7.2843411884893072E-4,-3.5982613040055345E-3,0.16166505742250381,9.7093516782861276,-1.6304995352288749,8.2361905050569018]
[null,null,null,null,null,null,null,null,null,null,null,null,null,null,null,null,null,7604.2702023401416,{"$f":"2*PI()*R451/B56","v":0.99539664181598164},0.91165968041174184,-6.9510294710017906E-4,-3.4332878017531154E-3,0.15419326387569776,9.3982079914107146,-1.8245312089066648,7.723741655630894]
[null,null,null,null,null,null,null,null,null,null,null,null,null,null,null,null,null,7756.3556063869446,{"$f":"2*PI()*R452/B56","v":1.0153045746523013},0.94527764632761102,-6.6307844141788586E-4,-3.2748112332590118E-3,0.14702110463251983,9.0927666199390611,-2.0527085874360962,7.1831412474608074]
[null,null,null,null,null,null,null,null,null,null,null,null,null,null,null,null,null,7911.4827185146833,{"$f":"2*PI()*R453/B56","v":1.0356106661453472},0.97999850265360522,-6.3231034815056097E-4,-3.1225794296264042E-3,0.1401365342533431,8.7931749122691159,-2.3231492688810516,6.6064072878636306]
[null,null,null,null,null,null,null,null,null,null,null,null,null,null,null,null,null,8069.7123728849774,{"$f":"2*PI()*R454/B56","v":1.0563228794682542},1.0158469483635755,-6.0275039560904464E-4,-2.9763503386932635E-3,0.13352802106252479,8.4995104318628201,-2.6464088597421842,5.983050492448859]
[null,null,null,null,null,null,null,null,null,null,null,null,null,null,null,null,null,8231.1066203426763,{"$f":"2*PI()*R455/B56","v":1.0774493370576192},1.0528471887462794,-5.7435221839408079E-4,-2.8358916252179678E-3,0.1271845244876891,8.211796556782847,-3.0363787566732245,5.2991920807537003]
[null,null,null,null,null,null,null,null,null,null,null,null,null,null,null,null,null,8395.72875274953,{"$f":"2*PI()*R456/B56","v":1.0989983237987717},1.0910228101595392,-5.4707128480246947E-4,-2.7009802882642653E-3,0.12109547353573413,7.9300151233718843,-3.5115938992399833,4.5362686460945678]
[null,null,null,null,null,null,null,null,null,null,null,null,null,null,null,null,null,8563.6433278045206,{"$f":"2*PI()*R457/B56","v":1.1209782902747472},1.1303966431540791,-5.2086482718416427E-4,-2.5714022950840132E-3,0.1152507463457908,7.6541166281929822,-4.0971963537256428,3.6690787536908616]
[null,null,null,null,null,null,null,null,null,null,null,null,null,null,null,null,null,8734.9161943606105,{"$f":"2*PI()*R458/B56","v":1.143397856080242},1.1709906132022438,-4.9569177515351726E-4,-2.446952230805044E-3,0.10964065076321416,7.3840284281161175,-4.8280067714841515,2.6627196633892218]
[null,null,null,null,null,null,null,null,null,null,null,null,null,null,null,null,null,8909.6145182478231,{"$f":"2*PI()*R459/B56","v":1.1662658132018469},1.2128255782394879,-4.7151269156020525E-4,-2.3274329633293789E-3,0.10425590588233269,7.1196613086017866,-5.7536002106158204,1.4675180582134093]
[null,null,null,null,null,null,null,null,null,null,null,null,null,null,null,null,null,9087.8068086127805,{"$f":"2*PI()*R460/B56","v":1.1895911294658839},1.2559211522013749,-4.4828971110577598E-4,-2.2126553228074552E-3,9.9087624509114569E-2,6.8609147277209335,-6.9473138375338745,1.0027569662260483E-2]
[null,null,null,null,null,null,null,null,null,null,null,null,null,null,null,null,null,9269.562944785037,{"$f":"2*PI()*R461/B56","v":1.2133829520552017},1.3002955137165493,-4.2598648152836205E-4,-2.1024377951492923E-3,9.4127296498117019E-2,6.6076809892477382,-8.5236617558244845,-1.824381894355307]
[null,null,null,null,null,null,null,null,null,null,null,null,null,null,null,null,null,9454.9542036807379,{"$f":"2*PI()*R462/B56","v":1.2376506110963059},1.3459651990973944,-4.0456810727462766E-4,-1.9966062290301956E-3,8.9366772921210202E-2,6.3598485521688142,-10.674984445525441,-4.2281702947717212]
[null,null,null,null,null,null,null,null,null,null,null,null,null,null,null,null,null,9644.0532877543537,{"$f":"2*PI()*R463/B56","v":1.2624036233182321},1.392944878755813,-3.8400109555913886E-4,-1.8949935559091635E-3,8.4798251028396443E-2,6.117304645513717,-13.747851427346133,-7.5480275254554874]
[null,null,null,null,null,null,null,null,null,null,null,null,null,null,null,null,null,9836.9343535094413,{"$f":"2*PI()*R464/B56","v":1.2876516957845967},1.441247116162681,-3.6425330475875484E-4,-1.7974395225861528E-3,8.0414259963864421E-2,5.8799373256357326,-18.218324716174237,-12.260134823401986]
[null,null,null,null,null,null,null,null,null,null,null,null,null,null,null,null,null,10033.67304057963,{"$f":"2*PI()*R465/B56","v":1.3134047297002887},1.490882108467132,-3.4529389505166819E-4,-1.7037904358652156E-3,7.6207647203061946E-2,5.6476370870116757,-20.970118315252535,-15.248322665368715]
[null,null,null,null,null,null,null,null,null,null,null,null,null,null,null,null,null,10234.346501391223,{"$f":"2*PI()*R466/B56","v":1.3396728242942946},1.5418574078972029,-3.2709328124580495E-4,-1.613898918936485E-3,7.2171565679058691E-2,5.4202981163809918,-16.455697334378648,-10.96516864451878]
[null,null,null,null,null,null,null,null,null,null,null,null,null,null,null,null,null,10439.033431419048,{"$f":"2*PI()*R467/B56","v":1.3664662807801802},1.5941776230778815,-3.096230877401851E-4,-1.5276236790833231E-3,6.8299461568961384E-2,5.197819262793395,-12.371094038740324,-7.1068125611447908]
[null,null,null,null,null,null,null,null,null,null,null,null,null,null,null,null,null,10647.81410004743,{"$f":"2*PI()*R468/B56","v":1.3937956063957841},1.6478440994278321,-2.9285610554730113E-4,-1.4448292864086554E-3,6.4585062713506503E-2,4.9801047821730666,-9.5662467695667743,-4.5232946100721572]
[null,null,null,null,null,null,null,null,null,null,null,null,null,null,null,null,null,10860.770382048378,{"$f":"2*PI()*R469/B56","v":1.4216715185236999},1.7028545778337443,-2.7676625134454014E-4,-1.3653859632434262E-3,6.1022367645228393E-2,4.7670649037352462,-7.5604371605995713,-2.7339920414336847]
[null,null,null,null,null,null,null,null,null,null,null,null,null,null,null,null,null,11077.985789689346,{"$f":"2*PI()*R470/B56","v":1.4501049488941737},1.7592028308534169,-2.613285285057998E-4,-1.2891693839822693E-3,5.7605635202899741E-2,4.5586162565064416,-6.0701917343510328,-1.4555203405541794]
[null,null,null,null,null,null,null,null,null,null,null,null,null,null,null,null,null,11299.545505483133,{"$f":"2*PI()*R471/B56","v":1.4791070478720574},1.8168782757673636,-2.4651899006489231E-4,-1.2160604850945944E-3,5.4329374712191125E-2,4.3546821868890815,-4.9340016443345123,-0.52645266220839915]
[null,null,null,null,null,null,null,null,null,null,null,null,null,null,null,null,null,11525.536415592796,{"$f":"2*PI()*R472/B56","v":1.5086891888294987},1.875865563886441,-2.3231470358453521E-4,-1.1459452851179108E-3,5.1188336714711902E-2,4.155192992336338,-4.0518075019656381,0.15319556709670934]
[null,null,null,null,null,null,null,null,null,null,null,null,null,null,null,null,null,11756.047143904652,{"$f":"2*PI()*R473/B56","v":1.5388629726060887},1.9361441456323467,-2.1869371791982672E-4,-1.0787147144428744E-3,4.8177504229856005E-2,3.9600860914885025,-3.3571508653547895,0.64981532193120639]
[null,null,null,null,null,null,null,null,null,null,null,null,null,null,null,null,null,11991.168086782745,{"$f":"2*PI()*R474/B56","v":1.5696402320582103},1.9976878110416887,-2.0563503183357312E-4,-1.0142644547759261E-3,4.5292084536208144E-2,3.7693061473457532,-2.8037284677599841,1.0096498646353678]
[null,null,null,null,null,null,null,null,null,null,null,null,null,null,null,null,null,12230.9914485184,{"$f":"2*PI()*R475/B56","v":1.6010330366993746},2.0604642055058968,-1.9311856445991538E-4,-9.5249478817294175E-4,4.2527501461555595E-2,3.5828051570343682,-2.358244092345819,1.2659429527974719]
[null,null,null,null,null,null,null,null,null,null,null,null,null,null,null,null,null,12475.611277488768,{"$f":"2*PI()*R476/B56","v":1.633053697433362},2.1244343207519893,-1.8112512762602506E-4,-8.933104556065885E-4,3.9879388173106101E-2,3.4005425193198842,-1.9962386174986428,1.4431088544111148]
[null,null,null,null,null,null,null,null,null,null,null,null,null,null,null,null,null,12725.123503038543,{"$f":"2*PI()*R477/B56","v":1.6657147713820293},2.1895519612968437,-1.696364000247641E-4,-8.3662052506117135E-4,3.7343580461973502E-2,3.2224850891162191,-1.6994670635380391,1.5593553491150676]
[null,null,null,null,null,null,null,null,null,null,null,null,null,null,null,null,null,12979.625973099315,{"$f":"2*PI()*R478/B56","v":1.6990290668096699},2.2557631868741623,-1.5863490325696006E-4,-7.8233826919227312E-4,3.4916110518875776E-2,3.0486072267416331,-1.4541558873165723,1.6284264767714873]
[null,null,null,null,null,null,null,null,null,null,null,null,null,null,null,null,null,13239.218492561302,{"$f":"2*PI()*R479/B56","v":1.7330096481458634},2.3230057316432182,-1.4810397976994238E-4,-7.3038105268530273E-4,3.2593201200790567E-2,2.8788908485071012,-1.2498012402181327,1.6608043244573039]
[null,null,null,null,null,null,null,null,null,null,null,null,null,null,null,null,null,13504.002862412528,{"$f":"2*PI()*R480/B56","v":1.7676698411087806},2.3912084013461818,-1.3802777273763667E-4,-6.8067022945683675E-4,3.0371260791660859E-2,2.7133254843318202,-1.078319479383592,1.6645585677376946]
[null,null,null,null,null,null,null,null,null,null,null,null,null,null,null,null,null,13774.082919660779,{"$f":"2*PI()*R481/B56","v":1.8030232379309563},2.460290449991382,-1.2839120793106673E-4,-6.3313104995810221E-4,2.8246878263631814E-2,2.5519083474178492,-0.93343641039384839,1.6459572930297435]
[null,null,null,null,null,null,null,null,null,null,null,null,null,null,null,null,null,14049.564578053994,{"$f":"2*PI()*R482/B56","v":1.8390837026895754},2.5301609381083701,-1.1917997764676613E-4,-5.876925788879106E-4,2.6216819049285078E-2,2.3946444205453989,-0.8102426905380703,1.6099116765000789]
[null,null,null,null,null,null,null,null,null,null,null,null,null,null,null,null,null,14330.555869615075,{"$f":"2*PI()*R483/B56","v":1.8758653767433671},2.600718075152499,-1.1038052679879229E-4,-5.4428762373603945E-4,2.4278021339663169E-2,2.2415465632439808,-0.70486697364222528,1.5603029427908839]
[null,null,null,null,null,null,null,null,null,null,null,null,null,null,null,null,null,14617.166987007377,{"$f":"2*PI()*R484/B56","v":1.9133826842782342},2.6718485492374846,-1.0198004122585758E-4,-5.0285267468019867E-4,2.2427592927758866E-2,2.0926356439316773,-0.61423355653191725,1.5002248476116129]
[null,null,null,null,null,null,null,null,null,null,null,null,null,null,null,null,null,14909.510326747524,{"$f":"2*PI()*R485/B56","v":1.9516503379637991},2.7434268480497579,-9.3966438450721057E-5,-4.6332785645120111E-4,2.0662808622772033E-2,1.9479407010797889,-0.53588127123775942,1.4321649441698996]
[null,null,null,null,null,null,null,null,null,null,null,null,null,null,null,null,null,15207.700533282476,{"$f":"2*PI()*R486/B56","v":1.9906833447230754},2.8153145755540709,-8.6328360930920667E-5,-4.2565689296125697E-4,1.8981108266791225E-2,1.8074991375429308,-0.46782713737097081,1.358141123184859]
[null,null,null,null,null,null,null,null,null,null,null,null,null,null,null,null,null,15511.854543948126,{"$f":"2*PI()*R487/B56","v":2.0304970116175367},2.8873597699414852,-7.9055172090392034E-5,-3.8978708561998587E-4,1.7380095392912409E-2,1.6713569523890142,-0.40846297317885294,1.2798052323453633]
[null,null,null,null,null,null,null,null,null,null,null,null,null,null,null,null,null,15822.091634827089,{"$f":"2*PI()*R488/B56","v":2.0711069518498877},2.9593962292039566,-7.2136955298063299E-5,-3.556693064474814E-4,1.5857536572347897E-2,1.5395690148680332,-0.35647644884201757,1.198522296336618]
[null,null,null,null,null,null,null,null,null,null,null,null,null,null,null,null,null,16138.533467523632,{"$f":"2*PI()*R489/B56","v":2.1125290908868855},3.03124285174948,-6.5564516107841087E-5,-3.2325800736998644E-4,1.4411361508006593E-2,1.4121993855745085,-0.31079039232871319,1.1154315322303241]
[null,null,null,null,null,null,null,null,null,null,null,null,null,null,null,null,null,16461.304136874103,{"$f":"2*PI()*R490/B56","v":2.1547796727046231},3.1027030006027743,-5.9329388060191945E-5,-2.9251124719031907E-4,1.3039663943690272E-2,1.2893216903918194,-0.27051581916378797,1.0314936945364712]
[null,null,null,null,null,null,null,null,null,null,null,null,null,null,null,null,null,16790.530219611584,{"$f":"2*PI()*R491/B56","v":2.1978752661587153},3.173563900972542,-5.3423842444999536E-5,-2.6339073828651749E-4,1.1740703471694758E-2,1.1710195534669179,-0.23491535144920439,0.94752809090867673]
[null,null,null,null,null,null,null,null,null,null,null,null,null,null,null,null,null,17126.340824003815,{"$f":"2*PI()*R492/B56","v":2.2418327714818895},3.2435960823105194,-4.7840902498208493E-5,-2.3586191514013422E-4,1.0512908337949156E-2,1.0573870962649368,-0.20337455525243087,0.86424174653281671]
[null,null,null,null,null,null,null,null,null,null,null,null,null,null,null,null,null,17468.867640483892,{"$f":"2*PI()*R493/B56","v":2.2866694269115273},3.3125528774410706,-4.2574362522529441E-5,-2.0989402749549413E-4,9.3548793630127136E-3,0.94852951071358405,-0.17537935430980323,0.78225256737677551]
[null,null,null,null,null,null,null,null,null,null,null,null,null,null,null,null,null,17818.244993293571,{"$f":"2*PI()*R494/B56","v":2.332402815449758},3.380169992903074,-3.7618812676498692E-5,-1.8546026129229176E-4,8.265395120295338E-3,0.84456371559118182,-0.15049813867292894,0.70210789296457943]
[null,null,null,null,null,null,null,null,null,null,null,null,null,null,null,null,null,18174.609893159442,{"$f":"2*PI()*R495/B56","v":2.3790508717587535},3.4461651663156898,-3.2969670128224493E-5,-1.625378912049058E-4,7.2434185405967355E-3,0.7456191066708282,-0.1283675266036699,0.62429949104642191]
[null,null,null,null,null,null,null,null,null,null,null,null,null,null,null,null,null,18538.102091022633,{"$f":"2*PI()*R496/B56","v":2.4266318891939282},3.5102379283515286,-2.8623217517065314E-5,-1.4110846937498422E-4,6.2881051451100234E-3,0.65183841274499521,-0.10868099017195743,0.54927579603125576]
[null,null,null,null,null,null,null,null,null,null,null,null,null,null,null,null,null,18908.864132843086,{"$f":"2*PI()*R497/B56","v":2.4751645269778075},3.5720694887663211,-2.4576649874319401E-5,-1.2115805573920113E-4,5.398813149568582E-3,0.56337867156925192,-9.1179743542156189E-2,0.47745200647105079]
[null,null,null,null,null,null,null,null,null,null,null,null,null,null,null,null,null,19287.041415499949,{"$f":"2*PI()*R498/B56","v":2.5246678175173636},3.6313227678814828,-2.0828131244599035E-5,-1.026774965247057E-4,4.5751157308213664E-3,0.48041234204175787,-7.5645435039358944E-2,0.40921851710545099]
[null,null,null,null,null,null,null,null,null,null,null,null,null,null,null,null,null,19672.782243809947,{"$f":"2*PI()*R499/B56","v":2.5751611738677105},3.6876425969281259,-1.7376862732731979E-5,-8.5662758841920095E-5,3.8168158070348568E-3,0.40312857165358373,-6.1894292221833958E-2,0.34494805561720998]